BEGIN:VCALENDAR
VERSION:2.0
PRODID:-//Ville de Bruay-La-Buissière - ECPv6.9.1//NONSGML v1.0//EN
CALSCALE:GREGORIAN
METHOD:PUBLISH
X-ORIGINAL-URL:https://bruaylabuissiere.fr
X-WR-CALDESC:Évènements pour Ville de Bruay-La-Buissière
REFRESH-INTERVAL;VALUE=DURATION:PT1H
X-Robots-Tag:noindex
X-PUBLISHED-TTL:PT1H
BEGIN:VTIMEZONE
TZID:UTC
BEGIN:STANDARD
TZOFFSETFROM:+0000
TZOFFSETTO:+0000
TZNAME:UTC
DTSTART:20200101T000000
END:STANDARD
END:VTIMEZONE
BEGIN:VEVENT
DTSTART;TZID=UTC:20201009T180000
DTEND;TZID=UTC:20201009T193000
DTSTAMP:20260422T190026
CREATED:20200730T165801Z
LAST-MODIFIED:20200730T165812Z
UID:19254-1602266400-1602271800@bruaylabuissiere.fr
SUMMARY:N'Gubi\, Le Bushman
DESCRIPTION:Les Passionnés du Rêve \n« Je m’appelle Ngubi. Je suis un bushman. Je passe la journée dans cette brousse africaine\, chassant des animaux sauvages comme mes ancêtres ont fait depuis la naissance du soleil. » \nEric Bouvron incarne cet être doux et curieux qui vit dans le désert le plus aride du monde. Dans le Kalahari\, pour survivre\, il faut savoir tout faire : éviter les cornes de l’oryx\, piquer les oeufs d’autruche\, se nourrir de plantes et séduire comme un phacochère ! Un spectacle intense où se rejoignent rires et émotions. \nEcrit et joué par : Eric Bouvron\nMusique : Eric Bono\nLumières : Edwin Garnier \nDès 6 ans\n1h20\nThéâtre \nCatégorie C\nTP : 8€ / TR : 5€\ndéCouv’art : 3€
URL:https://bruaylabuissiere.fr/event/ngubi-le-bushman-2/
LOCATION:Le Temple\, 125 Rue Henri Hermant\, Bruay-La-Buissière\, 62700
CATEGORIES:A la une Agenda,Arts & Culture,Théâtre
ATTACH;FMTTYPE=image/jpeg:https://bruaylabuissiere.fr/wp-content/uploads/2020/07/NGubi-Le-Bushman.jpg
END:VEVENT
END:VCALENDAR