BEGIN:VCALENDAR
VERSION:2.0
PRODID:-//Ville de Bruay-La-Buissière - ECPv6.9.1//NONSGML v1.0//EN
CALSCALE:GREGORIAN
METHOD:PUBLISH
X-ORIGINAL-URL:https://bruaylabuissiere.fr
X-WR-CALDESC:Évènements pour Ville de Bruay-La-Buissière
REFRESH-INTERVAL;VALUE=DURATION:PT1H
X-Robots-Tag:noindex
X-PUBLISHED-TTL:PT1H
BEGIN:VTIMEZONE
TZID:UTC
BEGIN:STANDARD
TZOFFSETFROM:+0000
TZOFFSETTO:+0000
TZNAME:UTC
DTSTART:20200101T000000
END:STANDARD
END:VTIMEZONE
BEGIN:VEVENT
DTSTART;TZID=UTC:20200108T143000
DTEND;TZID=UTC:20200701T160000
DTSTAMP:20260425T032736
CREATED:20200120T142325Z
LAST-MODIFIED:20200120T142325Z
UID:18046-1578493800-1593619200@bruaylabuissiere.fr
SUMMARY:Programme Médiathèque
DESCRIPTION:Retrouver le programme complet ici.
URL:https://bruaylabuissiere.fr/event/programme-mediatheque-2/
LOCATION:Médiathèque Marcel Wacheux\, 82 rue du Périgord\, Bruay-La-Buissière\, 62700
CATEGORIES:Arts & Culture
ATTACH;FMTTYPE=image/jpeg:https://bruaylabuissiere.fr/wp-content/uploads/2020/01/2020-UNE-PLAQ.jpg
END:VEVENT
BEGIN:VEVENT
DTSTART;TZID=UTC:20200116T140000
DTEND;TZID=UTC:20200701T150000
DTSTAMP:20260425T032736
CREATED:20200116T141836Z
LAST-MODIFIED:20200116T141947Z
UID:18013-1579183200-1593615600@bruaylabuissiere.fr
SUMMARY:Spectacles de contes
DESCRIPTION:
URL:https://bruaylabuissiere.fr/event/spectacles-de-contes/
LOCATION:Médiathèque Marcel Wacheux\, 82 rue du Périgord\, Bruay-La-Buissière\, 62700
CATEGORIES:Arts & Culture
ATTACH;FMTTYPE=image/jpeg:https://bruaylabuissiere.fr/wp-content/uploads/2020/01/contes.jpg
END:VEVENT
BEGIN:VEVENT
DTSTART;TZID=UTC:20200117T083000
DTEND;TZID=UTC:20200401T093000
DTSTAMP:20260425T032736
CREATED:20200116T112832Z
LAST-MODIFIED:20200116T112832Z
UID:17996-1579249800-1585733400@bruaylabuissiere.fr
SUMMARY:Ateliers informatiques
DESCRIPTION:
URL:https://bruaylabuissiere.fr/event/ateliers-informatiques/
LOCATION:Médiathèque Marcel Wacheux\, 82 rue du Périgord\, Bruay-La-Buissière\, 62700
CATEGORIES:Arts & Culture
ATTACH;FMTTYPE=image/jpeg:https://bruaylabuissiere.fr/wp-content/uploads/2020/01/A3-Informatique.jpg
END:VEVENT
BEGIN:VEVENT
DTSTART;TZID=UTC:20200122T090000
DTEND;TZID=UTC:20200407T090000
DTSTAMP:20260425T032736
CREATED:20200116T112311Z
LAST-MODIFIED:20200116T112311Z
UID:17993-1579683600-1586250000@bruaylabuissiere.fr
SUMMARY:Café répète
DESCRIPTION:
URL:https://bruaylabuissiere.fr/event/cafe-repete/
LOCATION:Médiathèque Marcel Wacheux\, 82 rue du Périgord\, Bruay-La-Buissière\, 62700
CATEGORIES:Arts & Culture
ATTACH;FMTTYPE=image/jpeg:https://bruaylabuissiere.fr/wp-content/uploads/2020/01/Café-répète.jpg
END:VEVENT
BEGIN:VEVENT
DTSTART;TZID=UTC:20200401T130000
DTEND;TZID=UTC:20200401T150000
DTSTAMP:20260425T032736
CREATED:20190715T145315Z
LAST-MODIFIED:20200313T104047Z
UID:16473-1585746000-1585753200@bruaylabuissiere.fr
SUMMARY:[REPORTÉ] La Princesse qui n'aimait pas
DESCRIPTION:[REPORTÉ] \nBarbaque Cie \nÉcriture\, dramaturgie Aude Denis\, d’après le texte de Alice Brière Haquet (Editions Actes Sud Junior)\nC’est l’histoire d’une princesse qui réussit un jour une superbe mayonnaise… \nTout le monde l’affirmait : c’était le signe qu’il fallait la marier !\nOn fit venir les princes de toute la galaxie mais aucun ne trouva grâce à ses yeux…\nEt pourtant\, comme tous les contes de fée\, c’est bel et bien par un sublime mariage d’amour que cette histoire va se terminer.\nQue va-t-il donc se passer ? \nCaroline Guyot se questionne ? Que désirent-elles réellement les princesses d’aujourd’hui ?\nUn prince charmant ? Un royaume ? Vraiment ? \nMise en scène: Johanny Bert\nAvec: Caroline Guyot\nScénographie\, Costumes\, Univers plastique : Vaïssa Favereau\nAdministration/production : Frédérique Rebergue \n\n\n\n\nDès 5 ans \n1h40\nThéâtre \nCatégorie C\nTP : tarif unique : 5€ \nTarif découv’art : 3€
URL:https://bruaylabuissiere.fr/event/la-princesse-qui-naimait-pas/
LOCATION:Le Temple\, 125 Rue Henri Hermant\, Bruay-La-Buissière\, 62700
CATEGORIES:Arts & Culture,Jeunesse,Théâtre
ATTACH;FMTTYPE=image/jpeg:https://bruaylabuissiere.fr/wp-content/uploads/2019/07/La-princesse-qui-naimait-pas.jpg
END:VEVENT
BEGIN:VEVENT
DTSTART;TZID=UTC:20200402T163000
DTEND;TZID=UTC:20200402T173000
DTSTAMP:20260425T032736
CREATED:20190802T113607Z
LAST-MODIFIED:20200211T113613Z
UID:16810-1585845000-1585848600@bruaylabuissiere.fr
SUMMARY:La côte d’Opale et ses peintres de la Belle Epoque aux années folles
DESCRIPTION:Conférence animée par Edith MARCQ \nC’est en peignant ses tableaux que vint au touquettois Edouard Lévêque l’idée de baptiser la bande de terre qui cernait le Touquet-Paris-Plage de la poétique appellation «Côte d’Opale ». Le littoral nord\, longeant une mer souvent hostile aux hommes\, mais éden d’une colonie de peintres\, cristallisa la fascination de ceux qui allaient mettre en lumière la richesse d’un paysage renouvelé par la magie du pinceau.
URL:https://bruaylabuissiere.fr/event/la-co%cc%82te-dopale-et-ses-peintres-de-la-belle-epoque-aux-annees-folles/
LOCATION:Cinéma Les étoiles\, 102 Rue du Périgord\, Bruay-la-Buissière\, 62700
CATEGORIES:Arts & Culture,Cinéma,Conférence,Echanges/rencontres
END:VEVENT
BEGIN:VEVENT
DTSTART;TZID=UTC:20200403T180000
DTEND;TZID=UTC:20200403T193000
DTSTAMP:20260425T032736
CREATED:20190715T151452Z
LAST-MODIFIED:20200313T153622Z
UID:16476-1585936800-1585942200@bruaylabuissiere.fr
SUMMARY:[Concert annulé] Mes Souliers Sont Rouges
DESCRIPTION:Le Premier ministre a annoncé l’interdiction des rassemblements de plus de 100 personnes en France. Cela fait suite aux déclarations du chef de l’Etat sur la pandémie du Coronavirus Covid-19. \nEn 25 ans\, Mes Souliers Sont Rouges\, premier groupe « trad » consacré au Printemps de Bourges en 1993\, a donné plus d’un millier de concerts dans le monde (Angleterre\, Allemagne\, Luxembourg\, Pays-Bas\, Danemark… jusqu’aux U.S.A\, Australie mais aussi l’Olympia à Paris).\nLeur 7ème album : « Ce qui nous lie »\, sorti au printemps 2019\, est un manifeste pour les musiques populaires de tradition orale nichées au cœur des campagnes normandes ou enfouies au fin fond du Michigan ! \nUn phénomène populaire ! \n\n\n\n\nTout public \n1h30\nConcert \nAbonnement MusiK’all  \nCatégorie C\nTP : 8€ / TR : 5€ \ndéCouv’art : 3€ \nBar et petite restauration avant et après le spectacle
URL:https://bruaylabuissiere.fr/event/concert-annule-mes-souliers-sont-rouges/
LOCATION:Espace Culturel Grossemy\, Cours Kennedy\, Bruay-La-Buissière\, 62700
CATEGORIES:Arts & Culture,Chanson du monde,Concert,Concert rock,Spectacles & Concerts
ATTACH;FMTTYPE=image/jpeg:https://bruaylabuissiere.fr/wp-content/uploads/2019/07/Mes-souliers-sont-rouges.jpg
END:VEVENT
BEGIN:VEVENT
DTSTART;TZID=UTC:20200404T180000
DTEND;TZID=UTC:20200404T193000
DTSTAMP:20260425T032736
CREATED:20190715T152507Z
LAST-MODIFIED:20190723T173703Z
UID:16482-1586023200-1586028600@bruaylabuissiere.fr
SUMMARY:N'Gubi\, Le Bushman
DESCRIPTION:« Je m’appelle Ngubi. Je suis un bushman. Je passe la journée dans cette brousse africaine\, chassant des animaux sauvages comme mes ancêtres ont fait depuis la naissance du soleil. » \nEric Bouvron incarne cet être doux et curieux qui vit dans le désert le plus aride du monde.\nDans le Kalahari\, pour survivre\, il faut savoir tout faire : éviter les cornes de l’oryx\, piquer les œufs d’autruche\, se nourrir de plantes et séduire comme un phacochère ! Un spectacle intense où se rejoignent rires et émotions. \nEcrit et joué par : Eric Bouvron\nMusique : Eric Bono\nLumières : Edwin Garnier \n\n\n\n\nDès 6 ans \n1h20\nThéâtre \nCatégorie C\nTP : 8€ / TR : 5€\ndéCouv’art : 3€
URL:https://bruaylabuissiere.fr/event/ngubi-le-bushman/
LOCATION:Le Temple\, 125 Rue Henri Hermant\, Bruay-La-Buissière\, 62700
CATEGORIES:Arts & Culture,Jeunesse,Théâtre
ATTACH;FMTTYPE=image/jpeg:https://bruaylabuissiere.fr/wp-content/uploads/2019/07/NGubi-le-Bushman.jpg
END:VEVENT
BEGIN:VEVENT
DTSTART;TZID=UTC:20200407T180000
DTEND;TZID=UTC:20200407T193000
DTSTAMP:20260425T032736
CREATED:20190715T154016Z
LAST-MODIFIED:20190723T174012Z
UID:16484-1586282400-1586287800@bruaylabuissiere.fr
SUMMARY:Les 3 Cochons Et Le Dernier Des Loups
DESCRIPTION:De Frédéric Chevaux. \nJean-Thierry\, Jean-Michel et Jean-René\, trois frères Cochons en âge de quitter le foyer familial\, partent découvrir le monde. Chacun décide de gérer cette nouvelle liberté comme il le souhaite\, jusqu’à l’arrivée du Loup qui va leur causer bien des soucis. Mais ce loup est-il vraiment le méchant de l’histoire ? Saviez-vous qu’en réalité les ancêtres Cochons avaient envahi le territoire des Loups\, il y a fort longtemps\, d’où le désir de vengeance et de justice du dernier d’entre eux ? \nFrédéric Chevaux et Jean-Luc Revol nous offrent une nouvelle version\, pleine d’humour\, d’une histoire que nous pensions tous connaitre… \nArtistes : Olivier Breitman\, Nicolas Gaspar\, Cédric Joulie\, José-Antonio Pereira \nMise en scène : Jean-Luc Revol\, assisté de : Sébastien Fèvre \nLumières : Denis Koransky\nCostumes : Pascale Bordet\, assistée de : Solenne Laffitte\nCréateur sonore : Bernard Vallery\nScénographie : Emmanuel Laborde \nMasques : Daniel Cendron \nRégie générale : Gilles Gaudet\nRégie son : Camille Audergon ou Vincent Chabot \n\n\n\n\nDès 7 ans \n1h10\nThéâtre musical \nCatégorie C\nTP : 8€ / TR : 5€ \ndéCouv’art : 3€
URL:https://bruaylabuissiere.fr/event/les-3-cochonnes-et-le-dernier-des-loups/
LOCATION:Espace Culturel Grossemy\, Cours Kennedy\, Bruay-La-Buissière\, 62700
CATEGORIES:Arts & Culture,Théâtre
ATTACH;FMTTYPE=image/jpeg:https://bruaylabuissiere.fr/wp-content/uploads/2019/07/Les-3-Cochonnes-Et-Le-Dernier-Des-Loups.jpg
END:VEVENT
BEGIN:VEVENT
DTSTART;TZID=UTC:20200410T180000
DTEND;TZID=UTC:20200410T193000
DTSTAMP:20260425T032736
CREATED:20190715T154531Z
LAST-MODIFIED:20190723T174034Z
UID:16489-1586541600-1586547000@bruaylabuissiere.fr
SUMMARY:Esplanades
DESCRIPTION:Bien que tout jeune groupe nordiste\, Esplanades a déjà voyagé au Main Square Festival en 2015\, a connu les premières parties de Marianne Faithfull\, Stuck In The Sound\, François & The Atlas Mountains ou bien encore Peter Von Poehl. \nSoit plus de 200 concerts et 3 albums ces cinq dernières années. \nMais l’aventure principale est celle qui s’écrit maintenant avec cet album abouti\, « Rebirth Of Bravery » dont on retiendra le titre tubuesque : « Funny Talking Animals ». \nLe souvenir de Queen et l’Angleterre ne sont pas très loin…. \n\n\n\n\nTout public \n1h30\nConcert \nAbonnement musik’all \nCatégorie C\nTP : 8€ / TR : 5€ \ndéCouv’art : 3€
URL:https://bruaylabuissiere.fr/event/esplanades/
LOCATION:Le Temple\, 125 Rue Henri Hermant\, Bruay-La-Buissière\, 62700
CATEGORIES:Arts & Culture,Concert rock,Rock alternatif
ATTACH;FMTTYPE=image/jpeg:https://bruaylabuissiere.fr/wp-content/uploads/2019/07/Esplanades.jpg
END:VEVENT
BEGIN:VEVENT
DTSTART;TZID=UTC:20200430T180000
DTEND;TZID=UTC:20200430T193000
DTSTAMP:20260425T032736
CREATED:20190716T143507Z
LAST-MODIFIED:20190902T090408Z
UID:16498-1588269600-1588275000@bruaylabuissiere.fr
SUMMARY:Cartman
DESCRIPTION:Après plus de 15 années passées sur les plateaux de télévision à interpréter des personnages plus fous les uns que les autres\, dont Sébastien Patoche pour ne citer que lui\, Cartman monte enfin sur scène dans « One »\, son premier one man show. \nC’est le jour de ses 40 ans qu’il a décidé de sauter le pas\, et ce n’est pas un hasard. Cet âge un peu bizarre où on a encore une PlayStation\, mais qu’on a aussi rendez-vous chez le proctologue\, où quand on fait la fête\, on arrête de boire à 23 heures pour ne pas avoir la gueule de bois\, où on sait poster une photo sur Facebook\, mais pas sur Snapchat… \nSa mission : vous prouver en un peu plus d’une heure qu’on peut être petit\, chauve et heureux ! \n\n\n\n\nTout public\n1h30\nHumour \nCatégorie B\nTP : 20€ / TR : 15€ – de 16 ans : 13€ \nBar et petite restauration avant et après le spectacle
URL:https://bruaylabuissiere.fr/event/cartman/
LOCATION:Espace Culturel Grossemy\, Cours Kennedy\, Bruay-La-Buissière\, 62700
CATEGORIES:Arts & Culture,Humour
ATTACH;FMTTYPE=image/jpeg:https://bruaylabuissiere.fr/wp-content/uploads/2019/07/cartman-visuel.jpg
END:VEVENT
END:VCALENDAR