BEGIN:VCALENDAR
VERSION:2.0
PRODID:-//Ville de Bruay-La-Buissière - ECPv6.9.1//NONSGML v1.0//EN
CALSCALE:GREGORIAN
METHOD:PUBLISH
X-WR-CALNAME:Ville de Bruay-La-Buissière
X-ORIGINAL-URL:https://bruaylabuissiere.fr
X-WR-CALDESC:Évènements pour Ville de Bruay-La-Buissière
REFRESH-INTERVAL;VALUE=DURATION:PT1H
X-Robots-Tag:noindex
X-PUBLISHED-TTL:PT1H
BEGIN:VTIMEZONE
TZID:UTC
BEGIN:STANDARD
TZOFFSETFROM:+0000
TZOFFSETTO:+0000
TZNAME:UTC
DTSTART:20220101T000000
END:STANDARD
END:VTIMEZONE
BEGIN:VEVENT
DTSTART;TZID=UTC:20220114T190000
DTEND;TZID=UTC:20220114T200000
DTSTAMP:20260423T131951
CREATED:20210825T160613Z
LAST-MODIFIED:20210825T160613Z
UID:22304-1642186800-1642190400@bruaylabuissiere.fr
SUMMARY:Bled
DESCRIPTION:La Manivelle Théâtre \nBled\, Petit Poucet moderne\, est le dernier né d’une famille de sept enfants. Il est celui dont le nom\, donné à la mémoire du grand-père venu d’ailleurs\, porte tout à la fois la marque de l’enracinement et du déracinement. C’est donc à lui\, le plus jeune\, que revient la responsabilité de trouver un nouveau foyer quand la famille se fait expulser. Il doit partir sur les routes. La tâche semble tout d’abord le dépasser. Le paysage est hostile et se peuple d’êtres ambigus. Mais sans abri\, sur les chemins\, loin de ses frères\, Bled est-il vraiment seul ? L’exil sonne l’heure des rencontres avec Ti-Coeur et Shed\, et exige d’apprendre à se connaître soi-même. \nDès 10 ans\n45mn\nThéâtre musique et vidéo \nCatégorie C\nTP: 8€ / TR: 5€\nDécouv’art: 3€ \nMise en scène : Florence Bisiaux assistée de François Gérard\nAvec : Antonin Vanneuville (interprétation texte et musique)\nTexte : Daniel Danis (L’Arche Editeur – www.arche-editeur.com)\nLumières et vidéo : François Frémy et Pierre-Yves Aplincourt\nSon et régie : François Frémy\nMouvements : André Bellout-Delettrez\nPhotos : Bertrand Foly \nCie conventionnée de mission jeune public : Drac Région et Hauts de France / Ville de Wasquehal. Soutien : CD 59 et 62 / Métropole Européenne de Lille / Ville de Croix.\nRésidences création : La Makina – Hellemmes / MJC Centre Social – Croix / Le Temple – Bruay-la-Buissière (62).\nCrédits photos : Arnaud Dubremetz
URL:https://bruaylabuissiere.fr/event/bled-2/
LOCATION:Le Temple\, 125 Rue Henri Hermant\, Bruay-La-Buissière\, 62700
CATEGORIES:Arts & Culture,Théâtre
ATTACH;FMTTYPE=image/jpeg:https://bruaylabuissiere.fr/wp-content/uploads/2021/08/Bled.jpg
END:VEVENT
BEGIN:VEVENT
DTSTART;TZID=UTC:20220119T140000
DTEND;TZID=UTC:20220119T150000
DTSTAMP:20260423T131951
CREATED:20210825T161352Z
LAST-MODIFIED:20210825T161352Z
UID:22307-1642600800-1642604400@bruaylabuissiere.fr
SUMMARY:La princesse qui n'aimait pas...
DESCRIPTION:Barbaque Cie  \nC’est l’histoire d’une princesse qui réussit un jour une superbe mayonnaise…«  Tout le monde l’affirmait : c’était le signe qu’il fallait la marier !\nOn fit venir les princes de toute la galaxie… Mais aucun ne fit battre son coeur…\nEt pourtant comme tous les contes de fée\, c’est bel et bien par un sublime mariage d’amour que cette histoire va se terminer. Que va-t-il donc se passer ?\nCaroline Guyot se questionne ? Que désirent-elles réellement les princesses d’aujourd’hui ?\nUn prince charmant ? Un royaume ? Vraiment ? \nDès 5 ans\n50 mn\nObjet marionnettique  \nHors abonnement\nTP : 8€ / TR : 5€\nDécouv’art : 3€ \nMise en scène: Johanny Bert\, assisté d’Adeline-Fleur Baude\nÉcriture\, dramaturgie : Aude Denis\, d’après le texte d’Alice Brière Haquet (Editions Actes Sud Junior)\nAvec: Caroline Guyot\nScénographie\, Costumes\, Univers plastique : Vaïssa Favereau\nAménagement décor Amury Roussel\nPeinture Chicken\nConstruction et régie son autonome David Lemaréchal\nCréation Lumières Didier Lamie dit « Crapo »\nAdministration/production : Eva Sérusier\nVidéo Antoine Chartier \nProduction : Barbaque Cie\nCoproduction : Le Bateau Feu Scène Nationale de Dunkerque / La Minoterie\, scène conventionnée art enfance jeunesse (Dijon)\, la ville de Méricourt\, Maison Folie Moulins\, ville de Lille.\nAvec l’aide de la DRAC des Hauts de France et du conseil Régional des Hauts de France.\nAvec le précieux soutien de la chorale Rhizohm de Dijon
URL:https://bruaylabuissiere.fr/event/la-princesse-qui-naimait-pas-3/
LOCATION:Le Temple\, 125 Rue Henri Hermant\, Bruay-La-Buissière\, 62700
CATEGORIES:Arts & Culture,Marionnettes,Théâtre,Théatre d'objets
ATTACH;FMTTYPE=image/jpeg:https://bruaylabuissiere.fr/wp-content/uploads/2021/08/LaPrincessequinaimaitpas.jpg
END:VEVENT
END:VCALENDAR