BEGIN:VCALENDAR
VERSION:2.0
PRODID:-//Ville de Bruay-La-Buissière - ECPv6.9.1//NONSGML v1.0//EN
CALSCALE:GREGORIAN
METHOD:PUBLISH
X-ORIGINAL-URL:https://bruaylabuissiere.fr
X-WR-CALDESC:Évènements pour Ville de Bruay-La-Buissière
REFRESH-INTERVAL;VALUE=DURATION:PT1H
X-Robots-Tag:noindex
X-PUBLISHED-TTL:PT1H
BEGIN:VTIMEZONE
TZID:UTC
BEGIN:STANDARD
TZOFFSETFROM:+0000
TZOFFSETTO:+0000
TZNAME:UTC
DTSTART:20220101T000000
END:STANDARD
END:VTIMEZONE
BEGIN:VEVENT
DTSTART;TZID=UTC:20220915T150000
DTEND;TZID=UTC:20221215T150000
DTSTAMP:20260421T102753
CREATED:20220908T122900Z
LAST-MODIFIED:20220908T122900Z
UID:24897-1663254000-1671116400@bruaylabuissiere.fr
SUMMARY:Ateliers poésie
DESCRIPTION:
URL:https://bruaylabuissiere.fr/event/ateliers-poesie/
LOCATION:Médiathèque Marcel Wacheux\, 82 rue du Périgord\, Bruay-La-Buissière\, 62700
CATEGORIES:Arts & Culture,Atelier
ATTACH;FMTTYPE=image/jpeg:https://bruaylabuissiere.fr/wp-content/uploads/2022/09/2022-médiathèque-POÉSIE-réseaux.jpg
END:VEVENT
BEGIN:VEVENT
DTSTART;VALUE=DATE:20220923
DTEND;VALUE=DATE:20221222
DTSTAMP:20260421T102753
CREATED:20220704T082153Z
LAST-MODIFIED:20220704T082153Z
UID:24623-1663891200-1671667199@bruaylabuissiere.fr
SUMMARY:Saison culturelle septembre à décembre
DESCRIPTION:
URL:https://bruaylabuissiere.fr/event/saison-culturelle-septembre-a-decembre/
CATEGORIES:Arts & Culture,Chanson française,Concert,Enfance,Humour,Jeunesse,Spectacles & Concerts,Théâtre
ATTACH;FMTTYPE=image/jpeg:https://bruaylabuissiere.fr/wp-content/uploads/2022/07/saison-cultruelle.jpg
END:VEVENT
BEGIN:VEVENT
DTSTART;TZID=UTC:20220923T180000
DTEND;TZID=UTC:20221216T180000
DTSTAMP:20260421T102753
CREATED:20220908T091423Z
LAST-MODIFIED:20220908T091423Z
UID:24894-1663956000-1671213600@bruaylabuissiere.fr
SUMMARY:Club lecture
DESCRIPTION:
URL:https://bruaylabuissiere.fr/event/club-lecture-5/
LOCATION:Médiathèque Marcel Wacheux\, 82 rue du Périgord\, Bruay-La-Buissière\, 62700
CATEGORIES:Arts & Culture
ATTACH;FMTTYPE=image/jpeg:https://bruaylabuissiere.fr/wp-content/uploads/2022/09/2022-médiathèque-LECTURE-Réseaux.jpg
END:VEVENT
BEGIN:VEVENT
DTSTART;TZID=UTC:20221001T100000
DTEND;TZID=UTC:20221203T110000
DTSTAMP:20260421T102753
CREATED:20220922T100445Z
LAST-MODIFIED:20220922T100445Z
UID:24972-1664618400-1670065200@bruaylabuissiere.fr
SUMMARY:L'atelier des petits
DESCRIPTION:
URL:https://bruaylabuissiere.fr/event/latelier-des-petits/
LOCATION:Médiathèque Marcel Wacheux\, 82 rue du Périgord\, Bruay-La-Buissière\, 62700
CATEGORIES:Arts & Culture,Atelier
ATTACH;FMTTYPE=image/jpeg:https://bruaylabuissiere.fr/wp-content/uploads/2022/09/2022-médiathèque-ATELIER-PARENTS-ENFANTS-réseaux.jpg
END:VEVENT
END:VCALENDAR