BEGIN:VCALENDAR
VERSION:2.0
PRODID:-//Ville de Bruay-La-Buissière - ECPv6.9.1//NONSGML v1.0//EN
CALSCALE:GREGORIAN
METHOD:PUBLISH
X-WR-CALNAME:Ville de Bruay-La-Buissière
X-ORIGINAL-URL:https://bruaylabuissiere.fr
X-WR-CALDESC:Évènements pour Ville de Bruay-La-Buissière
REFRESH-INTERVAL;VALUE=DURATION:PT1H
X-Robots-Tag:noindex
X-PUBLISHED-TTL:PT1H
BEGIN:VTIMEZONE
TZID:UTC
BEGIN:STANDARD
TZOFFSETFROM:+0000
TZOFFSETTO:+0000
TZNAME:UTC
DTSTART:20180101T000000
END:STANDARD
END:VTIMEZONE
BEGIN:VEVENT
DTSTART;VALUE=DATE:20180607
DTEND;VALUE=DATE:20180611
DTSTAMP:20260422T030020
CREATED:20180420T164652Z
LAST-MODIFIED:20180420T164851Z
UID:11596-1528408800-1528667999@bruaylabuissiere.fr
SUMMARY:Gala de danse
DESCRIPTION:Infos et résa : conservatoire.danse.bruay@bethunebruay.fr
URL:https://bruaylabuissiere.fr/event/gala-de-danse-2/
LOCATION:Espace Culturel Grossemy\, Cours Kennedy\, Bruay-La-Buissière\, 62700
CATEGORIES:Arts & Culture,Asso
ATTACH;FMTTYPE=image/jpeg:https://bruaylabuissiere.fr/wp-content/uploads/2018/04/gala_danse.jpg
END:VEVENT
BEGIN:VEVENT
DTSTART;VALUE=DATE:20180608
DTEND;VALUE=DATE:20180610
DTSTAMP:20260422T030020
CREATED:20180301T110342Z
LAST-MODIFIED:20180301T110440Z
UID:10717-1528495200-1528581599@bruaylabuissiere.fr
SUMMARY:Voyage à PAIRI DAIZA
DESCRIPTION:L’Association Bruaysienne pour la Culture vous propose un voyage à PAIRI DAIZA. \nDépart : 7h30 Bruay la Buissière parking Marmottan\nArrivée : 09h30 Brugelette PAIRI DAIZA Belgique \nDistribution petit-déjeuner pain chocolat et boisson chaude. \nVisite du parc libre et quartier libre toute la journée\nPrendre son casse-croute pour le midi\nIl y a des points pique-nique de disponibles dans le parc mais vous pouvez aussi vous restaurer dans les restaurants à l’intérieur du parc \nOption :\npossibilité d’un circuit en petit train vapeur : Forfait libre 4€ \nLe retour : \nDépart du bus : 18h30 parking bus PAIRI DAIZA\nArrivée : Bruay la buissière 20h30 \n\nCliquez sur l’image pour voir toutes les infos
URL:https://bruaylabuissiere.fr/event/voyage-a-paira-daiza/
CATEGORIES:Asso
ATTACH;FMTTYPE=image/jpeg:https://bruaylabuissiere.fr/wp-content/uploads/2018/03/pairi-daiza.jpg
END:VEVENT
BEGIN:VEVENT
DTSTART;VALUE=DATE:20180608
DTEND;VALUE=DATE:20180617
DTSTAMP:20260422T030020
CREATED:20180410T104830Z
LAST-MODIFIED:20180601T151453Z
UID:11172-1528495200-1529186399@bruaylabuissiere.fr
SUMMARY:Voyage à Morzine
DESCRIPTION:L’association DYNAMIQUE SENIORS vous propose de voyager ! \nVoyage à Morzine\nCe voyage est ouvert aux seniors de Bruay et environs. \nPour toute information \, notre association se réunie le mardi à la salle Damiens\, Boulevard Basly (mairie Annexe) de 14h30 à 17h30 vous pouvez nous y rencontrer ou 06.10.34.94.44 \nPlus d’infos : http://www.dynamiqueseniors.com/web/blog/2018/01/27/notre-prochain-voyage-a-morzine-avec-aide-ancv/ \n  \nRéservé aux séniors
URL:https://bruaylabuissiere.fr/event/dynamique-seniors-voyage-a-morzine/
CATEGORIES:Asso,Séniors
ATTACH;FMTTYPE=image/jpeg:https://bruaylabuissiere.fr/wp-content/uploads/2018/04/Dynamique-voyage.jpg
END:VEVENT
BEGIN:VEVENT
DTSTART;TZID=UTC:20180610T060000
DTEND;TZID=UTC:20180610T150000
DTSTAMP:20260422T030020
CREATED:20180313T134815Z
LAST-MODIFIED:20180313T135024Z
UID:10858-1528610400-1528642800@bruaylabuissiere.fr
SUMMARY:Vide grenier
DESCRIPTION:Place Marmottan et rue Noyelles. Organisé par le comité Marmottant fêtes et traditions \n \nCliquez sur l’image pour voir l’affiche
URL:https://bruaylabuissiere.fr/event/vide-grenier-2/
LOCATION:Place Marmottan\, Place Marmottan\, Bruay-La-Buissière\, 62700
CATEGORIES:Asso
ATTACH;FMTTYPE=image/jpeg:https://bruaylabuissiere.fr/wp-content/uploads/2018/03/Vide-grenier-Marmottan_juin-2018-e1520945381631.jpg
END:VEVENT
BEGIN:VEVENT
DTSTART;TZID=UTC:20180617T070000
DTEND;TZID=UTC:20180617T160000
DTSTAMP:20260422T030020
CREATED:20180420T164152Z
LAST-MODIFIED:20180420T164152Z
UID:11593-1529218800-1529251200@bruaylabuissiere.fr
SUMMARY:Vide-grenier rue des Aviateurs
DESCRIPTION:
URL:https://bruaylabuissiere.fr/event/vide-grenier-rue-des-aviateurs/
CATEGORIES:Asso
ATTACH;FMTTYPE=image/jpeg:https://bruaylabuissiere.fr/wp-content/uploads/2018/04/Vide-grenier-17-juin-Oasis-enchantée.jpg
END:VEVENT
BEGIN:VEVENT
DTSTART;VALUE=DATE:20180623
DTEND;VALUE=DATE:20180625
DTSTAMP:20260422T030020
CREATED:20180426T093522Z
LAST-MODIFIED:20180426T093522Z
UID:11641-1529791200-1529877599@bruaylabuissiere.fr
SUMMARY:La D'Jackass - VTT CYCLO MARCHE
DESCRIPTION:
URL:https://bruaylabuissiere.fr/event/la-djackass-vtt-cyclo-marche/
CATEGORIES:Asso
ATTACH;FMTTYPE=image/jpeg:https://bruaylabuissiere.fr/wp-content/uploads/2018/04/Djakass-24062018.jpg
END:VEVENT
END:VCALENDAR