BEGIN:VCALENDAR
VERSION:2.0
PRODID:-//Ville de Bruay-La-Buissière - ECPv6.9.1//NONSGML v1.0//EN
CALSCALE:GREGORIAN
METHOD:PUBLISH
X-WR-CALNAME:Ville de Bruay-La-Buissière
X-ORIGINAL-URL:https://bruaylabuissiere.fr
X-WR-CALDESC:Évènements pour Ville de Bruay-La-Buissière
REFRESH-INTERVAL;VALUE=DURATION:PT1H
X-Robots-Tag:noindex
X-PUBLISHED-TTL:PT1H
BEGIN:VTIMEZONE
TZID:UTC
BEGIN:STANDARD
TZOFFSETFROM:+0000
TZOFFSETTO:+0000
TZNAME:UTC
DTSTART:20180101T000000
END:STANDARD
END:VTIMEZONE
BEGIN:VEVENT
DTSTART;TZID=UTC:20180702T130000
DTEND;TZID=UTC:20180701T220000
DTSTAMP:20260422T011713
CREATED:20180615T144858Z
LAST-MODIFIED:20180622T134108Z
UID:12104-1530536400-1530482400@bruaylabuissiere.fr
SUMMARY:Concours de maisons fleuries
DESCRIPTION:N’hésitez pas à vous inscrire au concours des Maisons Fleuries organisé par l’association Bruay-La-Buissière Initiative !\nInscriptions gratuites jusqu’au 2 juillet 2018 – Renseignements : 03.21.57.61.13\nNombreux lots pour les participants !
URL:https://bruaylabuissiere.fr/event/concours-de-maisons-fleuries/
CATEGORIES:Asso
ATTACH;FMTTYPE=image/jpeg:https://bruaylabuissiere.fr/wp-content/uploads/2018/06/Concours-des-Maisons-Fleuries.jpg
END:VEVENT
BEGIN:VEVENT
DTSTART;VALUE=DATE:20180720
DTEND;VALUE=DATE:20180722
DTSTAMP:20260422T011713
CREATED:20180706T112000Z
LAST-MODIFIED:20180706T112000Z
UID:12377-1532124000-1532210399@bruaylabuissiere.fr
SUMMARY:Concours de pétanque
DESCRIPTION:
URL:https://bruaylabuissiere.fr/event/concours-de-petanque/
CATEGORIES:Asso
ATTACH;FMTTYPE=image/jpeg:https://bruaylabuissiere.fr/wp-content/uploads/2018/07/petanque.jpg
END:VEVENT
BEGIN:VEVENT
DTSTART;TZID=UTC:20180729T070000
DTEND;TZID=UTC:20180729T160000
DTSTAMP:20260422T011713
CREATED:20180319T155653Z
LAST-MODIFIED:20180319T155653Z
UID:10966-1532847600-1532880000@bruaylabuissiere.fr
SUMMARY:Vide Grenier
DESCRIPTION:Rue du Pérou\, Argentine\, Brésil\, Patagonie et Colombie\nOrganisé par la section Vie Libre de Bruay-La-Buissière et environs \n5€ les 5 mètres \nPaiement à la réservation \n03.21.57.74.07 \n 
URL:https://bruaylabuissiere.fr/event/vide-grenier-4/
CATEGORIES:Asso
ATTACH;FMTTYPE=image/jpeg:https://bruaylabuissiere.fr/wp-content/uploads/2018/03/Vide-grenier-29-juillet_Vie-Libre.jpg
END:VEVENT
END:VCALENDAR