BEGIN:VCALENDAR
VERSION:2.0
PRODID:-//Ville de Bruay-La-Buissière - ECPv6.9.1//NONSGML v1.0//EN
CALSCALE:GREGORIAN
METHOD:PUBLISH
X-ORIGINAL-URL:https://bruaylabuissiere.fr
X-WR-CALDESC:Évènements pour Ville de Bruay-La-Buissière
REFRESH-INTERVAL;VALUE=DURATION:PT1H
X-Robots-Tag:noindex
X-PUBLISHED-TTL:PT1H
BEGIN:VTIMEZONE
TZID:UTC
BEGIN:STANDARD
TZOFFSETFROM:+0000
TZOFFSETTO:+0000
TZNAME:UTC
DTSTART:20180101T000000
END:STANDARD
END:VTIMEZONE
BEGIN:VEVENT
DTSTART;VALUE=DATE:20180809
DTEND;VALUE=DATE:20180813
DTSTAMP:20260421T220943
CREATED:20180525T110521Z
LAST-MODIFIED:20180705T093811Z
UID:11854-1533852000-1534111199@bruaylabuissiere.fr
SUMMARY:Festival Western
DESCRIPTION:Organisé par l’association « La Joie de Vivre ».\nAire de Lavolville à Labuissière.\nMusique country\, shows\, jeux. \nAller sur le site du Festiwest \n 
URL:https://bruaylabuissiere.fr/event/festiwest/
LOCATION:Aire de loisirs de Lavolville\, rue de la Lawe\, Bruay-La-Buissière\, 62700
CATEGORIES:Asso
ATTACH;FMTTYPE=image/jpeg:https://bruaylabuissiere.fr/wp-content/uploads/2018/05/2018-LAB-Festival-Western2.jpg
END:VEVENT
BEGIN:VEVENT
DTSTART;VALUE=DATE:20180810
DTEND;VALUE=DATE:20180816
DTSTAMP:20260421T220943
CREATED:20180622T112603Z
LAST-MODIFIED:20180622T112611Z
UID:12241-1533938400-1534370399@bruaylabuissiere.fr
SUMMARY:60ème Festivités du quartier des Terrasses
DESCRIPTION:
URL:https://bruaylabuissiere.fr/event/60eme-festivites-du-quartier-des-terrasses/
CATEGORIES:Asso
ATTACH;FMTTYPE=image/jpeg:https://bruaylabuissiere.fr/wp-content/uploads/2018/06/programme-terrasses-1.jpg
END:VEVENT
BEGIN:VEVENT
DTSTART;TZID=UTC:20180812T080000
DTEND;TZID=UTC:20180812T180000
DTSTAMP:20260421T220943
CREATED:20180313T135615Z
LAST-MODIFIED:20180313T135729Z
UID:10862-1534060800-1534096800@bruaylabuissiere.fr
SUMMARY:Vide grenier
DESCRIPTION:Rue Victor Hugo\, rue de Boulogne et rue de Calais. Organisé par le comité d’animations du quartier des Terrasses. \n \nCliquez sur l’image pour voir l’affiche
URL:https://bruaylabuissiere.fr/event/vide-grenier-3/
CATEGORIES:Asso
ATTACH;FMTTYPE=image/jpeg:https://bruaylabuissiere.fr/wp-content/uploads/2018/03/marché-aux-puces-Terrasses_aout-2018-e1520945833999.jpg
END:VEVENT
BEGIN:VEVENT
DTSTART;VALUE=DATE:20180823
DTEND;VALUE=DATE:20180908
DTSTAMP:20260421T220943
CREATED:20180410T104535Z
LAST-MODIFIED:20180601T151442Z
UID:11169-1535061600-1536357599@bruaylabuissiere.fr
SUMMARY:Voyage en Bulgarie
DESCRIPTION:L’association DYNAMIQUE SENIORS vous propose de voyager ! \nVoyage en BULGARIE\nLe prix en fonction du nombre de participants sera dégressif. \nActuellement pour 20 personnes payantes il est de 1.389 € \nLe règlement commence mardi 6 février et se fera en 6 fois. \nPlus d’infos \nRéservé aux séniors
URL:https://bruaylabuissiere.fr/event/dynamique-seniors-voyage-en-bulgarie/
CATEGORIES:Asso,Séniors
ATTACH;FMTTYPE=image/jpeg:https://bruaylabuissiere.fr/wp-content/uploads/2018/04/2018-Dynamique-Séniors-Bulgarie-copie.jpg
END:VEVENT
END:VCALENDAR