BEGIN:VCALENDAR
VERSION:2.0
PRODID:-//Ville de Bruay-La-Buissière - ECPv6.9.1//NONSGML v1.0//EN
CALSCALE:GREGORIAN
METHOD:PUBLISH
X-ORIGINAL-URL:https://bruaylabuissiere.fr
X-WR-CALDESC:Évènements pour Ville de Bruay-La-Buissière
REFRESH-INTERVAL;VALUE=DURATION:PT1H
X-Robots-Tag:noindex
X-PUBLISHED-TTL:PT1H
BEGIN:VTIMEZONE
TZID:UTC
BEGIN:STANDARD
TZOFFSETFROM:+0000
TZOFFSETTO:+0000
TZNAME:UTC
DTSTART:20180101T000000
END:STANDARD
END:VTIMEZONE
BEGIN:VEVENT
DTSTART;VALUE=DATE:20181114
DTEND;VALUE=DATE:20181116
DTSTAMP:20260421T165115
CREATED:20181113T092802Z
LAST-MODIFIED:20181113T092802Z
UID:13612-1542236400-1542322799@bruaylabuissiere.fr
SUMMARY:Loto
DESCRIPTION:Le club organise sa réunion mensuelle suivi d’un loto.
URL:https://bruaylabuissiere.fr/event/loto-2/
LOCATION:Salle Georges Hurtrel\, Place du Rietz\, Bruay-la-buissière\, 62700
CATEGORIES:Asso
ATTACH;FMTTYPE=image/jpeg:https://bruaylabuissiere.fr/wp-content/uploads/2018/11/loto.jpg
ORGANIZER;CN="Alternative":MAILTO:alternativelabuissiere@orange.fr
END:VEVENT
BEGIN:VEVENT
DTSTART;TZID=UTC:20181124T090000
DTEND;TZID=UTC:20181124T160000
DTSTAMP:20260421T165115
CREATED:20181011T094632Z
LAST-MODIFIED:20181011T105907Z
UID:13354-1543050000-1543075200@bruaylabuissiere.fr
SUMMARY:Bourse aux jouets et puériculture
DESCRIPTION:À l’espace Jean Moulin (rue Vincent Auriol) \nUne crêpe offerte à chaque enfant\n2€ la table \nInscriptions : ccsp.cite34@gmail.com ou 06 20 25 69 47 (le soir)
URL:https://bruaylabuissiere.fr/event/bourse-aux-jouets-et-puericulture-2/
CATEGORIES:Asso,Bourse
ATTACH;FMTTYPE=image/jpeg:https://bruaylabuissiere.fr/wp-content/uploads/2018/10/Bourse-jouets.jpg
END:VEVENT
BEGIN:VEVENT
DTSTART;VALUE=DATE:20181124
DTEND;VALUE=DATE:20181126
DTSTAMP:20260421T165115
CREATED:20181002T143332Z
LAST-MODIFIED:20181002T144204Z
UID:13225-1543100400-1543186799@bruaylabuissiere.fr
SUMMARY:Repas de l'association ALTERNATIVE
DESCRIPTION:Apéritif récréatif dès 12h00 \nDébut du repas à 13h30 \nL’animation  sera assurée par « JACKY BERNARD » \nConfirmez votre participation en retournant le bulletin d’inscription (accompagné du règlement) AVANT LE MERCREDI 14 NOVEMBRE 2018 à : \nASSOCIATION ALTERNATIVE \nEspace Wallart – 532\, rue René Wallard \n62700 BRUAY LA BUISSIERE
URL:https://bruaylabuissiere.fr/event/repas-de-lassociation-alternative/
LOCATION:Salle Florent Evrard\, Rue Florent Evrard\, Bruay-La-Buissière\, 62700
CATEGORIES:Asso
ATTACH;FMTTYPE=image/jpeg:https://bruaylabuissiere.fr/wp-content/uploads/2018/10/logo-alternative.jpg
END:VEVENT
END:VCALENDAR