BEGIN:VCALENDAR
VERSION:2.0
PRODID:-//Ville de Bruay-La-Buissière - ECPv6.9.1//NONSGML v1.0//EN
CALSCALE:GREGORIAN
METHOD:PUBLISH
X-ORIGINAL-URL:https://bruaylabuissiere.fr
X-WR-CALDESC:Évènements pour Ville de Bruay-La-Buissière
REFRESH-INTERVAL;VALUE=DURATION:PT1H
X-Robots-Tag:noindex
X-PUBLISHED-TTL:PT1H
BEGIN:VTIMEZONE
TZID:UTC
BEGIN:STANDARD
TZOFFSETFROM:+0000
TZOFFSETTO:+0000
TZNAME:UTC
DTSTART:20180101T000000
END:STANDARD
END:VTIMEZONE
BEGIN:VEVENT
DTSTART;TZID=UTC:20181201T080000
DTEND;TZID=UTC:20181201T193000
DTSTAMP:20260421T150742
CREATED:20181119T112340Z
LAST-MODIFIED:20181119T112340Z
UID:13646-1543651200-1543692600@bruaylabuissiere.fr
SUMMARY:Marché de Noël à Reims
DESCRIPTION:Les boulistes « Les pas méchants » organise une sortie au marché de Noël de Reims ce premier décembre. \nDépart à 9h en bus\nRetour vers 20h30\n40€ tout compris\nInscriptions avant le 18 novembre 2018 \nVisite d’une coopérative viticole\nRepas champenois\nMarché de Noël autour de la cathédrale de Reims (libre) \nContact :\n06 01 37 24 25\n270\, rue Paul Eluard (local)
URL:https://bruaylabuissiere.fr/event/marche-de-noel-a-reims/
CATEGORIES:Asso
ATTACH;FMTTYPE=image/jpeg:https://bruaylabuissiere.fr/wp-content/uploads/2018/11/Marché-noël-Reims.jpg
END:VEVENT
BEGIN:VEVENT
DTSTART;TZID=UTC:20181212T130000
DTEND;TZID=UTC:20181212T160000
DTSTAMP:20260421T150742
CREATED:20181129T094822Z
LAST-MODIFIED:20181211T113444Z
UID:13727-1544619600-1544630400@bruaylabuissiere.fr
SUMMARY:Arbre de noël
DESCRIPTION:En faveur des enfants défavorisés et organisé par les membres de l’association « forum solidarité du bruaysis ». \nRenseignements : 06 87 02 12 85
URL:https://bruaylabuissiere.fr/event/arbre-de-noel/
LOCATION:Salle Marmottan\, Place Marmottan\, Bruay-la-buissière\, 62700
CATEGORIES:Asso,Enfance,Jeunesse
ATTACH;FMTTYPE=image/jpeg:https://bruaylabuissiere.fr/wp-content/uploads/2018/11/Arbre-de-noël.jpg
END:VEVENT
END:VCALENDAR