BEGIN:VCALENDAR
VERSION:2.0
PRODID:-//Ville de Bruay-La-Buissière - ECPv6.9.1//NONSGML v1.0//EN
CALSCALE:GREGORIAN
METHOD:PUBLISH
X-WR-CALNAME:Ville de Bruay-La-Buissière
X-ORIGINAL-URL:https://bruaylabuissiere.fr
X-WR-CALDESC:Évènements pour Ville de Bruay-La-Buissière
REFRESH-INTERVAL;VALUE=DURATION:PT1H
X-Robots-Tag:noindex
X-PUBLISHED-TTL:PT1H
BEGIN:VTIMEZONE
TZID:UTC
BEGIN:STANDARD
TZOFFSETFROM:+0000
TZOFFSETTO:+0000
TZNAME:UTC
DTSTART:20190101T000000
END:STANDARD
END:VTIMEZONE
BEGIN:VEVENT
DTSTART;TZID=UTC:20190401T120000
DTEND;TZID=UTC:20190401T160000
DTSTAMP:20260421T082329
CREATED:20190313T150812Z
LAST-MODIFIED:20190313T150812Z
UID:14883-1554120000-1554134400@bruaylabuissiere.fr
SUMMARY:Initiative day
DESCRIPTION:Organisé par la CABBALR
URL:https://bruaylabuissiere.fr/event/initiative-day/
LOCATION:Salle Marmottan\, Place Marmottan\, Bruay-la-buissière\, 62700
CATEGORIES:Asso,Atelier,Commerce,Echanges/rencontres,Jeunesse,Séniors
ATTACH;FMTTYPE=image/jpeg:https://bruaylabuissiere.fr/wp-content/uploads/2019/03/Initiative-Day.jpg
END:VEVENT
BEGIN:VEVENT
DTSTART;TZID=UTC:20190406T110000
DTEND;TZID=UTC:20190406T160000
DTSTAMP:20260421T082329
CREATED:20190313T170809Z
LAST-MODIFIED:20190313T170809Z
UID:14898-1554548400-1554566400@bruaylabuissiere.fr
SUMMARY:Vide grenier
DESCRIPTION:Rues Jean Jaurès\, de Vaudricourt et place du Rietz \n5\, 10\, 15 et 20m au choix (1€ le mètre) \nLa vente de marchandise neuve\, d’animaux\, boissons et petite restauration est strictement interdite. Des contrôles seront exercés sur place. Tout manquement à ce règlement verra son auteur exclu de la manifestation. Aucune dérogation.
URL:https://bruaylabuissiere.fr/event/vide-grenier-19/
CATEGORIES:Asso,Vide grenier
ATTACH;FMTTYPE=image/jpeg:https://bruaylabuissiere.fr/wp-content/uploads/2019/03/vide-grenier-illustration.jpg
END:VEVENT
BEGIN:VEVENT
DTSTART;TZID=UTC:20190407T060000
DTEND;TZID=UTC:20190407T160000
DTSTAMP:20260421T082329
CREATED:20190304T141614Z
LAST-MODIFIED:20190304T141614Z
UID:14749-1554616800-1554652800@bruaylabuissiere.fr
SUMMARY:Vide grenier
DESCRIPTION:
URL:https://bruaylabuissiere.fr/event/vide-grenier-16/
CATEGORIES:Asso,Vide grenier
ATTACH;FMTTYPE=image/jpeg:https://bruaylabuissiere.fr/wp-content/uploads/2019/03/2019-vide-grenier-MC-lunion.jpg
END:VEVENT
BEGIN:VEVENT
DTSTART;TZID=UTC:20190407T100000
DTEND;TZID=UTC:20190407T150000
DTSTAMP:20260421T082329
CREATED:20190313T162508Z
LAST-MODIFIED:20190313T162826Z
UID:14891-1554631200-1554649200@bruaylabuissiere.fr
SUMMARY:Loto
DESCRIPTION:
URL:https://bruaylabuissiere.fr/event/loto-3/
LOCATION:Salle Georges Hurtrel\, Place du Rietz\, Bruay-la-buissière\, 62700
CATEGORIES:Asso,Loto,Séniors
ATTACH;FMTTYPE=image/jpeg:https://bruaylabuissiere.fr/wp-content/uploads/2019/03/2019-Loto-comité-du-renouveau-de-labuissière-copie.jpg
END:VEVENT
BEGIN:VEVENT
DTSTART;TZID=UTC:20190413T133000
DTEND;TZID=UTC:20190413T160000
DTSTAMP:20260421T082329
CREATED:20190321T143141Z
LAST-MODIFIED:20190321T143141Z
UID:14963-1555162200-1555171200@bruaylabuissiere.fr
SUMMARY:Marché de l'Agora
DESCRIPTION:Prochain RDV !
URL:https://bruaylabuissiere.fr/event/marche-de-lagora/
LOCATION:Marché Fret\, Place Henri Bodelot\, Bruay-La-Buissière\, 62700
CATEGORIES:Asso,Commerce,Echanges/rencontres,Jeunesse,Séniors
ATTACH;FMTTYPE=image/jpeg:https://bruaylabuissiere.fr/wp-content/uploads/2019/02/Marché-bio.jpg
ORGANIZER;CN="March%C3%A9 de l'Agora":MAILTO:marchedelagora@gmail.com
END:VEVENT
BEGIN:VEVENT
DTSTART;TZID=UTC:20190414T080000
DTEND;TZID=UTC:20190414T180000
DTSTAMP:20260421T082329
CREATED:20190228T160727Z
LAST-MODIFIED:20190228T160727Z
UID:14728-1555228800-1555264800@bruaylabuissiere.fr
SUMMARY:Vide grenier
DESCRIPTION:
URL:https://bruaylabuissiere.fr/event/vide-grenier-15/
CATEGORIES:Asso,Vide grenier
ATTACH;FMTTYPE=image/jpeg:https://bruaylabuissiere.fr/wp-content/uploads/2019/02/2019-les-terrasses-vide-grenier.jpg
END:VEVENT
BEGIN:VEVENT
DTSTART;TZID=UTC:20190427T043000
DTEND;TZID=UTC:20190427T203000
DTSTAMP:20260421T082329
CREATED:20190214T103321Z
LAST-MODIFIED:20190214T104914Z
UID:14604-1556339400-1556397000@bruaylabuissiere.fr
SUMMARY:Voyage à paris
DESCRIPTION:Départ à 6h30 – Retour à 22h\nPlaces limitées \nInscriptions et renseignements : 07 87 20 12 70
URL:https://bruaylabuissiere.fr/event/voyage-a-paris/
CATEGORIES:Asso,Jeunesse,Séniors,sports
ATTACH;FMTTYPE=image/jpeg:https://bruaylabuissiere.fr/wp-content/uploads/2019/02/les-chamoix-Paris.jpg
END:VEVENT
BEGIN:VEVENT
DTSTART;TZID=UTC:20190427T080000
DTEND;TZID=UTC:20190427T160000
DTSTAMP:20260421T082329
CREATED:20190412T110246Z
LAST-MODIFIED:20190412T110246Z
UID:15125-1556352000-1556380800@bruaylabuissiere.fr
SUMMARY:La rue aux enfants
DESCRIPTION:
URL:https://bruaylabuissiere.fr/event/la-rue-aux-enfants/
CATEGORIES:Asso,Echanges/rencontres,Enfance,Jeunesse
ATTACH;FMTTYPE=image/jpeg:https://bruaylabuissiere.fr/wp-content/uploads/2019/04/La-Rue-aux-Enfants-recto.jpg
ORGANIZER;CN="L'Office de la jeunesse":MAILTO:contact@officedelajeunesse.fr
END:VEVENT
BEGIN:VEVENT
DTSTART;TZID=UTC:20190428T060000
DTEND;TZID=UTC:20190428T160000
DTSTAMP:20260421T082329
CREATED:20190313T161826Z
LAST-MODIFIED:20190313T161826Z
UID:14887-1556431200-1556467200@bruaylabuissiere.fr
SUMMARY:Vide grenier
DESCRIPTION:
URL:https://bruaylabuissiere.fr/event/vide-grenier-17/
CATEGORIES:Asso,Vide grenier
ATTACH;FMTTYPE=image/jpeg:https://bruaylabuissiere.fr/wp-content/uploads/2019/03/2019-vide-grenier-carrefour-lemoine-copie.jpg
END:VEVENT
BEGIN:VEVENT
DTSTART;TZID=UTC:20190428T073000
DTEND;TZID=UTC:20190428T100000
DTSTAMP:20260421T082329
CREATED:20190415T161016Z
LAST-MODIFIED:20190415T161225Z
UID:15180-1556436600-1556445600@bruaylabuissiere.fr
SUMMARY:Course d'orientation
DESCRIPTION:Dans la forêt d’Olhain.\nAccueil dès 9h à la piscine d’Olhain. \nOuvert à tous : loisirs et compétition\nPlusieurs circuits : entre 2\,5 et 10 km \nDécouvrez le programme complet ici.
URL:https://bruaylabuissiere.fr/event/course-dorientation/
CATEGORIES:Asso,Jeunesse,Séniors,sports
ATTACH;FMTTYPE=image/jpeg:https://bruaylabuissiere.fr/wp-content/uploads/2019/04/CO-avril-2019.jpg
END:VEVENT
BEGIN:VEVENT
DTSTART;TZID=UTC:20190428T100000
DTEND;TZID=UTC:20190428T163000
DTSTAMP:20260421T082329
CREATED:20190318T155114Z
LAST-MODIFIED:20190318T155114Z
UID:14940-1556445600-1556469000@bruaylabuissiere.fr
SUMMARY:Repas dansant
DESCRIPTION:
URL:https://bruaylabuissiere.fr/event/repas-dansant-2/
LOCATION:Salle Georges Hurtrel\, Place du Rietz\, Bruay-la-buissière\, 62700
CATEGORIES:Asso,Concert rock,Danse,Rock alternatif,Séniors
ATTACH;FMTTYPE=image/jpeg:https://bruaylabuissiere.fr/wp-content/uploads/2019/03/2019-repas-dansant-le-bus-en-vadrouille-copie.jpg
END:VEVENT
END:VCALENDAR