BEGIN:VCALENDAR
VERSION:2.0
PRODID:-//Ville de Bruay-La-Buissière - ECPv6.9.1//NONSGML v1.0//EN
CALSCALE:GREGORIAN
METHOD:PUBLISH
X-ORIGINAL-URL:https://bruaylabuissiere.fr
X-WR-CALDESC:Évènements pour Ville de Bruay-La-Buissière
REFRESH-INTERVAL;VALUE=DURATION:PT1H
X-Robots-Tag:noindex
X-PUBLISHED-TTL:PT1H
BEGIN:VTIMEZONE
TZID:UTC
BEGIN:STANDARD
TZOFFSETFROM:+0000
TZOFFSETTO:+0000
TZNAME:UTC
DTSTART:20180101T000000
END:STANDARD
END:VTIMEZONE
BEGIN:VEVENT
DTSTART;VALUE=DATE:20180823
DTEND;VALUE=DATE:20180908
DTSTAMP:20260421T221111
CREATED:20180410T104535Z
LAST-MODIFIED:20180601T151442Z
UID:11169-1535061600-1536357599@bruaylabuissiere.fr
SUMMARY:Voyage en Bulgarie
DESCRIPTION:L’association DYNAMIQUE SENIORS vous propose de voyager ! \nVoyage en BULGARIE\nLe prix en fonction du nombre de participants sera dégressif. \nActuellement pour 20 personnes payantes il est de 1.389 € \nLe règlement commence mardi 6 février et se fera en 6 fois. \nPlus d’infos \nRéservé aux séniors
URL:https://bruaylabuissiere.fr/event/dynamique-seniors-voyage-en-bulgarie/
CATEGORIES:Asso,Séniors
ATTACH;FMTTYPE=image/jpeg:https://bruaylabuissiere.fr/wp-content/uploads/2018/04/2018-Dynamique-Séniors-Bulgarie-copie.jpg
END:VEVENT
END:VCALENDAR