BEGIN:VCALENDAR
VERSION:2.0
PRODID:-//Ville de Bruay-La-Buissière - ECPv6.9.1//NONSGML v1.0//EN
CALSCALE:GREGORIAN
METHOD:PUBLISH
X-WR-CALNAME:Ville de Bruay-La-Buissière
X-ORIGINAL-URL:https://bruaylabuissiere.fr
X-WR-CALDESC:Évènements pour Ville de Bruay-La-Buissière
REFRESH-INTERVAL;VALUE=DURATION:PT1H
X-Robots-Tag:noindex
X-PUBLISHED-TTL:PT1H
BEGIN:VTIMEZONE
TZID:UTC
BEGIN:STANDARD
TZOFFSETFROM:+0000
TZOFFSETTO:+0000
TZNAME:UTC
DTSTART:20180101T000000
END:STANDARD
END:VTIMEZONE
BEGIN:VEVENT
DTSTART;VALUE=DATE:20180911
DTEND;VALUE=DATE:20180917
DTSTAMP:20260421T221532
CREATED:20180313T100343Z
LAST-MODIFIED:20180917T112312Z
UID:10835-1536703200-1537135199@bruaylabuissiere.fr
SUMMARY:Séjour aux Canaries
DESCRIPTION:Possibilité de paiement en plusieurs fois\, pour tous renseignements\, contactez le service séniors.
URL:https://bruaylabuissiere.fr/event/sejour-aux-canaries/
CATEGORIES:Asso,Séniors
ATTACH;FMTTYPE=image/jpeg:https://bruaylabuissiere.fr/wp-content/uploads/2018/03/sejour-canaries.jpg
END:VEVENT
END:VCALENDAR