BEGIN:VCALENDAR
VERSION:2.0
PRODID:-//Ville de Bruay-La-Buissière - ECPv6.9.1//NONSGML v1.0//EN
CALSCALE:GREGORIAN
METHOD:PUBLISH
X-ORIGINAL-URL:https://bruaylabuissiere.fr
X-WR-CALDESC:Évènements pour Ville de Bruay-La-Buissière
REFRESH-INTERVAL;VALUE=DURATION:PT1H
X-Robots-Tag:noindex
X-PUBLISHED-TTL:PT1H
BEGIN:VTIMEZONE
TZID:UTC
BEGIN:STANDARD
TZOFFSETFROM:+0000
TZOFFSETTO:+0000
TZNAME:UTC
DTSTART:20180101T000000
END:STANDARD
END:VTIMEZONE
BEGIN:VEVENT
DTSTART;TZID=UTC:20180923T120000
DTEND;TZID=UTC:20180923T160000
DTSTAMP:20260421T222134
CREATED:20180911T101118Z
LAST-MODIFIED:20180911T101118Z
UID:13056-1537704000-1537718400@bruaylabuissiere.fr
SUMMARY:Vide grenier
DESCRIPTION:Découvrez le prochain vide grenier organisé par le Comité des Fêtes de la Gare ! \nRue Jules Guesde et Rue Raoul Briquet à Bruay-La-Buissière
URL:https://bruaylabuissiere.fr/event/vide-grenier-8/
CATEGORIES:Asso
ATTACH;FMTTYPE=image/jpeg:https://bruaylabuissiere.fr/wp-content/uploads/2018/09/Vide-grenier_Comité-des-Fêtes-de-la-Gare.jpg
END:VEVENT
END:VCALENDAR