BEGIN:VCALENDAR
VERSION:2.0
PRODID:-//Ville de Bruay-La-Buissière - ECPv6.9.1//NONSGML v1.0//EN
CALSCALE:GREGORIAN
METHOD:PUBLISH
X-WR-CALNAME:Ville de Bruay-La-Buissière
X-ORIGINAL-URL:https://bruaylabuissiere.fr
X-WR-CALDESC:Évènements pour Ville de Bruay-La-Buissière
REFRESH-INTERVAL;VALUE=DURATION:PT1H
X-Robots-Tag:noindex
X-PUBLISHED-TTL:PT1H
BEGIN:VTIMEZONE
TZID:UTC
BEGIN:STANDARD
TZOFFSETFROM:+0000
TZOFFSETTO:+0000
TZNAME:UTC
DTSTART:20180101T000000
END:STANDARD
END:VTIMEZONE
BEGIN:VEVENT
DTSTART;TZID=UTC:20181013T183000
DTEND;TZID=UTC:20181013T183000
DTSTAMP:20260421T203008
CREATED:20181009T144055Z
LAST-MODIFIED:20181009T144055Z
UID:13335-1539455400-1539455400@bruaylabuissiere.fr
SUMMARY:Match de basket
DESCRIPTION:BLB Basket (nationale 3) VS SSCBB (nationale 3)\nSalle Julien Poirier \nEntrée gratuite pour les moins de 12 ans\, pour les joueurs licenciés du club jusqu’en U20 et pour les cartes abonnements \nOrganisé par l’USOBL Basket
URL:https://bruaylabuissiere.fr/event/match-de-basket/
LOCATION:Complexe sportif Léo Lagrange\, cours Kennedy\, Bruay-la-buissière\, 62700
CATEGORIES:Asso
ATTACH;FMTTYPE=image/jpeg:https://bruaylabuissiere.fr/wp-content/uploads/2018/10/basket.jpg
END:VEVENT
END:VCALENDAR