BEGIN:VCALENDAR
VERSION:2.0
PRODID:-//Ville de Bruay-La-Buissière - ECPv6.9.1//NONSGML v1.0//EN
CALSCALE:GREGORIAN
METHOD:PUBLISH
X-WR-CALNAME:Ville de Bruay-La-Buissière
X-ORIGINAL-URL:https://bruaylabuissiere.fr
X-WR-CALDESC:Évènements pour Ville de Bruay-La-Buissière
REFRESH-INTERVAL;VALUE=DURATION:PT1H
X-Robots-Tag:noindex
X-PUBLISHED-TTL:PT1H
BEGIN:VTIMEZONE
TZID:UTC
BEGIN:STANDARD
TZOFFSETFROM:+0000
TZOFFSETTO:+0000
TZNAME:UTC
DTSTART:20180101T000000
END:STANDARD
END:VTIMEZONE
BEGIN:VEVENT
DTSTART;VALUE=DATE:20181124
DTEND;VALUE=DATE:20181126
DTSTAMP:20260421T184347
CREATED:20181002T143332Z
LAST-MODIFIED:20181002T144204Z
UID:13225-1543100400-1543186799@bruaylabuissiere.fr
SUMMARY:Repas de l'association ALTERNATIVE
DESCRIPTION:Apéritif récréatif dès 12h00 \nDébut du repas à 13h30 \nL’animation  sera assurée par « JACKY BERNARD » \nConfirmez votre participation en retournant le bulletin d’inscription (accompagné du règlement) AVANT LE MERCREDI 14 NOVEMBRE 2018 à : \nASSOCIATION ALTERNATIVE \nEspace Wallart – 532\, rue René Wallard \n62700 BRUAY LA BUISSIERE
URL:https://bruaylabuissiere.fr/event/repas-de-lassociation-alternative/
LOCATION:Salle Florent Evrard\, Rue Florent Evrard\, Bruay-La-Buissière\, 62700
CATEGORIES:Asso
ATTACH;FMTTYPE=image/jpeg:https://bruaylabuissiere.fr/wp-content/uploads/2018/10/logo-alternative.jpg
END:VEVENT
END:VCALENDAR