BEGIN:VCALENDAR
VERSION:2.0
PRODID:-//Ville de Bruay-La-Buissière - ECPv6.9.1//NONSGML v1.0//EN
CALSCALE:GREGORIAN
METHOD:PUBLISH
X-ORIGINAL-URL:https://bruaylabuissiere.fr
X-WR-CALDESC:Évènements pour Ville de Bruay-La-Buissière
REFRESH-INTERVAL;VALUE=DURATION:PT1H
X-Robots-Tag:noindex
X-PUBLISHED-TTL:PT1H
BEGIN:VTIMEZONE
TZID:UTC
BEGIN:STANDARD
TZOFFSETFROM:+0000
TZOFFSETTO:+0000
TZNAME:UTC
DTSTART:20190101T000000
END:STANDARD
END:VTIMEZONE
BEGIN:VEVENT
DTSTART;TZID=UTC:20190126T180000
DTEND;TZID=UTC:20190126T220000
DTSTAMP:20260421T153504
CREATED:20190116T162003Z
LAST-MODIFIED:20190118T104425Z
UID:14253-1548525600-1548540000@bruaylabuissiere.fr
SUMMARY:La boussole punéenne
DESCRIPTION:27e édition à Lapugnoy ! \nRaid d’orientation et randonnée nocturne en équipe de 2 \nElite : 40€ / équipe\nDécouverte : 35€ / équipe\nRandonnée : 15€ (gratuit pour les moins de 16 ans)\nLe tarif comprend un lot d’accueil\, le repas\, la carte en prétex\, le prêt de la puce SI \nRenseignements\, réglement\, inscriptions :\nla-boussole-puneenne.eklablog.com\nsamsam.coule@gmail.com\n06 16 41 49 95
URL:https://bruaylabuissiere.fr/event/la-boussole-puneenne/
CATEGORIES:Asso,sports
ATTACH;FMTTYPE=image/jpeg:https://bruaylabuissiere.fr/wp-content/uploads/2019/01/affiche-boussole-2019.jpg
ORGANIZER;CN="Artois Rand Orientation 62":MAILTO:franiju@hotmail.fr
END:VEVENT
END:VCALENDAR