BEGIN:VCALENDAR
VERSION:2.0
PRODID:-//Ville de Bruay-La-Buissière - ECPv6.9.1//NONSGML v1.0//EN
CALSCALE:GREGORIAN
METHOD:PUBLISH
X-ORIGINAL-URL:https://bruaylabuissiere.fr
X-WR-CALDESC:Évènements pour Ville de Bruay-La-Buissière
REFRESH-INTERVAL;VALUE=DURATION:PT1H
X-Robots-Tag:noindex
X-PUBLISHED-TTL:PT1H
BEGIN:VTIMEZONE
TZID:UTC
BEGIN:STANDARD
TZOFFSETFROM:+0000
TZOFFSETTO:+0000
TZNAME:UTC
DTSTART:20190101T000000
END:STANDARD
END:VTIMEZONE
BEGIN:VEVENT
DTSTART;TZID=UTC:20190407T060000
DTEND;TZID=UTC:20190407T160000
DTSTAMP:20260421T095500
CREATED:20190304T141614Z
LAST-MODIFIED:20190304T141614Z
UID:14749-1554616800-1554652800@bruaylabuissiere.fr
SUMMARY:Vide grenier
DESCRIPTION:
URL:https://bruaylabuissiere.fr/event/vide-grenier-16/
CATEGORIES:Asso,Vide grenier
ATTACH;FMTTYPE=image/jpeg:https://bruaylabuissiere.fr/wp-content/uploads/2019/03/2019-vide-grenier-MC-lunion.jpg
END:VEVENT
BEGIN:VEVENT
DTSTART;TZID=UTC:20190407T100000
DTEND;TZID=UTC:20190407T150000
DTSTAMP:20260421T095500
CREATED:20190313T162508Z
LAST-MODIFIED:20190313T162826Z
UID:14891-1554631200-1554649200@bruaylabuissiere.fr
SUMMARY:Loto
DESCRIPTION:
URL:https://bruaylabuissiere.fr/event/loto-3/
LOCATION:Salle Georges Hurtrel\, Place du Rietz\, Bruay-la-buissière\, 62700
CATEGORIES:Asso,Loto,Séniors
ATTACH;FMTTYPE=image/jpeg:https://bruaylabuissiere.fr/wp-content/uploads/2019/03/2019-Loto-comité-du-renouveau-de-labuissière-copie.jpg
END:VEVENT
END:VCALENDAR