BEGIN:VCALENDAR
VERSION:2.0
PRODID:-//Ville de Bruay-La-Buissière - ECPv6.9.1//NONSGML v1.0//EN
CALSCALE:GREGORIAN
METHOD:PUBLISH
X-ORIGINAL-URL:https://bruaylabuissiere.fr
X-WR-CALDESC:Évènements pour Ville de Bruay-La-Buissière
REFRESH-INTERVAL;VALUE=DURATION:PT1H
X-Robots-Tag:noindex
X-PUBLISHED-TTL:PT1H
BEGIN:VTIMEZONE
TZID:UTC
BEGIN:STANDARD
TZOFFSETFROM:+0000
TZOFFSETTO:+0000
TZNAME:UTC
DTSTART:20260101T000000
END:STANDARD
END:VTIMEZONE
BEGIN:VEVENT
DTSTART;TZID=UTC:20260307T193000
DTEND;TZID=UTC:20260308T020000
DTSTAMP:20260421T054419
CREATED:20260216T080101Z
LAST-MODIFIED:20260217T105024Z
UID:34009-1772911800-1772935200@bruaylabuissiere.fr
SUMMARY:Soirée années 80's-2000's
DESCRIPTION:
URL:https://bruaylabuissiere.fr/event/soiree-annees-80s-2000s/
LOCATION:Salle Marmottan\, Place Marmottan\, Bruay-la-buissière\, 62700
CATEGORIES:Asso,Danse
ATTACH;FMTTYPE=image/png:https://bruaylabuissiere.fr/wp-content/uploads/2026/02/17-12-2026-APEA-Brassens-Soiree-8090s-2026.png
END:VEVENT
END:VCALENDAR