BEGIN:VCALENDAR
VERSION:2.0
PRODID:-//Ville de Bruay-La-Buissière - ECPv6.9.1//NONSGML v1.0//EN
CALSCALE:GREGORIAN
METHOD:PUBLISH
X-ORIGINAL-URL:https://bruaylabuissiere.fr
X-WR-CALDESC:Évènements pour Ville de Bruay-La-Buissière
REFRESH-INTERVAL;VALUE=DURATION:PT1H
X-Robots-Tag:noindex
X-PUBLISHED-TTL:PT1H
BEGIN:VTIMEZONE
TZID:UTC
BEGIN:STANDARD
TZOFFSETFROM:+0000
TZOFFSETTO:+0000
TZNAME:UTC
DTSTART:20260101T000000
END:STANDARD
END:VTIMEZONE
BEGIN:VEVENT
DTSTART;TZID=UTC:20260403T170000
DTEND;TZID=UTC:20260403T210000
DTSTAMP:20260421T041209
CREATED:20260213T095412Z
LAST-MODIFIED:20260213T095412Z
UID:33991-1775235600-1775250000@bruaylabuissiere.fr
SUMMARY:Marché nocturne polonais
DESCRIPTION:
URL:https://bruaylabuissiere.fr/event/marche-nocturne-polonais/
LOCATION:Espace Guynemer\, rue guynemer\, Bruay-La-Buissière\, 62700
CATEGORIES:Asso,Commerce
ATTACH;FMTTYPE=image/png:https://bruaylabuissiere.fr/wp-content/uploads/2026/02/Marche-Nocturne-Polonais-03-04-2026.png
END:VEVENT
END:VCALENDAR