BEGIN:VCALENDAR
VERSION:2.0
PRODID:-//Ville de Bruay-La-Buissière - ECPv6.9.1//NONSGML v1.0//EN
CALSCALE:GREGORIAN
METHOD:PUBLISH
X-ORIGINAL-URL:https://bruaylabuissiere.fr
X-WR-CALDESC:Évènements pour Ville de Bruay-La-Buissière
REFRESH-INTERVAL;VALUE=DURATION:PT1H
X-Robots-Tag:noindex
X-PUBLISHED-TTL:PT1H
BEGIN:VTIMEZONE
TZID:UTC
BEGIN:STANDARD
TZOFFSETFROM:+0000
TZOFFSETTO:+0000
TZNAME:UTC
DTSTART:20260101T000000
END:STANDARD
END:VTIMEZONE
BEGIN:VEVENT
DTSTART;TZID=UTC:20260523T113000
DTEND;TZID=UTC:20260523T233000
DTSTAMP:20260421T054419
CREATED:20260216T080923Z
LAST-MODIFIED:20260216T080923Z
UID:34018-1779535800-1779579000@bruaylabuissiere.fr
SUMMARY:Rétro Gare Bruay
DESCRIPTION:
URL:https://bruaylabuissiere.fr/event/retro-gare-bruay/
LOCATION:Marché Fret\, Place Henri Bodelot\, Bruay-La-Buissière\, 62700
CATEGORIES:Asso
ATTACH;FMTTYPE=image/png:https://bruaylabuissiere.fr/wp-content/uploads/2026/02/Retro-Gare-Bruay-23-05-2026.png
END:VEVENT
END:VCALENDAR