BEGIN:VCALENDAR
VERSION:2.0
PRODID:-//Ville de Bruay-La-Buissière - ECPv6.9.1//NONSGML v1.0//EN
CALSCALE:GREGORIAN
METHOD:PUBLISH
X-ORIGINAL-URL:https://bruaylabuissiere.fr
X-WR-CALDESC:Évènements pour Ville de Bruay-La-Buissière
REFRESH-INTERVAL;VALUE=DURATION:PT1H
X-Robots-Tag:noindex
X-PUBLISHED-TTL:PT1H
BEGIN:VTIMEZONE
TZID:UTC
BEGIN:STANDARD
TZOFFSETFROM:+0000
TZOFFSETTO:+0000
TZNAME:UTC
DTSTART:20260101T000000
END:STANDARD
END:VTIMEZONE
BEGIN:VEVENT
DTSTART;TZID=UTC:20260708T083000
DTEND;TZID=UTC:20260708T120000
DTSTAMP:20260421T164319
CREATED:20260213T094834Z
LAST-MODIFIED:20260213T094834Z
UID:33982-1783499400-1783512000@bruaylabuissiere.fr
SUMMARY:Bourse aux vêtements
DESCRIPTION:
URL:https://bruaylabuissiere.fr/event/bourse-aux-vetements-25/
LOCATION:Salle des marguerites\, Rue des seringats\, Bruay-la-buissière\, 62700
CATEGORIES:Asso,Bourse
ATTACH;FMTTYPE=image/png:https://bruaylabuissiere.fr/wp-content/uploads/2026/02/Bourse-aux-vetements-08-07-26.png
END:VEVENT
END:VCALENDAR