BEGIN:VCALENDAR
VERSION:2.0
PRODID:-//Ville de Bruay-La-Buissière - ECPv6.9.1//NONSGML v1.0//EN
CALSCALE:GREGORIAN
METHOD:PUBLISH
X-ORIGINAL-URL:https://bruaylabuissiere.fr
X-WR-CALDESC:Évènements pour Ville de Bruay-La-Buissière
REFRESH-INTERVAL;VALUE=DURATION:PT1H
X-Robots-Tag:noindex
X-PUBLISHED-TTL:PT1H
BEGIN:VTIMEZONE
TZID:UTC
BEGIN:STANDARD
TZOFFSETFROM:+0000
TZOFFSETTO:+0000
TZNAME:UTC
DTSTART:20210101T000000
END:STANDARD
END:VTIMEZONE
BEGIN:VEVENT
DTSTART;TZID=UTC:20211212T093000
DTEND;TZID=UTC:20211212T173000
DTSTAMP:20260422T023320
CREATED:20211105T100316Z
LAST-MODIFIED:20211105T100316Z
UID:22877-1639301400-1639330200@bruaylabuissiere.fr
SUMMARY:Cabaret
DESCRIPTION:
URL:https://bruaylabuissiere.fr/event/cabaret/
CATEGORIES:Arts & Culture,Cabaret,Séniors
ATTACH;FMTTYPE=image/jpeg:https://bruaylabuissiere.fr/wp-content/uploads/2021/11/2021-CCAS-Cabaret-fcb.jpg
END:VEVENT
BEGIN:VEVENT
DTSTART;TZID=UTC:20211218T190000
DTEND;TZID=UTC:20211218T190000
DTSTAMP:20260422T023320
CREATED:20210825T115819Z
LAST-MODIFIED:20210825T115819Z
UID:22297-1639854000-1639854000@bruaylabuissiere.fr
SUMMARY:Quand on parle du loup
DESCRIPTION:Compagnie : les caramels fous \nTout fout le camp aux pays des histoires pour enfants ! \nLes Princes-ses règlent leurs « Contes »\, le Petit Chaperon Rouge est dyslexique\, la Petite Sirène veut se trans-former et couper sa queue\, une Raiponce pose plein de questions\, la Belle n’est pas si Bête\, Carabosse n’est peut-être pas maléfique\, les Princesses contre-attaquent et les Princes accourent… \nEt quand on parle du Loup… A lui aussi\, vont-ils lui régler son compte ? \nPour la petite histoire… \nLes Caramels fous\, c’est une troupe de comédie musicale non-professionnelle encadrée par des artistes et des techniciens professionnels. Et c’est aussi une association gay qui se donne pour mission d’allier humour et engagement dans des spectacles qui défendent toujours la cause LGBT\, prônant la tolérance\, le droit à la différence\, le droit des femmes…Contre le racisme ou toute autre forme de discrimination. \nLa composante historiquement “gay” du projet\, transfuge des chorales gays américaines\, fait que les Caramels fous soient uniquement des hommes sur scène. Cependant\, pour leur encadrement artistique\, la troupe s’entoure volontiers de chorégraphes\, musiciennes ou metteuses en scène. \nTout public\n1h30\nCabaret burlesque \nCatégOrie : C\nTP : 8€ / TR : 5€\nDécouv’art : 3€ \nBar et restauration avant et après le spectacle \nCaramba production\nLivret et mise en scène : Stéphane Druet\nChorégraphies : Alma de Villalobos (assistée par Vincent Baillet)\nDirection et arrangements vocaux : David Jean – Avec : Alexis\, Denis\, Duarte\, François\, Jean-Phi\, Jérôme\, Jérôme\, Kevin\, Laurent\, Michael\, Olivier\, Sylvain\, Vincent\, Yohann
URL:https://bruaylabuissiere.fr/event/quand-on-parle-du-loup/
LOCATION:Espace Culturel Grossemy\, Cours Kennedy\, Bruay-La-Buissière\, 62700
CATEGORIES:Arts & Culture,Cabaret,Spectacles & Concerts
ATTACH;FMTTYPE=image/jpeg:https://bruaylabuissiere.fr/wp-content/uploads/2021/08/Caramels-Fous.jpg
END:VEVENT
END:VCALENDAR