BEGIN:VCALENDAR
VERSION:2.0
PRODID:-//Ville de Bruay-La-Buissière - ECPv6.9.1//NONSGML v1.0//EN
CALSCALE:GREGORIAN
METHOD:PUBLISH
X-WR-CALNAME:Ville de Bruay-La-Buissière
X-ORIGINAL-URL:https://bruaylabuissiere.fr
X-WR-CALDESC:Évènements pour Ville de Bruay-La-Buissière
REFRESH-INTERVAL;VALUE=DURATION:PT1H
X-Robots-Tag:noindex
X-PUBLISHED-TTL:PT1H
BEGIN:VTIMEZONE
TZID:UTC
BEGIN:STANDARD
TZOFFSETFROM:+0000
TZOFFSETTO:+0000
TZNAME:UTC
DTSTART:20210101T000000
END:STANDARD
END:VTIMEZONE
BEGIN:VEVENT
DTSTART;TZID=UTC:20210926T150000
DTEND;TZID=UTC:20210926T163000
DTSTAMP:20260422T085656
CREATED:20210825T083206Z
LAST-MODIFIED:20210924T112522Z
UID:22215-1632668400-1632673800@bruaylabuissiere.fr
SUMMARY:Plein feu\,  le cabaret extraordinaire
DESCRIPTION:Un cabaret extraordinaire car inclassable\, aussi dingue que drôle ! \nRomanesque ou loufoque\, chaque numéro puise tour à tour dans l’énergie communicative de l’euphorie\, de la mélancolie et de l’autodérision\, pour allier le beau au décalé\, dans une poésie absurde comme source de jeu de cette folle tribu. \nDes acrobates\, des notes et des mots\, des magiciens\, du cirque\, des musiciens\, des histoires… \nUne famille d’artistes éclectiques qui crée l’harmonie avec leurs propres contraintes. \nCréation collective\, mise en scène par Armelle Hedin avec la collaboration de Lula Hugot et Christian Tétard.\nDirection musicale et piano : Fred Parker\, Frédéric Aliotti\nAvec : Stéphanie Barreau\, Lula Hugot\, Christian Têtard \, Yanowki\, Immo\, Cloé Horry \, Heejin Diamond\, Guillaume Lantonnet/Corentin Rio (Batterie) \nTout public\n1h30\nCabaret  \nHors abonnement \nProduction : Avril en Septembre\, Viviane Chaine – Ribeiro\nPartenaires : CNV\, l’Adami\, la ville de Bois d’Arcy / Le Centre d’Art et de Culture de Meudon\, / La ville de Vincennes.\nCrédits photo : Stéphane Laniray\, Gilles Rammant\, Stella K. Sofi Nadler.\nCostumes : Emilie Bonheure assistée de Tika Tichit\nLumière et son : Quentin Régnier et Alexandre Barthélémy\nCréation collective\, direction artistique : Armelle Hédin\, assistée de Nina Hedin
URL:https://bruaylabuissiere.fr/event/plein-feu-le-cabaret-extraordinaire/
LOCATION:Espace Culturel Grossemy\, Cours Kennedy\, Bruay-La-Buissière\, 62700
CATEGORIES:Arts & Culture,Cabaret,Spectacles & Concerts
ATTACH;FMTTYPE=image/jpeg:https://bruaylabuissiere.fr/wp-content/uploads/2021/08/Cabaret_Extraordinaire.jpg
END:VEVENT
END:VCALENDAR