BEGIN:VCALENDAR
VERSION:2.0
PRODID:-//Ville de Bruay-La-Buissière - ECPv6.9.1//NONSGML v1.0//EN
CALSCALE:GREGORIAN
METHOD:PUBLISH
X-WR-CALNAME:Ville de Bruay-La-Buissière
X-ORIGINAL-URL:https://bruaylabuissiere.fr
X-WR-CALDESC:Évènements pour Ville de Bruay-La-Buissière
REFRESH-INTERVAL;VALUE=DURATION:PT1H
X-Robots-Tag:noindex
X-PUBLISHED-TTL:PT1H
BEGIN:VTIMEZONE
TZID:UTC
BEGIN:STANDARD
TZOFFSETFROM:+0000
TZOFFSETTO:+0000
TZNAME:UTC
DTSTART:20180101T000000
END:STANDARD
END:VTIMEZONE
BEGIN:VEVENT
DTSTART;TZID=UTC:20181101T093000
DTEND;TZID=UTC:20181101T103000
DTSTAMP:20260422T120627
CREATED:20181022T171402Z
LAST-MODIFIED:20181022T171402Z
UID:13452-1541064600-1541068200@bruaylabuissiere.fr
SUMMARY:Dépôts de gerbes
DESCRIPTION:À l’occasion de la Toussaint\, les membres des conseils municipal et communal déposeront des gerbes à 10h30 au cimetière ouest\, et à 11h30 au cimetière est.
URL:https://bruaylabuissiere.fr/event/depots-de-gerbes/
CATEGORIES:Cérémonie
ATTACH;FMTTYPE=image/jpeg:https://bruaylabuissiere.fr/wp-content/uploads/2018/10/cimetière-du-3.jpg
END:VEVENT
END:VCALENDAR