BEGIN:VCALENDAR
VERSION:2.0
PRODID:-//Ville de Bruay-La-Buissière - ECPv6.9.1//NONSGML v1.0//EN
CALSCALE:GREGORIAN
METHOD:PUBLISH
X-ORIGINAL-URL:https://bruaylabuissiere.fr
X-WR-CALDESC:Évènements pour Ville de Bruay-La-Buissière
REFRESH-INTERVAL;VALUE=DURATION:PT1H
X-Robots-Tag:noindex
X-PUBLISHED-TTL:PT1H
BEGIN:VTIMEZONE
TZID:UTC
BEGIN:STANDARD
TZOFFSETFROM:+0000
TZOFFSETTO:+0000
TZNAME:UTC
DTSTART:20190101T000000
END:STANDARD
END:VTIMEZONE
BEGIN:VEVENT
DTSTART;TZID=UTC:20190508T080000
DTEND;TZID=UTC:20190508T100000
DTSTAMP:20260422T023633
CREATED:20190423T120408Z
LAST-MODIFIED:20190423T120408Z
UID:15218-1557302400-1557309600@bruaylabuissiere.fr
SUMMARY:Cérémonies commémoratives de l'Armistice du 8 mai 1945
DESCRIPTION:74e anniversaire ! \nLabuissière : 10h – Rassemblement au parking de la salle Georges Hurtrel\nBruay-La-Buissière : 11h – Rassemblement à l’angle des rues de Bourgogne et d’Alsace
URL:https://bruaylabuissiere.fr/event/ceremonies-commemoratives-de-larmistice-du-8-mai-1945/
CATEGORIES:Cérémonie,Jeunesse,Séniors
ATTACH;FMTTYPE=image/jpeg:https://bruaylabuissiere.fr/wp-content/uploads/2019/04/Drapeau-français.jpg
END:VEVENT
END:VCALENDAR