BEGIN:VCALENDAR
VERSION:2.0
PRODID:-//Ville de Bruay-La-Buissière - ECPv6.9.1//NONSGML v1.0//EN
CALSCALE:GREGORIAN
METHOD:PUBLISH
X-ORIGINAL-URL:https://bruaylabuissiere.fr
X-WR-CALDESC:Évènements pour Ville de Bruay-La-Buissière
REFRESH-INTERVAL;VALUE=DURATION:PT1H
X-Robots-Tag:noindex
X-PUBLISHED-TTL:PT1H
BEGIN:VTIMEZONE
TZID:UTC
BEGIN:STANDARD
TZOFFSETFROM:+0000
TZOFFSETTO:+0000
TZNAME:UTC
DTSTART:20180101T000000
END:STANDARD
END:VTIMEZONE
BEGIN:VEVENT
DTSTART;TZID=UTC:20181016T180000
DTEND;TZID=UTC:20181016T200000
DTSTAMP:20260422T125447
CREATED:20180904T171704Z
LAST-MODIFIED:20180904T171704Z
UID:12939-1539712800-1539720000@bruaylabuissiere.fr
SUMMARY:CAPHARNAÜM
DESCRIPTION:EN AVANT-PREMIÈRE  \nDRAME DE NADINE LABAKI \n Avec Zain Alrafeea\, Nadine Labaki\, Yordanos Shifera \nÀ l’intérieur d’un tribunal\, ZAIN\, un garçon de 12 ans est présenté devant le JUGE. \nLE JUGE : « Pourquoi attaquez-vous vos parents en justice ? » \nZAIN : « Pour m’avoir donné la vie. » \n 
URL:https://bruaylabuissiere.fr/event/capharnaum/
LOCATION:Cinéma Les étoiles\, 102 Rue du Périgord\, Bruay-la-Buissière\, 62700
CATEGORIES:Arts & Culture,Cinéma
ATTACH;FMTTYPE=image/jpeg:https://bruaylabuissiere.fr/wp-content/uploads/2018/09/capharnaum.jpg
END:VEVENT
BEGIN:VEVENT
DTSTART;TZID=UTC:20181017T123000
DTEND;TZID=UTC:20181017T143000
DTSTAMP:20260422T125447
CREATED:20180904T115258Z
LAST-MODIFIED:20180904T115258Z
UID:12859-1539779400-1539786600@bruaylabuissiere.fr
SUMMARY:Ma vie de courgette
DESCRIPTION:FILM D’ANIMATION DE CLAUDE BARRAS\, 2016 MERCREDI 17 OCTOBRE À 14H30 \n Avec Gaspard Schlatter\, Sixtine Murat\, Paulin Jaccoud \nCourgette n’a rien d’un légume\, c’est un vaillant petit garçon. Il croit qu’il est seul au monde quand il perd sa mère. Mais c’est sans compter sur les rencontres qu’il fait dans sa nouvelle vie au foyer pour enfants. Simon\, Ahmed\, Jujube\, Alice et Béatrice : ils ont tous leurs histoires\, dures et tendres. Et puis il y a Camille. Alors\, pourquoi pas heureux ?
URL:https://bruaylabuissiere.fr/event/ma-vie-de-courgette/
LOCATION:Cinéma Les étoiles\, 102 Rue du Périgord\, Bruay-la-Buissière\, 62700
CATEGORIES:Arts & Culture,Cinéma
ATTACH;FMTTYPE=image/jpeg:https://bruaylabuissiere.fr/wp-content/uploads/2018/09/courgette.jpg
END:VEVENT
END:VCALENDAR