BEGIN:VCALENDAR
VERSION:2.0
PRODID:-//Ville de Bruay-La-Buissière - ECPv6.9.1//NONSGML v1.0//EN
CALSCALE:GREGORIAN
METHOD:PUBLISH
X-ORIGINAL-URL:https://bruaylabuissiere.fr
X-WR-CALDESC:Évènements pour Ville de Bruay-La-Buissière
REFRESH-INTERVAL;VALUE=DURATION:PT1H
X-Robots-Tag:noindex
X-PUBLISHED-TTL:PT1H
BEGIN:VTIMEZONE
TZID:UTC
BEGIN:STANDARD
TZOFFSETFROM:+0000
TZOFFSETTO:+0000
TZNAME:UTC
DTSTART:20190101T000000
END:STANDARD
END:VTIMEZONE
BEGIN:VEVENT
DTSTART;TZID=UTC:20190523T163000
DTEND;TZID=UTC:20190523T173000
DTSTAMP:20260420T020627
CREATED:20190513T092257Z
LAST-MODIFIED:20190520T154918Z
UID:15706-1558629000-1558632600@bruaylabuissiere.fr
SUMMARY:Conférence Hervé Lesieur
DESCRIPTION:Soirée animée par Mélanie Lerat\, conservatrice du patrimoine du musée des Beaux-Arts d’Arras.
URL:https://bruaylabuissiere.fr/event/conference-herve-lesieur/
LOCATION:Cinéma Les étoiles\, 102 Rue du Périgord\, Bruay-la-Buissière\, 62700
CATEGORIES:Arts & Culture,Asso,Cinéma,Conférence,Echanges/rencontres,Jeunesse,Séniors
ATTACH;FMTTYPE=image/jpeg:https://bruaylabuissiere.fr/wp-content/uploads/2019/05/Affiche-Conférence-Lesieur.jpg
ORGANIZER;CN="Bruay-La-Buissi%C3%A8re initiative":MAILTO:blbi@sfr.fr
END:VEVENT
BEGIN:VEVENT
DTSTART;TZID=UTC:20190523T163000
DTEND;TZID=UTC:20190523T180000
DTSTAMP:20260420T020627
CREATED:20190502T093137Z
LAST-MODIFIED:20190502T153725Z
UID:15288-1558629000-1558634400@bruaylabuissiere.fr
SUMMARY:La jeunesse vous parle
DESCRIPTION:Place à réserver sur lajeunessevousparle@gmail.com \n 
URL:https://bruaylabuissiere.fr/event/la-jeunesse-vous-parle/
LOCATION:Cinéma Les étoiles\, 102 Rue du Périgord\, Bruay-la-Buissière\, 62700
CATEGORIES:Asso,Cinéma,Echanges/rencontres,Enfance,Exposition,Jeunesse,Séniors
ATTACH;FMTTYPE=image/jpeg:https://bruaylabuissiere.fr/wp-content/uploads/2019/05/Invitation-LJVP.jpg
ORGANIZER;CN="L'Office de la jeunesse":MAILTO:contact@officedelajeunesse.fr
END:VEVENT
END:VCALENDAR