BEGIN:VCALENDAR
VERSION:2.0
PRODID:-//Ville de Bruay-La-Buissière - ECPv6.9.1//NONSGML v1.0//EN
CALSCALE:GREGORIAN
METHOD:PUBLISH
X-WR-CALNAME:Ville de Bruay-La-Buissière
X-ORIGINAL-URL:https://bruaylabuissiere.fr
X-WR-CALDESC:Évènements pour Ville de Bruay-La-Buissière
REFRESH-INTERVAL;VALUE=DURATION:PT1H
X-Robots-Tag:noindex
X-PUBLISHED-TTL:PT1H
BEGIN:VTIMEZONE
TZID:UTC
BEGIN:STANDARD
TZOFFSETFROM:+0000
TZOFFSETTO:+0000
TZNAME:UTC
DTSTART:20180101T000000
END:STANDARD
END:VTIMEZONE
BEGIN:VEVENT
DTSTART;TZID=UTC:20181014T060000
DTEND;TZID=UTC:20181014T160000
DTSTAMP:20260422T215413
CREATED:20181008T172528Z
LAST-MODIFIED:20181008T172800Z
UID:13296-1539496800-1539532800@bruaylabuissiere.fr
SUMMARY:Braderie du Centre
DESCRIPTION:Infos au 03 21 64 56 00
URL:https://bruaylabuissiere.fr/event/braderie-du-centre-2/
CATEGORIES:Commerce
ATTACH;FMTTYPE=image/jpeg:https://bruaylabuissiere.fr/wp-content/uploads/2018/10/braderie.jpg
END:VEVENT
END:VCALENDAR