BEGIN:VCALENDAR
VERSION:2.0
PRODID:-//Ville de Bruay-La-Buissière - ECPv6.9.1//NONSGML v1.0//EN
CALSCALE:GREGORIAN
METHOD:PUBLISH
X-WR-CALNAME:Ville de Bruay-La-Buissière
X-ORIGINAL-URL:https://bruaylabuissiere.fr
X-WR-CALDESC:Évènements pour Ville de Bruay-La-Buissière
REFRESH-INTERVAL;VALUE=DURATION:PT1H
X-Robots-Tag:noindex
X-PUBLISHED-TTL:PT1H
BEGIN:VTIMEZONE
TZID:UTC
BEGIN:STANDARD
TZOFFSETFROM:+0000
TZOFFSETTO:+0000
TZNAME:UTC
DTSTART:20190101T000000
END:STANDARD
END:VTIMEZONE
BEGIN:VEVENT
DTSTART;TZID=UTC:20191207T083000
DTEND;TZID=UTC:20191207T160000
DTSTAMP:20260422T004722
CREATED:20191106T144238Z
LAST-MODIFIED:20191106T144238Z
UID:17676-1575707400-1575734400@bruaylabuissiere.fr
SUMMARY:Grande braderie solidaire
DESCRIPTION:Une braderie encore plus grande sous chapiteaux et lieux couverts : 9 412 m2 de bonnes affaires ! Plus de 2 913 m2 en + par rapport à décembre 2018 ! \n✅ ÉCONOMIQUE : des tonnes de bonnes affaires !!! Des prix imbattables\, des marques ! Avant les fêtes qui arrivent : pour offrir\, s’habiller…\nSélectionnés avec soin\, un choix inégalé :\n-> Tout pour s’habiller : vêtements (robes\, jupes\, chemises\, pantalons\, blousons\, sport…)\, chaussures\, maroquinerie\, accessoires\, bijoux\, montres… Pour homme\, femme et enfants.\n-> Tout pour se meubler : meubles « tendances » (canapés\, chaises…)\, linge de maison\, petit électro\, vaisselle\, cuisine\, beauté\, pour bébé\, objets/produits divers…\nEt aussi : des jouets\, de l’informatique\, des livres\, objets de loisirs\, déco/bricolage\, bibelots… ! \n✅ SOLIDAIRE : vos achats contribuent à lutter contre l’exclusion ! \n✅ ÉCOLOGIQUE : invendus\, retours web ou seconde-main\, c’est bon pour l’environnement ! \nAu gré de vos déambulations\, la magie de Noël s’invite à cette braderie de décembre ! Ainsi\, vous pourrez croiser : des lutins acrobatiques\, une chanteuse à l’orgue de barbarie\, des lutins échassiers/jongleurs/sculpteurs sur ballons\, et… le Père Noël accompagné de son âne ! \n> Pour manger / boire\, se réchauffer : petite restauration sur place\n> Grands parkings gratuits à l’intérieur du site (indiqués)\n> Carte bleue acceptée sans montant minimum sur tout le site\n> Déballage toute la journée \nRenseignements :\n03 21 01 77 77\nlerelais@lerelais.org\nFacebook de l’évènement\nLa page Facebook\nLe Relais et Emmaüs Artois \n\nDétail de l’accès :\nEN VOITURE > Gps «1987 rue du chemin des Dames» ou «N : 50.50613 / E : 2.57002»\nEN BUS > Ligne 50 (arrêt «Emmaüs») > en face de l’entrée OU Bulle 2 (arrêt «Brosselette») > un bus environ toutes les 15 minutes environ (à 4 minutes à pieds) > Horaires sur le site internet : www.tadao.fr \nNon ouverts aux exposants extérieurs.
URL:https://bruaylabuissiere.fr/event/grande-braderie-solidaire/
LOCATION:Le Relais/Emmaüs\, 1987 rue du chemin des dames ZAL du Possible "Le Relais"\, Bruay-la-Buissière\, 62700
CATEGORIES:Commerce
ATTACH;FMTTYPE=image/jpeg:https://bruaylabuissiere.fr/wp-content/uploads/2019/11/Braderie-Emmaus.jpg
END:VEVENT
END:VCALENDAR