BEGIN:VCALENDAR
VERSION:2.0
PRODID:-//Ville de Bruay-La-Buissière - ECPv6.9.1//NONSGML v1.0//EN
CALSCALE:GREGORIAN
METHOD:PUBLISH
X-WR-CALNAME:Ville de Bruay-La-Buissière
X-ORIGINAL-URL:https://bruaylabuissiere.fr
X-WR-CALDESC:Évènements pour Ville de Bruay-La-Buissière
REFRESH-INTERVAL;VALUE=DURATION:PT1H
X-Robots-Tag:noindex
X-PUBLISHED-TTL:PT1H
BEGIN:VTIMEZONE
TZID:UTC
BEGIN:STANDARD
TZOFFSETFROM:+0000
TZOFFSETTO:+0000
TZNAME:UTC
DTSTART:20190101T000000
END:STANDARD
END:VTIMEZONE
BEGIN:VEVENT
DTSTART;TZID=UTC:20191005T073000
DTEND;TZID=UTC:20191005T150000
DTSTAMP:20260422T055309
CREATED:20190930T102754Z
LAST-MODIFIED:20190930T102754Z
UID:17408-1570260600-1570287600@bruaylabuissiere.fr
SUMMARY:Grande braderie / brocante de rentrée au Relais et à Emmaüs Artois
DESCRIPTION:Une braderie encore + grande  avec encore plus de choix !  + 2460m2 supplémentaire par rapport à septembre 2018 \nSous chapiteaux et hangars : large choix de vêtements\, chaussures\, maroquinerie\, bijoux\, montres\, déguisements et accessoires pour la femme\, l’homme ou l’enfant\, mais aussi du linge de maison\, du mobilier (canapés\, chaises\, meubles divers…)\, des objets de décorations\, de loisirs\, de bricolage\, des livres\, des bibelots\, de la peinture\, de l’informatique… Des marques ! Du neuf ! Des ventes flashs ! Nouveaux arrivages ! De bonnes affaires solidaires à petits prix. Déballage toute la journée. Grands parkings gratuits à l’intérieur du site. Petite restauration\, boissons sur place. \n \nLes animations de la journée :  \nEn famille ou entre amis\, au gré de vos déambulations\, vous pourrez surement croiser « Les Echafous »\, jongleurs échassiers et sculpteurs sur ballons; « les Power Maquilleuses »\, sortie du XVIII ème siècle pour maquiller gratuitement petits et grands avec leur baguette magique poudrée; « Zigmus\, le clown orchestre » avec sa baignoire farfelue musicale et « Piratatouille»\, joyeux pirate qui vous dévoilera ses nombreux trésors… \n\nDétail de l’accès : \nEN VOITURE > Gps «1987 rue du chemin des Dames» ou «N : 50.50613 / E : 2.57002» \nEN BUS > Ligne 50 (arrêt «Emmaüs») > en face de l’entrée OU Bulle 2 (arrêt «Brosselette») > un bus environ toutes les 15 minutes environ (à 4 minutes à pieds) > Horaires sur le site internet : www.tadao.fr \n \nPour plus de renseignements : 03 21 01 77 77 ou par mail : lerelais@lerelais.org \nFacebook  \nLa page Facebook \nLe Relais \nEmmaüs Artois
URL:https://bruaylabuissiere.fr/event/grande-braderie-brocante-de-rentree-au-relais-et-a-emmaus-artois/
LOCATION:Le Relais/Emmaüs\, 1987 rue du chemin des dames ZAL du Possible "Le Relais"\, Bruay-la-Buissière\, 62700
CATEGORIES:Bourse,Commerce
ATTACH;FMTTYPE=image/jpeg:https://bruaylabuissiere.fr/wp-content/uploads/2019/09/Braderie-Emmaeus.jpg
END:VEVENT
END:VCALENDAR