BEGIN:VCALENDAR
VERSION:2.0
PRODID:-//Ville de Bruay-La-Buissière - ECPv6.9.1//NONSGML v1.0//EN
CALSCALE:GREGORIAN
METHOD:PUBLISH
X-WR-CALNAME:Ville de Bruay-La-Buissière
X-ORIGINAL-URL:https://bruaylabuissiere.fr
X-WR-CALDESC:Évènements pour Ville de Bruay-La-Buissière
REFRESH-INTERVAL;VALUE=DURATION:PT1H
X-Robots-Tag:noindex
X-PUBLISHED-TTL:PT1H
BEGIN:VTIMEZONE
TZID:UTC
BEGIN:STANDARD
TZOFFSETFROM:+0000
TZOFFSETTO:+0000
TZNAME:UTC
DTSTART:20230101T000000
END:STANDARD
END:VTIMEZONE
BEGIN:VEVENT
DTSTART;TZID=UTC:20230617T163000
DTEND;TZID=UTC:20230617T213000
DTSTAMP:20260419T133923
CREATED:20230613T100147Z
LAST-MODIFIED:20230613T100147Z
UID:27092-1687019400-1687037400@bruaylabuissiere.fr
SUMMARY:Zik en bar
DESCRIPTION:
URL:https://bruaylabuissiere.fr/event/zik-en-bar/
LOCATION:Bruay La Buissière
CATEGORIES:Arts & Culture,Chanson du monde,Chanson française,Concert,Concert rock,Concert soul music,Festival,Spectacles & Concerts
ATTACH;FMTTYPE=image/jpeg:https://bruaylabuissiere.fr/wp-content/uploads/2023/06/2023-Affiche-Zic-en-bar-generale-reseaux.jpg
END:VEVENT
BEGIN:VEVENT
DTSTART;TZID=UTC:20230617T200000
DTEND;TZID=UTC:20230617T200000
DTSTAMP:20260419T133923
CREATED:20230504T144834Z
LAST-MODIFIED:20230504T144834Z
UID:26792-1687032000-1687032000@bruaylabuissiere.fr
SUMMARY:Concert d'été "Musique en fête"
DESCRIPTION:
URL:https://bruaylabuissiere.fr/event/concert-dete-musique-en-fete/
LOCATION:Le Temple\, 125 Rue Henri Hermant\, Bruay-La-Buissière\, 62700
CATEGORIES:Arts & Culture,Asso,Concert,Concert classique
ATTACH;FMTTYPE=image/jpeg:https://bruaylabuissiere.fr/wp-content/uploads/2023/05/2023-17-6-concerty-ete-harmonie.jpg
END:VEVENT
BEGIN:VEVENT
DTSTART;TZID=UTC:20230621T183000
DTEND;TZID=UTC:20230621T183000
DTSTAMP:20260419T133923
CREATED:20230504T144126Z
LAST-MODIFIED:20230504T144126Z
UID:26789-1687372200-1687372200@bruaylabuissiere.fr
SUMMARY:Répétition publique de l'Harmonie municipale
DESCRIPTION:
URL:https://bruaylabuissiere.fr/event/repetition-publique-de-lharmonie-municipale/
LOCATION:chapelle Sainte Barbe\, rue Pierre Bérégovoy\, Bruay-La-Buissière\, 62700\, France
CATEGORIES:Arts & Culture,Asso,Concert,Concert classique
ATTACH;FMTTYPE=image/jpeg:https://bruaylabuissiere.fr/wp-content/uploads/2023/05/2023-21-6-concert-harmunie-m.jpg
END:VEVENT
BEGIN:VEVENT
DTSTART;TZID=UTC:20230622T193000
DTEND;TZID=UTC:20230622T193000
DTSTAMP:20260419T133923
CREATED:20230504T132041Z
LAST-MODIFIED:20230504T132041Z
UID:26776-1687462200-1687462200@bruaylabuissiere.fr
SUMMARY:Concert de l'orchestre symphonique
DESCRIPTION:
URL:https://bruaylabuissiere.fr/event/concert-de-lorchestre-symphonique-2/
LOCATION:Marché Fret\, Place Henri Bodelot\, Bruay-La-Buissière\, 62700
CATEGORIES:Asso,Concert,Concert classique
ATTACH;FMTTYPE=image/jpeg:https://bruaylabuissiere.fr/wp-content/uploads/2023/05/2023-22-6-concert-orquestre-symphonique.jpg
ORGANIZER;CN="Orchestre synphonique de Bruay-La-Buissi%C3%A8re":MAILTO:os.inforesa22@gmail.com
END:VEVENT
BEGIN:VEVENT
DTSTART;TZID=UTC:20230624T200000
DTEND;TZID=UTC:20230624T200000
DTSTAMP:20260419T133923
CREATED:20230320T132324Z
LAST-MODIFIED:20230320T132324Z
UID:26336-1687636800-1687636800@bruaylabuissiere.fr
SUMMARY:Fête de la Musique
DESCRIPTION:
URL:https://bruaylabuissiere.fr/event/fete-de-la-musique-4/
LOCATION:Place Marmottan\, Place Marmottan\, Bruay-La-Buissière\, 62700
CATEGORIES:Arts & Culture,Chanson française,Concert
ATTACH;FMTTYPE=image/jpeg:https://bruaylabuissiere.fr/wp-content/uploads/2023/03/2023-Protocole-Fete-de-la-musique-reseaux.jpg
END:VEVENT
BEGIN:VEVENT
DTSTART;TZID=UTC:20230713T213000
DTEND;TZID=UTC:20230713T213000
DTSTAMP:20260419T133923
CREATED:20230608T063520Z
LAST-MODIFIED:20230608T063618Z
UID:27066-1689283800-1689283800@bruaylabuissiere.fr
SUMMARY:Fête Nationale
DESCRIPTION:
URL:https://bruaylabuissiere.fr/event/fete-nationale/
LOCATION:Donjon de Labuissière\, Allée du château\, Bruay-La-Buissière\, 62700
CATEGORIES:Arts & Culture,Concert,Spectacles & Concerts
ATTACH;FMTTYPE=image/jpeg:https://bruaylabuissiere.fr/wp-content/uploads/2023/06/2023-Concertfeu-dartifice-13-juillet-reseaux.jpg
END:VEVENT
BEGIN:VEVENT
DTSTART;TZID=UTC:20230909T200000
DTEND;TZID=UTC:20230909T200000
DTSTAMP:20260419T133923
CREATED:20230731T142734Z
LAST-MODIFIED:20230731T142734Z
UID:27405-1694289600-1694289600@bruaylabuissiere.fr
SUMMARY:Amel Bent
DESCRIPTION:
URL:https://bruaylabuissiere.fr/event/amel-bent/
LOCATION:Espace Culturel Grossemy\, Cours Kennedy\, Bruay-La-Buissière\, 62700
CATEGORIES:Arts & Culture,Chanson française,Concert,Spectacles & Concerts
ATTACH;FMTTYPE=image/jpeg:https://bruaylabuissiere.fr/wp-content/uploads/2023/07/AMEL-BENT.jpg
END:VEVENT
BEGIN:VEVENT
DTSTART;TZID=UTC:20230915T200000
DTEND;TZID=UTC:20230915T200000
DTSTAMP:20260419T133923
CREATED:20230808T131144Z
LAST-MODIFIED:20230808T131144Z
UID:27576-1694808000-1694808000@bruaylabuissiere.fr
SUMMARY:Concert SLAM avec Wheelman\, Mister Handicap France 2023
DESCRIPTION:
URL:https://bruaylabuissiere.fr/event/concert-slam-avec-wheelman-mister-handicap-france-2023/
LOCATION:Le Temple\, 125 Rue Henri Hermant\, Bruay-La-Buissière\, 62700
CATEGORIES:Arts & Culture,Concert
ATTACH;FMTTYPE=image/jpeg:https://bruaylabuissiere.fr/wp-content/uploads/2023/08/2023-A3-WHEELMAN.jpg
END:VEVENT
BEGIN:VEVENT
DTSTART;TZID=UTC:20230921T200000
DTEND;TZID=UTC:20230921T200000
DTSTAMP:20260419T133923
CREATED:20230731T142027Z
LAST-MODIFIED:20230731T142823Z
UID:27398-1695326400-1695326400@bruaylabuissiere.fr
SUMMARY:Orchestre national de Lille
DESCRIPTION:
URL:https://bruaylabuissiere.fr/event/orchestre-national-de-lille/
LOCATION:Espace Culturel Grossemy\, Cours Kennedy\, Bruay-La-Buissière\, 62700
CATEGORIES:Arts & Culture,Concert,Concert classique,Spectacles & Concerts
ATTACH;FMTTYPE=image/jpeg:https://bruaylabuissiere.fr/wp-content/uploads/2023/07/Orchestre-National-Lille.jpg
END:VEVENT
BEGIN:VEVENT
DTSTART;TZID=UTC:20230930T160000
DTEND;TZID=UTC:20230930T160000
DTSTAMP:20260419T133923
CREATED:20230417T080313Z
LAST-MODIFIED:20230417T080313Z
UID:26534-1696089600-1696089600@bruaylabuissiere.fr
SUMMARY:Festival rock/métal au profit de l'autisme
DESCRIPTION:
URL:https://bruaylabuissiere.fr/event/festival-rock-metal-au-profit-de-lautisme/
LOCATION:Espace Culturel Grossemy\, Cours Kennedy\, Bruay-La-Buissière\, 62700
CATEGORIES:Asso,Concert,Concert rock
ATTACH;FMTTYPE=image/jpeg:https://bruaylabuissiere.fr/wp-content/uploads/2023/04/2023-30-09-rock-autfest.jpg
END:VEVENT
BEGIN:VEVENT
DTSTART;TZID=UTC:20231118T110000
DTEND;TZID=UTC:20231118T110000
DTSTAMP:20260419T133923
CREATED:20231030T161517Z
LAST-MODIFIED:20231030T161517Z
UID:28058-1700305200-1700305200@bruaylabuissiere.fr
SUMMARY:Franck C. "Sur-Vivant" du Bataclan
DESCRIPTION:
URL:https://bruaylabuissiere.fr/event/franck-c-sur-vivant-du-bataclan/
LOCATION:Médiathèque Marcel Wacheux\, 82 rue du Périgord\, Bruay-La-Buissière\, 62700
CATEGORIES:Arts & Culture,Chanson française,Concert,Echanges/rencontres
ATTACH;FMTTYPE=image/jpeg:https://bruaylabuissiere.fr/wp-content/uploads/2023/10/2022-mediatheque-Franck-Coste.jpg
END:VEVENT
BEGIN:VEVENT
DTSTART;TZID=UTC:20231119T160000
DTEND;TZID=UTC:20231119T160000
DTSTAMP:20260419T133923
CREATED:20231103T112917Z
LAST-MODIFIED:20231103T112917Z
UID:28091-1700409600-1700409600@bruaylabuissiere.fr
SUMMARY:Concert de Sainte Cécile
DESCRIPTION:
URL:https://bruaylabuissiere.fr/event/concert-de-sainte-cecile-4/
LOCATION:Salle Georges Hurtrel\, Place du Rietz\, Bruay-la-buissière\, 62700
CATEGORIES:Arts & Culture,Asso,Concert,Concert classique
ATTACH;FMTTYPE=image/jpeg:https://bruaylabuissiere.fr/wp-content/uploads/2023/11/2023-Harmonie-Municipale-Lab-Concert-Sainte-Cecile-OK-scaled.jpg
END:VEVENT
BEGIN:VEVENT
DTSTART;TZID=UTC:20231126T160000
DTEND;TZID=UTC:20231126T160000
DTSTAMP:20260419T133923
CREATED:20230201T150848Z
LAST-MODIFIED:20230719T094633Z
UID:25947-1701014400-1701014400@bruaylabuissiere.fr
SUMMARY:La promesse\, BREL
DESCRIPTION:
URL:https://bruaylabuissiere.fr/event/la-promesse-brel/
LOCATION:Espace Culturel Grossemy\, Cours Kennedy\, Bruay-La-Buissière\, 62700
CATEGORIES:Arts & Culture,Chanson française,Concert
ATTACH;FMTTYPE=image/jpeg:https://bruaylabuissiere.fr/wp-content/uploads/2023/02/2023-ABC-Brel-reseaux-1.jpg
END:VEVENT
BEGIN:VEVENT
DTSTART;TZID=UTC:20231216T110000
DTEND;TZID=UTC:20231216T110000
DTSTAMP:20260419T133923
CREATED:20231030T162029Z
LAST-MODIFIED:20231030T162029Z
UID:28061-1702724400-1702724400@bruaylabuissiere.fr
SUMMARY:Rencontre avec June Bug
DESCRIPTION:
URL:https://bruaylabuissiere.fr/event/rencontre-avec-june-bug/
LOCATION:Médiathèque Marcel Wacheux\, 82 rue du Périgord\, Bruay-La-Buissière\, 62700
CATEGORIES:Arts & Culture,Chanson française,Concert,Echanges/rencontres
ATTACH;FMTTYPE=image/jpeg:https://bruaylabuissiere.fr/wp-content/uploads/2023/10/2022-mediatheque-June-Bug.jpg
END:VEVENT
BEGIN:VEVENT
DTSTART;TZID=UTC:20231216T200000
DTEND;TZID=UTC:20231217T170000
DTSTAMP:20260419T133923
CREATED:20231117T110003Z
LAST-MODIFIED:20231117T110003Z
UID:28179-1702756800-1702832400@bruaylabuissiere.fr
SUMMARY:Concert du Nouvel An
DESCRIPTION:
URL:https://bruaylabuissiere.fr/event/concert-du-nouvel-an-5/
LOCATION:Espace Culturel Grossemy\, Cours Kennedy\, Bruay-La-Buissière\, 62700
CATEGORIES:Arts & Culture,Asso,Concert,Concert classique
ATTACH;FMTTYPE=image/jpeg:https://bruaylabuissiere.fr/wp-content/uploads/2023/11/2023-CONCERT-NOUVEL-AN-copie.jpg
ORGANIZER;CN="Orchestre synphonique de Bruay-La-Buissi%C3%A8re":MAILTO:os.inforesa22@gmail.com
END:VEVENT
BEGIN:VEVENT
DTSTART;TZID=UTC:20240126T180000
DTEND;TZID=UTC:20240126T180000
DTSTAMP:20260419T133923
CREATED:20231208T093412Z
LAST-MODIFIED:20231208T093412Z
UID:28335-1706292000-1706292000@bruaylabuissiere.fr
SUMMARY:Un temps pour rêver
DESCRIPTION:
URL:https://bruaylabuissiere.fr/event/un-temps-pour-rever/
LOCATION:Médiathèque Marcel Wacheux\, 82 rue du Périgord\, Bruay-La-Buissière\, 62700
CATEGORIES:Arts & Culture,Chanson du monde,Concert,Jeunesse,Spectacles & Concerts
ATTACH;FMTTYPE=image/jpeg:https://bruaylabuissiere.fr/wp-content/uploads/2023/12/2023-mediatheque-UN-TEMPS-POUR-REVER.jpg
END:VEVENT
BEGIN:VEVENT
DTSTART;TZID=UTC:20240203T200000
DTEND;TZID=UTC:20240203T200000
DTSTAMP:20260419T133923
CREATED:20240102T093721Z
LAST-MODIFIED:20240102T093721Z
UID:28419-1706990400-1706990400@bruaylabuissiere.fr
SUMMARY:Christophe Willem
DESCRIPTION:
URL:https://bruaylabuissiere.fr/event/christophe-willem/
LOCATION:Espace Culturel Grossemy\, Cours Kennedy\, Bruay-La-Buissière\, 62700
CATEGORIES:Arts & Culture,Chanson française,Concert,Spectacles & Concerts
ATTACH;FMTTYPE=image/jpeg:https://bruaylabuissiere.fr/wp-content/uploads/2024/01/WILLEM-copie.jpg
END:VEVENT
BEGIN:VEVENT
DTSTART;TZID=UTC:20240322T200000
DTEND;TZID=UTC:20240322T200000
DTSTAMP:20260419T133923
CREATED:20240212T135211Z
LAST-MODIFIED:20240212T135211Z
UID:28730-1711137600-1711137600@bruaylabuissiere.fr
SUMMARY:Culture Wave
DESCRIPTION:
URL:https://bruaylabuissiere.fr/event/culture-wave/
LOCATION:Espace Culturel Grossemy\, Cours Kennedy\, Bruay-La-Buissière\, 62700
CATEGORIES:Arts & Culture,Asso,Concert,Spectacles & Concerts
ATTACH;FMTTYPE=image/jpeg:https://bruaylabuissiere.fr/wp-content/uploads/2024/02/ABC-2024-CULTURE-WAVE-MODIF-scaled.jpg
END:VEVENT
BEGIN:VEVENT
DTSTART;TZID=UTC:20240420T150000
DTEND;TZID=UTC:20240420T150000
DTSTAMP:20260419T133923
CREATED:20240314T161406Z
LAST-MODIFIED:20240314T161406Z
UID:28885-1713625200-1713625200@bruaylabuissiere.fr
SUMMARY:Showcase Laurène Vatier
DESCRIPTION:
URL:https://bruaylabuissiere.fr/event/showcase-laurene-vatier/
LOCATION:Médiathèque Marcel Wacheux\, 82 rue du Périgord\, Bruay-La-Buissière\, 62700
CATEGORIES:Arts & Culture,Chanson française,Concert,Echanges/rencontres
ATTACH;FMTTYPE=image/jpeg:https://bruaylabuissiere.fr/wp-content/uploads/2024/03/2023-mediatheque-LAURENE-VATIER.jpg
END:VEVENT
BEGIN:VEVENT
DTSTART;TZID=UTC:20240420T200000
DTEND;TZID=UTC:20240420T200000
DTSTAMP:20260419T133923
CREATED:20240402T064409Z
LAST-MODIFIED:20240402T064409Z
UID:29093-1713643200-1713643200@bruaylabuissiere.fr
SUMMARY:Concert de printemps
DESCRIPTION:
URL:https://bruaylabuissiere.fr/event/concert-de-printemps-5/
LOCATION:Salle Georges Hurtrel\, Place du Rietz\, Bruay-la-buissière\, 62700
CATEGORIES:Arts & Culture,Asso,Concert,Concert classique
ATTACH;FMTTYPE=image/png:https://bruaylabuissiere.fr/wp-content/uploads/2024/04/Concert-de-pri-3.png
END:VEVENT
BEGIN:VEVENT
DTSTART;TZID=UTC:20240615T190000
DTEND;TZID=UTC:20240615T190000
DTSTAMP:20260419T133923
CREATED:20240611T091714Z
LAST-MODIFIED:20240611T091714Z
UID:29617-1718478000-1718478000@bruaylabuissiere.fr
SUMMARY:Concert de l'Harmonie Municipale
DESCRIPTION:
URL:https://bruaylabuissiere.fr/event/concert-de-lharmonie-municipale-2/
LOCATION:chapelle Sainte Barbe\, rue Pierre Bérégovoy\, Bruay-La-Buissière\, 62700\, France
CATEGORIES:Arts & Culture,Concert,Concert classique,Spectacles & Concerts
ATTACH;FMTTYPE=image/png:https://bruaylabuissiere.fr/wp-content/uploads/2024/06/Repetition-2.png
END:VEVENT
BEGIN:VEVENT
DTSTART;TZID=UTC:20240620T193000
DTEND;TZID=UTC:20240620T193000
DTSTAMP:20260419T133923
CREATED:20240529T152550Z
LAST-MODIFIED:20240529T152550Z
UID:29556-1718911800-1718911800@bruaylabuissiere.fr
SUMMARY:Concert de l'orchestre symphonique
DESCRIPTION:
URL:https://bruaylabuissiere.fr/event/concert-de-lorchestre-symphonique-3/
LOCATION:Marché Fret\, Place Henri Bodelot\, Bruay-La-Buissière\, 62700
CATEGORIES:Arts & Culture,Concert,Concert classique,Spectacles & Concerts
ATTACH;FMTTYPE=image/jpeg:https://bruaylabuissiere.fr/wp-content/uploads/2024/05/A3-CONCERT-ORCH-SYMPH-copie.jpg
ORGANIZER;CN="Orchestre synphonique de Bruay-La-Buissi%C3%A8re":MAILTO:os.inforesa22@gmail.com
END:VEVENT
BEGIN:VEVENT
DTSTART;TZID=UTC:20240621T203000
DTEND;TZID=UTC:20240621T203000
DTSTAMP:20260419T133923
CREATED:20240515T130134Z
LAST-MODIFIED:20240515T130134Z
UID:29397-1719001800-1719001800@bruaylabuissiere.fr
SUMMARY:Fête de la musique : Magic System
DESCRIPTION:
URL:https://bruaylabuissiere.fr/event/fete-de-la-musique-magic-system/
LOCATION:Place Marmottan\, Place Marmottan\, Bruay-La-Buissière\, 62700
CATEGORIES:Arts & Culture,Concert,Spectacles & Concerts
ATTACH;FMTTYPE=image/jpeg:https://bruaylabuissiere.fr/wp-content/uploads/2024/05/2024-A4-Fete-de-la-musique-scaled.jpg
END:VEVENT
BEGIN:VEVENT
DTSTART;TZID=UTC:20240622T120000
DTEND;TZID=UTC:20240622T120000
DTSTAMP:20260419T133923
CREATED:20240516T101126Z
LAST-MODIFIED:20240516T101126Z
UID:29458-1719057600-1719057600@bruaylabuissiere.fr
SUMMARY:Fête de la musique à la Médiathèque : Zig Zag
DESCRIPTION:
URL:https://bruaylabuissiere.fr/event/fete-de-la-musique-a-la-mediatheque-zig-zag/
LOCATION:Médiathèque Marcel Wacheux\, 82 rue du Périgord\, Bruay-La-Buissière\, 62700
CATEGORIES:Arts & Culture,Concert,Concert rock
ATTACH;FMTTYPE=image/jpeg:https://bruaylabuissiere.fr/wp-content/uploads/2024/05/2024-mediatheque-ZIG-ZAG-reseaux.jpg
END:VEVENT
BEGIN:VEVENT
DTSTART;TZID=UTC:20240622T180000
DTEND;TZID=UTC:20240622T203000
DTSTAMP:20260419T133924
CREATED:20240619T070243Z
LAST-MODIFIED:20240619T070243Z
UID:29751-1719079200-1719088200@bruaylabuissiere.fr
SUMMARY:Zik en bar
DESCRIPTION:
URL:https://bruaylabuissiere.fr/event/zik-en-bar-2/
CATEGORIES:Arts & Culture,Concert,Concert rock,Spectacles & Concerts
ATTACH;FMTTYPE=image/jpeg:https://bruaylabuissiere.fr/wp-content/uploads/2024/06/Affiche-Zik-en-bar-2024.jpg
END:VEVENT
BEGIN:VEVENT
DTSTART;TZID=UTC:20240713T213000
DTEND;TZID=UTC:20240713T233000
DTSTAMP:20260419T133924
CREATED:20240605T143115Z
LAST-MODIFIED:20240605T143115Z
UID:29603-1720906200-1720913400@bruaylabuissiere.fr
SUMMARY:Fête nationale
DESCRIPTION:
URL:https://bruaylabuissiere.fr/event/fete-nationale-2/
LOCATION:Donjon de Labuissière\, Allée du château\, Bruay-La-Buissière\, 62700
CATEGORIES:Arts & Culture,Chanson française,Concert,Concert rock,Spectacles & Concerts
ATTACH;FMTTYPE=image/jpeg:https://bruaylabuissiere.fr/wp-content/uploads/2024/06/2024-Concertfeu-dartifice-13-juillet-scaled.jpg
END:VEVENT
BEGIN:VEVENT
DTSTART;VALUE=DATE:20240810
DTEND;VALUE=DATE:20240816
DTSTAMP:20260419T133924
CREATED:20240801T121517Z
LAST-MODIFIED:20240801T121517Z
UID:30088-1723248000-1723766399@bruaylabuissiere.fr
SUMMARY:66e festivités du quartier des Terrasses
DESCRIPTION:
URL:https://bruaylabuissiere.fr/event/66e-festivites-du-quartier-des-terrasses/
CATEGORIES:Asso,Concert,Spectacles & Concerts,Vide grenier
ATTACH;FMTTYPE=image/png:https://bruaylabuissiere.fr/wp-content/uploads/2024/08/66-festivites-3.png
END:VEVENT
BEGIN:VEVENT
DTSTART;TZID=UTC:20240823T080000
DTEND;TZID=UTC:20240826T170000
DTSTAMP:20260419T133924
CREATED:20240801T082905Z
LAST-MODIFIED:20240801T082905Z
UID:30072-1724400000-1724691600@bruaylabuissiere.fr
SUMMARY:Foire d'été
DESCRIPTION:
URL:https://bruaylabuissiere.fr/event/foire-dete/
CATEGORIES:Asso,Chanson française,Concert,Danse,Exposition,Fête foraine,Spectacles & Concerts
ATTACH;FMTTYPE=image/png:https://bruaylabuissiere.fr/wp-content/uploads/2024/08/le-comite-des-fetes-du-quartier-de-la-gare.png
END:VEVENT
BEGIN:VEVENT
DTSTART;TZID=UTC:20241005T153000
DTEND;TZID=UTC:20241005T153000
DTSTAMP:20260419T133924
CREATED:20240619T072710Z
LAST-MODIFIED:20240619T072710Z
UID:29754-1728142200-1728142200@bruaylabuissiere.fr
SUMMARY:Festival rock/métal Aütfëst
DESCRIPTION:
URL:https://bruaylabuissiere.fr/event/festival-rock-metal-autfest/
LOCATION:Espace Culturel Grossemy\, Cours Kennedy\, Bruay-La-Buissière\, 62700
CATEGORIES:Arts & Culture,Asso,Concert,Concert rock,Festival,Spectacles & Concerts
ATTACH;FMTTYPE=image/jpeg:https://bruaylabuissiere.fr/wp-content/uploads/2024/06/autfest-scaled.jpg
END:VEVENT
BEGIN:VEVENT
DTSTART;TZID=UTC:20241108T180000
DTEND;TZID=UTC:20241108T180000
DTSTAMP:20260419T133924
CREATED:20241018T094641Z
LAST-MODIFIED:20241018T094641Z
UID:30546-1731088800-1731088800@bruaylabuissiere.fr
SUMMARY:Spectacle de contes "On aurait dû fêter nos 10 ans"
DESCRIPTION:
URL:https://bruaylabuissiere.fr/event/spectacle-de-contes-on-aurait-du-feter-nos-10-ans/
LOCATION:Médiathèque Marcel Wacheux\, 82 rue du Périgord\, Bruay-La-Buissière\, 62700
CATEGORIES:Arts & Culture,Comédie musicale,Concert,Spectacles & Concerts
ATTACH;FMTTYPE=image/jpeg:https://bruaylabuissiere.fr/wp-content/uploads/2024/10/2024-Mediatheque-SPECTACLE-DE-CONTES.jpg
END:VEVENT
END:VCALENDAR