BEGIN:VCALENDAR
VERSION:2.0
PRODID:-//Ville de Bruay-La-Buissière - ECPv6.9.1//NONSGML v1.0//EN
CALSCALE:GREGORIAN
METHOD:PUBLISH
X-WR-CALNAME:Ville de Bruay-La-Buissière
X-ORIGINAL-URL:https://bruaylabuissiere.fr
X-WR-CALDESC:Évènements pour Ville de Bruay-La-Buissière
REFRESH-INTERVAL;VALUE=DURATION:PT1H
X-Robots-Tag:noindex
X-PUBLISHED-TTL:PT1H
BEGIN:VTIMEZONE
TZID:UTC
BEGIN:STANDARD
TZOFFSETFROM:+0000
TZOFFSETTO:+0000
TZNAME:UTC
DTSTART:20250101T000000
END:STANDARD
END:VTIMEZONE
BEGIN:VEVENT
DTSTART;TZID=UTC:20250322T200000
DTEND;TZID=UTC:20250322T200000
DTSTAMP:20260419T115426
CREATED:20250113T124134Z
LAST-MODIFIED:20250113T124134Z
UID:31035-1742673600-1742673600@bruaylabuissiere.fr
SUMMARY:Jef Kino
DESCRIPTION:
URL:https://bruaylabuissiere.fr/event/jef-kino/
LOCATION:Espace Culturel Grossemy\, Cours Kennedy\, Bruay-La-Buissière\, 62700
CATEGORIES:Arts & Culture,Asso,Chanson française,Concert
ATTACH;FMTTYPE=image/jpeg:https://bruaylabuissiere.fr/wp-content/uploads/2025/01/Jef-Kino-scaled.jpg
END:VEVENT
BEGIN:VEVENT
DTSTART;TZID=UTC:20250405T180000
DTEND;TZID=UTC:20250405T180000
DTSTAMP:20260419T115426
CREATED:20250218T103846Z
LAST-MODIFIED:20250218T103846Z
UID:31294-1743876000-1743876000@bruaylabuissiere.fr
SUMMARY:Apéro-mix par Clo
DESCRIPTION:
URL:https://bruaylabuissiere.fr/event/apero-mix-par-clo/
LOCATION:Médiathèque Marcel Wacheux\, 82 rue du Périgord\, Bruay-La-Buissière\, 62700
CATEGORIES:Arts & Culture,Concert
ATTACH;FMTTYPE=image/jpeg:https://bruaylabuissiere.fr/wp-content/uploads/2025/02/2025-Mediatheque-APERO-CLO.jpg
END:VEVENT
BEGIN:VEVENT
DTSTART;TZID=UTC:20250406T160000
DTEND;TZID=UTC:20250406T160000
DTSTAMP:20260419T115426
CREATED:20250213T085044Z
LAST-MODIFIED:20250213T085054Z
UID:31258-1743955200-1743955200@bruaylabuissiere.fr
SUMMARY:Frédéric François
DESCRIPTION:
URL:https://bruaylabuissiere.fr/event/frederic-francois/
LOCATION:Espace Culturel Grossemy\, Cours Kennedy\, Bruay-La-Buissière\, 62700
CATEGORIES:Arts & Culture,Chanson française,Concert,Séniors,Spectacles & Concerts
ATTACH;FMTTYPE=image/jpeg:https://bruaylabuissiere.fr/wp-content/uploads/2025/02/FRANCOIS-copie.jpg
END:VEVENT
BEGIN:VEVENT
DTSTART;TZID=UTC:20250419T200000
DTEND;TZID=UTC:20250419T200000
DTSTAMP:20260419T115426
CREATED:20250402T061612Z
LAST-MODIFIED:20250402T061612Z
UID:31597-1745092800-1745092800@bruaylabuissiere.fr
SUMMARY:Tribute Calogero
DESCRIPTION:
URL:https://bruaylabuissiere.fr/event/tribute-calogero-2/
LOCATION:Espace Culturel Grossemy\, Cours Kennedy\, Bruay-La-Buissière\, 62700
CATEGORIES:Arts & Culture,Chanson française,Concert,Spectacles & Concerts
ATTACH;FMTTYPE=image/jpeg:https://bruaylabuissiere.fr/wp-content/uploads/2025/04/CALO-copie.jpg
END:VEVENT
BEGIN:VEVENT
DTSTART;TZID=UTC:20250430T100000
DTEND;TZID=UTC:20250501T170000
DTSTAMP:20260419T115426
CREATED:20250407T115241Z
LAST-MODIFIED:20250407T115241Z
UID:31678-1746007200-1746118800@bruaylabuissiere.fr
SUMMARY:49e Fête de la moto
DESCRIPTION:
URL:https://bruaylabuissiere.fr/event/49e-fete-de-la-moto/
CATEGORIES:Asso,Concert,Concert rock,Exposition
ATTACH;FMTTYPE=image/png:https://bruaylabuissiere.fr/wp-content/uploads/2025/04/30-04-et-1-05-Fete-de-la-moto-Union-du-carrefour-lemoine.png
END:VEVENT
BEGIN:VEVENT
DTSTART;TZID=UTC:20250516T200000
DTEND;TZID=UTC:20250516T200000
DTSTAMP:20260419T115426
CREATED:20250113T125043Z
LAST-MODIFIED:20250113T125120Z
UID:31047-1747425600-1747425600@bruaylabuissiere.fr
SUMMARY:Paradox
DESCRIPTION:
URL:https://bruaylabuissiere.fr/event/paradox/
LOCATION:Le Temple\, 125 Rue Henri Hermant\, Bruay-La-Buissière\, 62700
CATEGORIES:Arts & Culture,Asso,Concert,Spectacles & Concerts
ATTACH;FMTTYPE=image/jpeg:https://bruaylabuissiere.fr/wp-content/uploads/2025/01/Paradox-scaled.jpg
END:VEVENT
BEGIN:VEVENT
DTSTART;TZID=UTC:20250518T160000
DTEND;TZID=UTC:20250518T160000
DTSTAMP:20260419T115426
CREATED:20250418T065414Z
LAST-MODIFIED:20250418T065414Z
UID:31758-1747584000-1747584000@bruaylabuissiere.fr
SUMMARY:Concert de printemps
DESCRIPTION:
URL:https://bruaylabuissiere.fr/event/concert-de-printemps-7/
LOCATION:Salle Georges Hurtrel\, Place du Rietz\, Bruay-la-buissière\, 62700
CATEGORIES:Arts & Culture,Asso,Concert,Concert classique,Spectacles & Concerts
ATTACH;FMTTYPE=image/jpeg:https://bruaylabuissiere.fr/wp-content/uploads/2025/04/18-05-2025-Affiche-Concert-printemps-Harmonie-Labuissiere-scaled.jpg
END:VEVENT
BEGIN:VEVENT
DTSTART;TZID=UTC:20250523T200000
DTEND;TZID=UTC:20250524T200000
DTSTAMP:20260419T115426
CREATED:20250512T100827Z
LAST-MODIFIED:20250512T100827Z
UID:31974-1748030400-1748116800@bruaylabuissiere.fr
SUMMARY:Les Hortensias
DESCRIPTION:
URL:https://bruaylabuissiere.fr/event/les-hortensias/
LOCATION:Espace Culturel Grossemy\, Cours Kennedy\, Bruay-La-Buissière\, 62700
CATEGORIES:Arts & Culture,Concert,Danse,Opéra,Spectacles & Concerts,Théâtre
ATTACH;FMTTYPE=image/jpeg:https://bruaylabuissiere.fr/wp-content/uploads/2025/05/LES-HORTENSIAS-copie-scaled.jpg
END:VEVENT
BEGIN:VEVENT
DTSTART;TZID=UTC:20250524T190000
DTEND;TZID=UTC:20250524T190000
DTSTAMP:20260419T115426
CREATED:20250407T134042Z
LAST-MODIFIED:20250407T134042Z
UID:31681-1748113200-1748113200@bruaylabuissiere.fr
SUMMARY:Concert de printemps
DESCRIPTION:
URL:https://bruaylabuissiere.fr/event/concert-de-printemps-6/
LOCATION:Le Temple\, 125 Rue Henri Hermant\, Bruay-La-Buissière\, 62700
CATEGORIES:Asso,Concert,Concert classique,Spectacles & Concerts
ATTACH;FMTTYPE=image/png:https://bruaylabuissiere.fr/wp-content/uploads/2025/04/24-05-25-Concert-de-printemps-Harmonie-Municipale.png
END:VEVENT
BEGIN:VEVENT
DTSTART;TZID=UTC:20250527T190000
DTEND;TZID=UTC:20250527T190000
DTSTAMP:20260419T115426
CREATED:20250418T071349Z
LAST-MODIFIED:20250418T071422Z
UID:31767-1748372400-1748372400@bruaylabuissiere.fr
SUMMARY:En avant la musique
DESCRIPTION:
URL:https://bruaylabuissiere.fr/event/en-avant-la-musique/
LOCATION:Espace Culturel Grossemy\, Cours Kennedy\, Bruay-La-Buissière\, 62700
CATEGORIES:Arts & Culture,Concert,Concert classique
ATTACH;FMTTYPE=image/jpeg:https://bruaylabuissiere.fr/wp-content/uploads/2025/04/2025-mediatheque-EN-AVANT-LA-MUSIQUE.jpg
END:VEVENT
BEGIN:VEVENT
DTSTART;TZID=UTC:20250531T120000
DTEND;TZID=UTC:20250531T120000
DTSTAMP:20260419T115426
CREATED:20250418T070851Z
LAST-MODIFIED:20250418T070851Z
UID:31764-1748692800-1748692800@bruaylabuissiere.fr
SUMMARY:Apéro chanson avec Lipo
DESCRIPTION:
URL:https://bruaylabuissiere.fr/event/apero-chanson-avec-lipo/
LOCATION:Médiathèque Marcel Wacheux\, 82 rue du Périgord\, Bruay-La-Buissière\, 62700
CATEGORIES:Arts & Culture,Concert,Echanges/rencontres
ATTACH;FMTTYPE=image/jpeg:https://bruaylabuissiere.fr/wp-content/uploads/2025/04/2025-mediatheque-APERO-CHANSON-LIPO.jpg
END:VEVENT
BEGIN:VEVENT
DTSTART;TZID=UTC:20250619T193000
DTEND;TZID=UTC:20250619T193000
DTSTAMP:20260419T115426
CREATED:20250512T100013Z
LAST-MODIFIED:20250512T100013Z
UID:31970-1750361400-1750361400@bruaylabuissiere.fr
SUMMARY:Concert de l'Orchestre Symphonique
DESCRIPTION:
URL:https://bruaylabuissiere.fr/event/concert-de-lorchestre-symphonique-4/
LOCATION:place Bodelot\, rue Louis Dussart\, Bruay-La-Buissière\, 62700\, France
CATEGORIES:Arts & Culture,Concert,Concert classique,Spectacles & Concerts
ATTACH;FMTTYPE=image/jpeg:https://bruaylabuissiere.fr/wp-content/uploads/2025/05/A3-CONCERT-ORCH-SYMPH-2025-copie.jpg
ORGANIZER;CN="Orchestre synphonique de Bruay-La-Buissi%C3%A8re":MAILTO:os.inforesa22@gmail.com
END:VEVENT
BEGIN:VEVENT
DTSTART;TZID=UTC:20250620T200000
DTEND;TZID=UTC:20250621T223000
DTSTAMP:20260419T115426
CREATED:20250522T150632Z
LAST-MODIFIED:20250604T093410Z
UID:32070-1750449600-1750545000@bruaylabuissiere.fr
SUMMARY:Zik en bar
DESCRIPTION:
URL:https://bruaylabuissiere.fr/event/zik-en-bar-3/
LOCATION:Bruay La Buissière
CATEGORIES:Arts & Culture,Chanson du monde,Chanson française,Concert,Concert rock,Concert soul music,Spectacles & Concerts
ATTACH;FMTTYPE=image/jpeg:https://bruaylabuissiere.fr/wp-content/uploads/2025/05/2025-Affiche-Zik-en-bar-modif-scaled.jpg
END:VEVENT
BEGIN:VEVENT
DTSTART;TZID=UTC:20250621T203000
DTEND;TZID=UTC:20250621T203000
DTSTAMP:20260419T115426
CREATED:20250520T124001Z
LAST-MODIFIED:20250520T124001Z
UID:32015-1750537800-1750537800@bruaylabuissiere.fr
SUMMARY:Fête de la musique
DESCRIPTION:
URL:https://bruaylabuissiere.fr/event/fete-de-la-musique-5/
LOCATION:Place Marmottan\, Place Marmottan\, Bruay-La-Buissière\, 62700
CATEGORIES:Arts & Culture,Chanson française,Concert,Concert rock,Concert soul music,Rock alternatif,Spectacles & Concerts
ATTACH;FMTTYPE=image/jpeg:https://bruaylabuissiere.fr/wp-content/uploads/2025/05/2025-A4-Fete-de-la-musique-nouvelle-scaled.jpg
END:VEVENT
BEGIN:VEVENT
DTSTART;TZID=UTC:20250713T210000
DTEND;TZID=UTC:20250713T233000
DTSTAMP:20260419T115426
CREATED:20250520T095504Z
LAST-MODIFIED:20250520T095504Z
UID:32007-1752440400-1752449400@bruaylabuissiere.fr
SUMMARY:Feu d'artifice et concert de Patrick Sébastien
DESCRIPTION:
URL:https://bruaylabuissiere.fr/event/feu-dartifice-et-concert-de-patrick-sebastien/
LOCATION:Donjon de Labuissière\, Allée du château\, Bruay-La-Buissière\, 62700
CATEGORIES:Arts & Culture,Concert,Spectacles & Concerts
ATTACH;FMTTYPE=image/jpeg:https://bruaylabuissiere.fr/wp-content/uploads/2025/05/2025-Concertfeu-dartifice-13-juillet-scaled.jpg
END:VEVENT
BEGIN:VEVENT
DTSTART;VALUE=DATE:20250829
DTEND;VALUE=DATE:20250902
DTSTAMP:20260419T115426
CREATED:20250728T145223Z
LAST-MODIFIED:20250728T145223Z
UID:32410-1756425600-1756771199@bruaylabuissiere.fr
SUMMARY:Festivités d'août
DESCRIPTION:
URL:https://bruaylabuissiere.fr/event/festivites-daout/
CATEGORIES:Asso,Concert,Danse,Exposition,Vide grenier
ATTACH;FMTTYPE=image/png:https://bruaylabuissiere.fr/wp-content/uploads/2025/07/Comite-des-fetes-de-la-gare-Festivites-daout-2025-.png
END:VEVENT
BEGIN:VEVENT
DTSTART;TZID=UTC:20250920T110000
DTEND;TZID=UTC:20250920T110000
DTSTAMP:20260419T115426
CREATED:20250806T080347Z
LAST-MODIFIED:20250806T080347Z
UID:32544-1758366000-1758366000@bruaylabuissiere.fr
SUMMARY:Rencontre showcase avec Élias de The Voice 2025
DESCRIPTION:
URL:https://bruaylabuissiere.fr/event/rencontre-showcase-avec-elias-de-the-voice-2025/
LOCATION:Médiathèque Marcel Wacheux\, 82 rue du Périgord\, Bruay-La-Buissière\, 62700
CATEGORIES:Arts & Culture,Chanson française,Concert
ATTACH;FMTTYPE=image/jpeg:https://bruaylabuissiere.fr/wp-content/uploads/2025/08/2025-mediatheque-Rencontre-Showcase-Elias.jpg
END:VEVENT
BEGIN:VEVENT
DTSTART;TZID=UTC:20251009T190000
DTEND;TZID=UTC:20251009T190000
DTSTAMP:20260419T115426
CREATED:20250912T090253Z
LAST-MODIFIED:20250912T090253Z
UID:33049-1760036400-1760036400@bruaylabuissiere.fr
SUMMARY:Répétition publique
DESCRIPTION:
URL:https://bruaylabuissiere.fr/event/repetition-publique/
LOCATION:Hôtel de Ville\, Place Henri Cadot\, 62700\, France
CATEGORIES:Arts & Culture,Asso,Concert,Concert classique
ATTACH;FMTTYPE=image/jpeg:https://bruaylabuissiere.fr/wp-content/uploads/2025/09/A3-REPET-ORCH-SYMPH-copie.jpg
ORGANIZER;CN="Orchestre synphonique de Bruay-La-Buissi%C3%A8re":MAILTO:os.inforesa22@gmail.com
END:VEVENT
BEGIN:VEVENT
DTSTART;TZID=UTC:20251011T200000
DTEND;TZID=UTC:20251011T200000
DTSTAMP:20260419T115426
CREATED:20250213T085536Z
LAST-MODIFIED:20250213T085536Z
UID:31261-1760212800-1760212800@bruaylabuissiere.fr
SUMMARY:Mado fait son cabaret
DESCRIPTION:
URL:https://bruaylabuissiere.fr/event/mado-fait-son-cabaret/
LOCATION:Espace Culturel Grossemy\, Cours Kennedy\, Bruay-La-Buissière\, 62700
CATEGORIES:Arts & Culture,Cabaret,Concert,Danse,Séniors,Spectacles & Concerts
ATTACH;FMTTYPE=image/jpeg:https://bruaylabuissiere.fr/wp-content/uploads/2025/02/MADO-copie.jpg
END:VEVENT
BEGIN:VEVENT
DTSTART;TZID=UTC:20251011T200000
DTEND;TZID=UTC:20251011T200000
DTSTAMP:20260419T115426
CREATED:20251001T075431Z
LAST-MODIFIED:20251001T075431Z
UID:33179-1760212800-1760212800@bruaylabuissiere.fr
SUMMARY:Concert d'automne
DESCRIPTION:
URL:https://bruaylabuissiere.fr/event/concert-dautomne/
LOCATION:Salle Georges Hurtrel\, Place du Rietz\, Bruay-la-buissière\, 62700
CATEGORIES:Asso,Concert,Concert classique
ATTACH;FMTTYPE=image/png:https://bruaylabuissiere.fr/wp-content/uploads/2025/10/affiche-concert-dautomne-2025_2.pdf-2.png
END:VEVENT
BEGIN:VEVENT
DTSTART;TZID=UTC:20251018T190000
DTEND;TZID=UTC:20251018T190000
DTSTAMP:20260419T115426
CREATED:20251001T075803Z
LAST-MODIFIED:20251001T075803Z
UID:33182-1760814000-1760814000@bruaylabuissiere.fr
SUMMARY:Concert
DESCRIPTION:
URL:https://bruaylabuissiere.fr/event/concert/
LOCATION:Espace Culturel Grossemy\, Cours Kennedy\, Bruay-La-Buissière\, 62700
CATEGORIES:Asso,Concert,Concert classique
ATTACH;FMTTYPE=image/jpeg:https://bruaylabuissiere.fr/wp-content/uploads/2025/10/BRASS-BAND-OCT-2025-copie.jpg
END:VEVENT
BEGIN:VEVENT
DTSTART;TZID=UTC:20251024T180000
DTEND;TZID=UTC:20251024T180000
DTSTAMP:20260419T115426
CREATED:20250806T080847Z
LAST-MODIFIED:20250806T080847Z
UID:32547-1761328800-1761328800@bruaylabuissiere.fr
SUMMARY:Apéro Beatles avec Totm
DESCRIPTION:
URL:https://bruaylabuissiere.fr/event/apero-beatles-avec-totm/
LOCATION:Médiathèque Marcel Wacheux\, 82 rue du Périgord\, Bruay-La-Buissière\, 62700
CATEGORIES:Arts & Culture,Concert,Concert rock
ATTACH;FMTTYPE=image/jpeg:https://bruaylabuissiere.fr/wp-content/uploads/2025/08/2025-mediatheque-Apero-avec-TOTM.jpg
END:VEVENT
BEGIN:VEVENT
DTSTART;TZID=UTC:20251031T170000
DTEND;TZID=UTC:20251031T170000
DTSTAMP:20260419T115426
CREATED:20251001T075025Z
LAST-MODIFIED:20251001T075049Z
UID:33176-1761930000-1761930000@bruaylabuissiere.fr
SUMMARY:Halloween party
DESCRIPTION:
URL:https://bruaylabuissiere.fr/event/halloween-party-2/
LOCATION:Marché Fret\, Place Henri Bodelot\, Bruay-La-Buissière\, 62700
CATEGORIES:Asso,Concert,Exposition
ATTACH;FMTTYPE=image/jpeg:https://bruaylabuissiere.fr/wp-content/uploads/2025/10/31-10-2025-Soiree-Halloween-Comite-des-fetes-de-la-Gare.jpg
END:VEVENT
BEGIN:VEVENT
DTSTART;TZID=UTC:20251122T190000
DTEND;TZID=UTC:20251122T190000
DTSTAMP:20260419T115426
CREATED:20251030T142052Z
LAST-MODIFIED:20251030T142613Z
UID:33269-1763838000-1763838000@bruaylabuissiere.fr
SUMMARY:Concert spectacle pour la Sainte-Cécile
DESCRIPTION:
URL:https://bruaylabuissiere.fr/event/concert-spectacle-pour-la-sainte-cecile/
LOCATION:Espace Culturel Grossemy\, Cours Kennedy\, Bruay-La-Buissière\, 62700
CATEGORIES:Asso,Concert,Concert classique,Danse
ATTACH;FMTTYPE=image/png:https://bruaylabuissiere.fr/wp-content/uploads/2025/10/22-11-2025-Concert-spectacle-Harmonie-BLB-et-AUNIX.png
END:VEVENT
BEGIN:VEVENT
DTSTART;TZID=UTC:20251123T143000
DTEND;TZID=UTC:20251123T143000
DTSTAMP:20260419T115426
CREATED:20251030T142542Z
LAST-MODIFIED:20251030T142542Z
UID:33276-1763908200-1763908200@bruaylabuissiere.fr
SUMMARY:Café concert Sainte-Cécile
DESCRIPTION:
URL:https://bruaylabuissiere.fr/event/cafe-concert-sainte-cecile/
LOCATION:Espace Guynemer\, rue guynemer\, Bruay-La-Buissière\, 62700
CATEGORIES:Asso,Concert
ATTACH;FMTTYPE=image/png:https://bruaylabuissiere.fr/wp-content/uploads/2025/10/23-11-2025-Guynemer-Animation-Concert-St-Cecile.png
END:VEVENT
BEGIN:VEVENT
DTSTART;TZID=UTC:20251123T160000
DTEND;TZID=UTC:20251123T160000
DTSTAMP:20260419T115426
CREATED:20251030T142248Z
LAST-MODIFIED:20251030T142248Z
UID:33273-1763913600-1763913600@bruaylabuissiere.fr
SUMMARY:Concert de Sainte-Cécile
DESCRIPTION:
URL:https://bruaylabuissiere.fr/event/concert-de-sainte-cecile-5/
LOCATION:Salle Georges Hurtrel\, Place du Rietz\, Bruay-la-buissière\, 62700
CATEGORIES:Asso,Concert,Concert classique
ATTACH;FMTTYPE=image/png:https://bruaylabuissiere.fr/wp-content/uploads/2025/10/23-11-25-Harmonie-Labuissiere-Concert-St-Cecile-affiche.png
END:VEVENT
BEGIN:VEVENT
DTSTART;TZID=UTC:20251206T200000
DTEND;TZID=UTC:20251206T200000
DTSTAMP:20260419T115426
CREATED:20251014T075729Z
LAST-MODIFIED:20251014T075729Z
UID:33226-1765051200-1765051200@bruaylabuissiere.fr
SUMMARY:Julien Lieb
DESCRIPTION:
URL:https://bruaylabuissiere.fr/event/julien-lieb/
LOCATION:Espace Culturel Grossemy\, Cours Kennedy\, Bruay-La-Buissière\, 62700
CATEGORIES:Arts & Culture,Chanson française,Concert,Spectacles & Concerts
ATTACH;FMTTYPE=image/jpeg:https://bruaylabuissiere.fr/wp-content/uploads/2025/10/JULIEN-LIEB-copie.jpg
END:VEVENT
BEGIN:VEVENT
DTSTART;TZID=UTC:20251213T140000
DTEND;TZID=UTC:20251213T140000
DTSTAMP:20260419T115426
CREATED:20250806T120838Z
LAST-MODIFIED:20250806T120838Z
UID:32600-1765634400-1765634400@bruaylabuissiere.fr
SUMMARY:Atelier d'écriture en musique
DESCRIPTION:
URL:https://bruaylabuissiere.fr/event/atelier-decriture-en-musique/
LOCATION:Médiathèque Marcel Wacheux\, 82 rue du Périgord\, Bruay-La-Buissière\, 62700
CATEGORIES:Arts & Culture,Atelier,Concert
ATTACH;FMTTYPE=image/jpeg:https://bruaylabuissiere.fr/wp-content/uploads/2025/08/2025-mediatheque-Atelier-decriture-en-musique.jpg
END:VEVENT
BEGIN:VEVENT
DTSTART;TZID=UTC:20251213T200000
DTEND;TZID=UTC:20251214T160000
DTSTAMP:20260419T115426
CREATED:20251030T142809Z
LAST-MODIFIED:20251030T142809Z
UID:33280-1765656000-1765728000@bruaylabuissiere.fr
SUMMARY:Concerts du Nouvel An
DESCRIPTION:
URL:https://bruaylabuissiere.fr/event/concerts-du-nouvel-an-2/
LOCATION:Espace Culturel Grossemy\, Cours Kennedy\, Bruay-La-Buissière\, 62700
CATEGORIES:Asso,Concert,Concert classique
ATTACH;FMTTYPE=image/jpeg:https://bruaylabuissiere.fr/wp-content/uploads/2025/10/2025-CONCERT-NOUVEL-AN-PHOTOS-copie.jpg
ORGANIZER;CN="Orchestre synphonique de Bruay-La-Buissi%C3%A8re":MAILTO:os.inforesa22@gmail.com
END:VEVENT
BEGIN:VEVENT
DTSTART;TZID=UTC:20251219T200000
DTEND;TZID=UTC:20251219T200000
DTSTAMP:20260419T115426
CREATED:20251103T095732Z
LAST-MODIFIED:20251103T095732Z
UID:33286-1766174400-1766174400@bruaylabuissiere.fr
SUMMARY:Meridianu
DESCRIPTION:
URL:https://bruaylabuissiere.fr/event/meridianu/
CATEGORIES:Arts & Culture,Asso,Concert,Concert classique,Spectacles & Concerts
ATTACH;FMTTYPE=image/jpeg:https://bruaylabuissiere.fr/wp-content/uploads/2025/11/Meridianu-scaled.jpg
END:VEVENT
END:VCALENDAR