BEGIN:VCALENDAR
VERSION:2.0
PRODID:-//Ville de Bruay-La-Buissière - ECPv6.9.1//NONSGML v1.0//EN
CALSCALE:GREGORIAN
METHOD:PUBLISH
X-ORIGINAL-URL:https://bruaylabuissiere.fr
X-WR-CALDESC:Évènements pour Ville de Bruay-La-Buissière
REFRESH-INTERVAL;VALUE=DURATION:PT1H
X-Robots-Tag:noindex
X-PUBLISHED-TTL:PT1H
BEGIN:VTIMEZONE
TZID:UTC
BEGIN:STANDARD
TZOFFSETFROM:+0000
TZOFFSETTO:+0000
TZNAME:UTC
DTSTART:20180101T000000
END:STANDARD
END:VTIMEZONE
BEGIN:VEVENT
DTSTART;TZID=UTC:20180907T060000
DTEND;TZID=UTC:20180907T150000
DTSTAMP:20260422T154816
CREATED:20180907T144617Z
LAST-MODIFIED:20180907T144732Z
UID:13002-1536300000-1536332400@bruaylabuissiere.fr
SUMMARY:Conférences
DESCRIPTION:CINÉMA LES ÉTOILES – ENTRÉE LIBRE SUR RÉSERVATION AU 03 21 61 81 91 \ndes films\, des histoires et des arts\nJEUDI 11 OCTOBRE À 18H30 \nCONFÉRENCE DE THIERRY CORMIER \nLe cinéma est un art\, il en est même le septième. Mais comment regarde-t-il les illustres « beaux- arts »\, qui ont tous été abondamment filmés : parfois comme un ornement\, simple décor ; par- fois comme le sujet central de l’histoire. Comment filmer une œuvre d’art\, comment représenter un mouvement\, un artiste ?\nNous vous invitons donc à venir explorer ces relations et ces questions à partir de nombreux extraits de films\, et à découvrir ensemble « toutes ces histoires des arts » au cinéma. \nReplongez dans le bain\, la piscine réouvre !\nJEUDI 24 JANVIER À 18H30\nCONFÉRENCE D’ART PAR CÉLINE DOUTRIAUX\nAprès 18 mois de travaux et six mois d’installa- tion\, La Piscine agrandie réouvre ses portes et reçoit des invités exceptionnels : Hervé Di Rosa\, Pablo Picasso et Alberto Giacometti. \nL’atelier reconstitué d’Henri Bouchard (1875-1960) permet de saisir plus aisément le métier et les techniques de la sculpture. \namour\, l’histoire des manières d’aimer\nJEUDI 13 DÉCEMBRE À 18H30\nCONFÉRENCE D’ART PAR GUNILLA LAPOINTE \nL’amour est éternel mais les manières d’aimer évoluent. Les représentations de l’Amour d’une époque à l’autre\, témoignent de la transforma- tion des modèles de la relation amoureuse entre deux êtres.\nSept étapes de la relation amoureuse depuis l’An- tiquité à nos jours avec sept tableaux : de la séduction\, l’adoration\, la passion\, la relation\, le plaisir\, la fusion à la liberté.\nExposition au Louvre-Lens du 26 septembre 2018 au 21 janvier 2019. \nAlberto giacometti\, rétrospective\nCONFÉRENCE D’ART PAR MARIE CASTELAIN\nLe LAM consacre au printemps 2019 une rétros- pective d’Alberto Giacometti qui invite un nouveau regard sur l’artiste. Plus de 150 œuvres seront réunies pour dévoiler un parcours artistique exceptionnel et original. \nAu-delà des silhouettes longilignes connues d’hommes et de femmes\, l’artiste s’inscrit dans l’évolution du XXème siècle\, avec l’émergence d’An- dré Breton et des surréalistes.\nExposition au LAM de Villeneuve d’Ascq du 11 février au 11 juin 2019
URL:https://bruaylabuissiere.fr/event/conferences/
CATEGORIES:Arts & Culture,Conférence
ATTACH;FMTTYPE=image/jpeg:https://bruaylabuissiere.fr/wp-content/uploads/2018/09/conferences.jpg
END:VEVENT
END:VCALENDAR