BEGIN:VCALENDAR
VERSION:2.0
PRODID:-//Ville de Bruay-La-Buissière - ECPv6.9.1//NONSGML v1.0//EN
CALSCALE:GREGORIAN
METHOD:PUBLISH
X-ORIGINAL-URL:https://bruaylabuissiere.fr
X-WR-CALDESC:Évènements pour Ville de Bruay-La-Buissière
REFRESH-INTERVAL;VALUE=DURATION:PT1H
X-Robots-Tag:noindex
X-PUBLISHED-TTL:PT1H
BEGIN:VTIMEZONE
TZID:UTC
BEGIN:STANDARD
TZOFFSETFROM:+0000
TZOFFSETTO:+0000
TZNAME:UTC
DTSTART:20190101T000000
END:STANDARD
END:VTIMEZONE
BEGIN:VEVENT
DTSTART;TZID=UTC:20190905T163000
DTEND;TZID=UTC:20190905T173000
DTSTAMP:20260419T193703
CREATED:20190802T113739Z
LAST-MODIFIED:20190805T150521Z
UID:16812-1567701000-1567704600@bruaylabuissiere.fr
SUMMARY:Quand l’affiche s’affiche
DESCRIPTION:Conférence animée par Marie-Paule BOTTE \nL’évolution de l’affiche coïncide avec l’invention de la lithographie qui a engendré une véritable révolution dans le domaine de la communication. Dès 1891\, Toulouse-Lautrec réalise la fameuse affiche promouvant le cabaret Moulin-Rouge\, c’est par celle-ci que l’affiche atteint véritablement le statut d’œuvre artistique et que débute réellement « l’affichomanie ». En écho avec l’exposition « Toulouse Lautrec »\, Grand Palais du 09/10/2019 au 07/01/2020
URL:https://bruaylabuissiere.fr/event/quand-laffiche-saffiche/
LOCATION:Cinéma Les étoiles\, 102 Rue du Périgord\, Bruay-la-Buissière\, 62700
CATEGORIES:Arts & Culture,Cinéma,Conférence,Echanges/rencontres,Jeunesse,Séniors
ATTACH;FMTTYPE=image/jpeg:https://bruaylabuissiere.fr/wp-content/uploads/2019/08/Quand-laffiche-saffiche.jpg
END:VEVENT
END:VCALENDAR