BEGIN:VCALENDAR
VERSION:2.0
PRODID:-//Ville de Bruay-La-Buissière - ECPv6.9.1//NONSGML v1.0//EN
CALSCALE:GREGORIAN
METHOD:PUBLISH
X-ORIGINAL-URL:https://bruaylabuissiere.fr
X-WR-CALDESC:Évènements pour Ville de Bruay-La-Buissière
REFRESH-INTERVAL;VALUE=DURATION:PT1H
X-Robots-Tag:noindex
X-PUBLISHED-TTL:PT1H
BEGIN:VTIMEZONE
TZID:UTC
BEGIN:STANDARD
TZOFFSETFROM:+0000
TZOFFSETTO:+0000
TZNAME:UTC
DTSTART:20180101T000000
END:STANDARD
END:VTIMEZONE
BEGIN:VEVENT
DTSTART;TZID=UTC:20181226T070000
DTEND;TZID=UTC:20190630T150000
DTSTAMP:20260419T183942
CREATED:20181226T171003Z
LAST-MODIFIED:20181226T171003Z
UID:14052-1545807600-1561906800@bruaylabuissiere.fr
SUMMARY:Programme Médiathèque
DESCRIPTION:Découvrez le programme de la Médiathèque Marcel Wacheux de janvier à juin 2019.
URL:https://bruaylabuissiere.fr/event/programme-mediatheque/
LOCATION:Médiathèque Marcel Wacheux\, 82 rue du Périgord\, Bruay-La-Buissière\, 62700
CATEGORIES:Arts & Culture,Atelier,Chanson française,Concert rock,Concert soul music,Conférence,Echanges/rencontres,Enfance,Exposition,Jeunesse,Jeux vidéo,Les rototos,Les rototos - Dès 2 ans,Les rototos - Dès 3 ans,Les rototos - jusque 3 ans,Théâtre
ATTACH;FMTTYPE=image/jpeg:https://bruaylabuissiere.fr/wp-content/uploads/2018/12/2019-médiatheque-1e-sem.jpg
END:VEVENT
BEGIN:VEVENT
DTSTART;TZID=UTC:20190624T080000
DTEND;TZID=UTC:20190629T190000
DTSTAMP:20260419T183942
CREATED:20190604T105017Z
LAST-MODIFIED:20190604T110114Z
UID:15915-1561363200-1561834800@bruaylabuissiere.fr
SUMMARY:#ActSports
DESCRIPTION:UNE SEMAINE DÉDIÉE AU SPORT ! \n  \nLundi 24 • 10h/12h – 13h30/16h • Piste d’athlétisme :\ndécouverte de l’athlétisme.\nRéservée aux élèves de CP des écoles bruaysiennes. \nMardi 25 • 9h30/12h – 13h30/16h • Stade-Parc et piscine Salengro :\nfête sportive terrestre et nautique.\nRéservée aux élèves des écoles bruaysiennes. \nMercredi 26 • 9h • Stade-Parc :\nrando patrimoine.\nRepas dans le parc par le Bookkafé.\nRéservée aux seniors. \nMercredi 26 • 14h/17h • piscine Salengro :\nsport aquatique ouvert à tous\, dans le cadre des quartiers SAS « Sport\, Alimentation\, Santé ». \n Jeudi 27 • 9h30/12h – 13h30/16h • Stade-Parc et piscine Salengro :\nfête sportive terrestre et nautique.\nRéservée aux élèves des écoles bruaysiennes. \nJeudi 27 • 19h • Stade Vélodrome :\nmatch de football en hommage au docteur Décaudin.\nRéservé aux médecins et aux sportifs des sections de l’USOBL. \n Vendredi 28 • 10h/17h • Quartier du Stade-Parc :\nanimation golden block avec les écoles et collèges de Bruay-La-Buissière\, Houdain et Béthune.\nOuvert à tous. \nVendredi 28 • 19h/22h • Stade-Parc :\nmeeting national d’athlétisme.\nOuvert à tous. \n Samedi 29 • 10h/11h • Piscine Salengro :\n2 séances d’aquabiking.\nRéservées aux femmes. (15 places / séance). \nSamedi 29 • 14h/17h • Stade-Parc :\nforum des associations sportives. \nSamedi 29 • 18h/20h • Piste d’athlétisme :\ncérémonie des trophées des sports.
URL:https://bruaylabuissiere.fr/event/actsports/
CATEGORIES:Echanges/rencontres,Enfance,Exposition,Festival,Jeunesse,Séniors,sports
ATTACH;FMTTYPE=image/jpeg:https://bruaylabuissiere.fr/wp-content/uploads/2019/06/2019-Sport-ActsSports.jpg
ORGANIZER;CN="Service des sports":MAILTO:service.sports@bruaylabuissiere.fr
END:VEVENT
BEGIN:VEVENT
DTSTART;TZID=UTC:20190628T153000
DTEND;TZID=UTC:20190630T113000
DTSTAMP:20260419T183942
CREATED:20190613T140951Z
LAST-MODIFIED:20190613T141115Z
UID:15975-1561735800-1561894200@bruaylabuissiere.fr
SUMMARY:Week-end évènements culturels et sportifs
DESCRIPTION:
URL:https://bruaylabuissiere.fr/event/week-end-evenements-culturels-et-sportifs/
CATEGORIES:Arts & Culture,Cinéma,Echanges/rencontres,Enfance,Jeunesse,Séniors,sports
ATTACH;FMTTYPE=image/jpeg:https://bruaylabuissiere.fr/wp-content/uploads/2019/06/TRACTS-Odyssée-couv.jpg
END:VEVENT
END:VCALENDAR