BEGIN:VCALENDAR
VERSION:2.0
PRODID:-//Ville de Bruay-La-Buissière - ECPv6.9.1//NONSGML v1.0//EN
CALSCALE:GREGORIAN
METHOD:PUBLISH
X-ORIGINAL-URL:https://bruaylabuissiere.fr
X-WR-CALDESC:Évènements pour Ville de Bruay-La-Buissière
REFRESH-INTERVAL;VALUE=DURATION:PT1H
X-Robots-Tag:noindex
X-PUBLISHED-TTL:PT1H
BEGIN:VTIMEZONE
TZID:UTC
BEGIN:STANDARD
TZOFFSETFROM:+0000
TZOFFSETTO:+0000
TZNAME:UTC
DTSTART:20230101T000000
END:STANDARD
END:VTIMEZONE
BEGIN:VEVENT
DTSTART;TZID=UTC:20231004T153000
DTEND;TZID=UTC:20231004T163000
DTSTAMP:20260423T010748
CREATED:20230803T133321Z
LAST-MODIFIED:20230803T133321Z
UID:27441-1696433400-1696437000@bruaylabuissiere.fr
SUMMARY:L'heure du conte
DESCRIPTION:
URL:https://bruaylabuissiere.fr/event/lheure-du-conte-3/
LOCATION:Médiathèque Marcel Wacheux\, 82 rue du Périgord\, Bruay-La-Buissière\, 62700
CATEGORIES:Arts & Culture,Enfance,Jeunesse
ATTACH;FMTTYPE=image/jpeg:https://bruaylabuissiere.fr/wp-content/uploads/2023/08/2023-Mediatheque-CONTES-reseaux.jpg
END:VEVENT
BEGIN:VEVENT
DTSTART;TZID=UTC:20231025T150000
DTEND;TZID=UTC:20231025T150000
DTSTAMP:20260423T010748
CREATED:20230925T141259Z
LAST-MODIFIED:20230925T141259Z
UID:27769-1698246000-1698246000@bruaylabuissiere.fr
SUMMARY:Le pantalon de papy
DESCRIPTION:
URL:https://bruaylabuissiere.fr/event/le-pantalon-de-papy/
LOCATION:Le Temple\, 125 Rue Henri Hermant\, Bruay-La-Buissière\, 62700
CATEGORIES:Arts & Culture,Enfance,Jeunesse,Théâtre
ATTACH;FMTTYPE=image/jpeg:https://bruaylabuissiere.fr/wp-content/uploads/2023/09/PANTALON-DE-PAPY-copie.jpg
END:VEVENT
BEGIN:VEVENT
DTSTART;TZID=UTC:20231031T150000
DTEND;TZID=UTC:20231031T160000
DTSTAMP:20260423T010748
CREATED:20230803T133703Z
LAST-MODIFIED:20230803T133703Z
UID:27447-1698764400-1698768000@bruaylabuissiere.fr
SUMMARY:Spectacle de contes
DESCRIPTION:
URL:https://bruaylabuissiere.fr/event/spectacle-de-contes/
LOCATION:Médiathèque Marcel Wacheux\, 82 rue du Périgord\, Bruay-La-Buissière\, 62700
CATEGORIES:Arts & Culture,Enfance,Jeunesse
ATTACH;FMTTYPE=image/jpeg:https://bruaylabuissiere.fr/wp-content/uploads/2023/08/2023-Mediatheque-CONTES-reseaux.jpg
END:VEVENT
END:VCALENDAR