BEGIN:VCALENDAR
VERSION:2.0
PRODID:-//Ville de Bruay-La-Buissière - ECPv6.9.1//NONSGML v1.0//EN
CALSCALE:GREGORIAN
METHOD:PUBLISH
X-WR-CALNAME:Ville de Bruay-La-Buissière
X-ORIGINAL-URL:https://bruaylabuissiere.fr
X-WR-CALDESC:Évènements pour Ville de Bruay-La-Buissière
REFRESH-INTERVAL;VALUE=DURATION:PT1H
X-Robots-Tag:noindex
X-PUBLISHED-TTL:PT1H
BEGIN:VTIMEZONE
TZID:UTC
BEGIN:STANDARD
TZOFFSETFROM:+0000
TZOFFSETTO:+0000
TZNAME:UTC
DTSTART:20230101T000000
END:STANDARD
END:VTIMEZONE
BEGIN:VEVENT
DTSTART;TZID=UTC:20231108T153000
DTEND;TZID=UTC:20231108T163000
DTSTAMP:20260422T215628
CREATED:20230803T133416Z
LAST-MODIFIED:20230803T133416Z
UID:27443-1699457400-1699461000@bruaylabuissiere.fr
SUMMARY:L'heure du conte
DESCRIPTION:
URL:https://bruaylabuissiere.fr/event/lheure-du-conte-4/
LOCATION:Médiathèque Marcel Wacheux\, 82 rue du Périgord\, Bruay-La-Buissière\, 62700
CATEGORIES:Arts & Culture,Enfance,Jeunesse
ATTACH;FMTTYPE=image/jpeg:https://bruaylabuissiere.fr/wp-content/uploads/2023/08/2023-Mediatheque-CONTES-reseaux.jpg
END:VEVENT
BEGIN:VEVENT
DTSTART;TZID=UTC:20231118T090000
DTEND;TZID=UTC:20231118T180000
DTSTAMP:20260422T215628
CREATED:20231024T144743Z
LAST-MODIFIED:20231024T144743Z
UID:27990-1700298000-1700330400@bruaylabuissiere.fr
SUMMARY:Bourse aux jouets
DESCRIPTION:
URL:https://bruaylabuissiere.fr/event/bourse-aux-jouets-3/
LOCATION:salle Pasteur\, rue Vincent Auriol\, Bruay-La-Buissière\, 62700\, France
CATEGORIES:Asso,Bourse,Enfance,Jeu
ATTACH;FMTTYPE=image/png:https://bruaylabuissiere.fr/wp-content/uploads/2023/10/Purple-Minimalist-Online-Store-Toy-Shop-Invitation-Flyer-1.png
END:VEVENT
BEGIN:VEVENT
DTSTART;TZID=UTC:20231118T100000
DTEND;TZID=UTC:20231118T110000
DTSTAMP:20260422T215628
CREATED:20230803T132939Z
LAST-MODIFIED:20230803T132939Z
UID:27436-1700301600-1700305200@bruaylabuissiere.fr
SUMMARY:Ateliers des petits
DESCRIPTION:
URL:https://bruaylabuissiere.fr/event/ateliers-des-petits-3/
LOCATION:Médiathèque Marcel Wacheux\, 82 rue du Périgord\, Bruay-La-Buissière\, 62700
CATEGORIES:Arts & Culture,Atelier,Enfance
ATTACH;FMTTYPE=image/jpeg:https://bruaylabuissiere.fr/wp-content/uploads/2023/08/2023-mediatheque-ATELIERS-DES-PETITS-reseaux.jpg
END:VEVENT
BEGIN:VEVENT
DTSTART;TZID=UTC:20231122T100000
DTEND;TZID=UTC:20231122T180000
DTSTAMP:20260422T215628
CREATED:20231025T082721Z
LAST-MODIFIED:20231025T082721Z
UID:28001-1700647200-1700676000@bruaylabuissiere.fr
SUMMARY:Jeux sur le handicap
DESCRIPTION:
URL:https://bruaylabuissiere.fr/event/jeux-sur-le-handicap/
LOCATION:Médiathèque Marcel Wacheux\, 82 rue du Périgord\, Bruay-La-Buissière\, 62700
CATEGORIES:Arts & Culture,Enfance,Intergénérationnel,Jeu,Jeunesse
ATTACH;FMTTYPE=image/jpeg:https://bruaylabuissiere.fr/wp-content/uploads/2023/10/2023-mediatheque-HANDICAP.jpg
END:VEVENT
END:VCALENDAR