BEGIN:VCALENDAR
VERSION:2.0
PRODID:-//Ville de Bruay-La-Buissière - ECPv6.9.1//NONSGML v1.0//EN
CALSCALE:GREGORIAN
METHOD:PUBLISH
X-ORIGINAL-URL:https://bruaylabuissiere.fr
X-WR-CALDESC:Évènements pour Ville de Bruay-La-Buissière
REFRESH-INTERVAL;VALUE=DURATION:PT1H
X-Robots-Tag:noindex
X-PUBLISHED-TTL:PT1H
BEGIN:VTIMEZONE
TZID:UTC
BEGIN:STANDARD
TZOFFSETFROM:+0000
TZOFFSETTO:+0000
TZNAME:UTC
DTSTART:20200101T000000
END:STANDARD
END:VTIMEZONE
BEGIN:VEVENT
DTSTART;TZID=UTC:20201116T130000
DTEND;TZID=UTC:20201128T170000
DTSTAMP:20260422T113218
CREATED:20200803T141625Z
LAST-MODIFIED:20200803T141625Z
UID:19305-1605531600-1606582800@bruaylabuissiere.fr
SUMMARY:Exposition de vinyles vintage
DESCRIPTION:Temps fort « Chanson d’automne »\nHall de la médiathèque \nSélection de pochettes de disques autour du thème “ Chansons d’automne”. \nExposition ouverte en visite libre les lundi et jeudi de 14h00 à 18h00\, les mardis\, mercredis\, vendredis et samedis de 10h00 à 12h00 et de 14h00 à 18h00.
URL:https://bruaylabuissiere.fr/event/exposition-de-vinyles-vintage/
LOCATION:Médiathèque Marcel Wacheux\, 82 rue du Périgord\, Bruay-La-Buissière\, 62700
CATEGORIES:Arts & Culture,Exposition
ATTACH;FMTTYPE=image/jpeg:https://bruaylabuissiere.fr/wp-content/uploads/2020/08/Vinyles.jpg
END:VEVENT
END:VCALENDAR