BEGIN:VCALENDAR
VERSION:2.0
PRODID:-//Ville de Bruay-La-Buissière - ECPv6.9.1//NONSGML v1.0//EN
CALSCALE:GREGORIAN
METHOD:PUBLISH
X-ORIGINAL-URL:https://bruaylabuissiere.fr
X-WR-CALDESC:Évènements pour Ville de Bruay-La-Buissière
REFRESH-INTERVAL;VALUE=DURATION:PT1H
X-Robots-Tag:noindex
X-PUBLISHED-TTL:PT1H
BEGIN:VTIMEZONE
TZID:UTC
BEGIN:STANDARD
TZOFFSETFROM:+0000
TZOFFSETTO:+0000
TZNAME:UTC
DTSTART:20200101T000000
END:STANDARD
END:VTIMEZONE
BEGIN:VEVENT
DTSTART;TZID=UTC:20200916T080000
DTEND;TZID=UTC:20200926T160000
DTSTAMP:20260422T155244
CREATED:20200831T154512Z
LAST-MODIFIED:20200831T154512Z
UID:19746-1600243200-1601136000@bruaylabuissiere.fr
SUMMARY:Sculptures contemporaines
DESCRIPTION:
URL:https://bruaylabuissiere.fr/event/sculptures-contemporaines/
LOCATION:Médiathèque Marcel Wacheux\, 82 rue du Périgord\, Bruay-La-Buissière\, 62700
CATEGORIES:Arts & Culture,Exposition
ATTACH;FMTTYPE=image/jpeg:https://bruaylabuissiere.fr/wp-content/uploads/2020/08/A3-A.-Donge.jpg
END:VEVENT
BEGIN:VEVENT
DTSTART;TZID=UTC:20200916T080000
DTEND;TZID=UTC:20200930T160000
DTSTAMP:20260422T155244
CREATED:20200702T140915Z
LAST-MODIFIED:20200707T081723Z
UID:19085-1600243200-1601481600@bruaylabuissiere.fr
SUMMARY:Une belle époque
DESCRIPTION:Exposition d’art contemporain en l’honneur de Songlin Ji
URL:https://bruaylabuissiere.fr/event/une-belle-epoque/
LOCATION:Marché Fret\, Place Henri Bodelot\, Bruay-La-Buissière\, 62700
CATEGORIES:Arts & Culture,Asso,Exposition
ATTACH;FMTTYPE=image/jpeg:https://bruaylabuissiere.fr/wp-content/uploads/2020/07/2020-BLB-initiative-expo.jpg
ORGANIZER;CN="Bruay-La-Buissi%C3%A8re initiative":MAILTO:blbi@sfr.fr
END:VEVENT
END:VCALENDAR