BEGIN:VCALENDAR
VERSION:2.0
PRODID:-//Ville de Bruay-La-Buissière - ECPv6.9.1//NONSGML v1.0//EN
CALSCALE:GREGORIAN
METHOD:PUBLISH
X-WR-CALNAME:Ville de Bruay-La-Buissière
X-ORIGINAL-URL:https://bruaylabuissiere.fr
X-WR-CALDESC:Évènements pour Ville de Bruay-La-Buissière
REFRESH-INTERVAL;VALUE=DURATION:PT1H
X-Robots-Tag:noindex
X-PUBLISHED-TTL:PT1H
BEGIN:VTIMEZONE
TZID:UTC
BEGIN:STANDARD
TZOFFSETFROM:+0000
TZOFFSETTO:+0000
TZNAME:UTC
DTSTART:20210101T000000
END:STANDARD
END:VTIMEZONE
BEGIN:VEVENT
DTSTART;VALUE=DATE:20210601
DTEND;VALUE=DATE:20210706
DTSTAMP:20260420T024811
CREATED:20210517T174317Z
LAST-MODIFIED:20210517T175017Z
UID:21604-1622584800-1625522399@bruaylabuissiere.fr
SUMMARY:Les petits bonheurs
DESCRIPTION:Ce festival est organisé avec l’idée majeure de prouver que les personnes en situation de handicap\, ou en perte d’autonomie\, peuvent apporter des moments de bonheur à tous\, notamment à travers la création de gestes artistiques et d’œuvres.\nLes petits bonheurs c’est du street-art mais aussi du cirque\, de la danse\, de la musique.
URL:https://bruaylabuissiere.fr/event/les-petits-bonheurs-2/
LOCATION:Bruay La Buissière
CATEGORIES:Arts & Culture,Exposition,Festival,Intergénérationnel
ATTACH;FMTTYPE=image/jpeg:https://bruaylabuissiere.fr/wp-content/uploads/2021/05/petits-bonheurs-2021.jpg
END:VEVENT
END:VCALENDAR