BEGIN:VCALENDAR
VERSION:2.0
PRODID:-//Ville de Bruay-La-Buissière - ECPv6.9.1//NONSGML v1.0//EN
CALSCALE:GREGORIAN
METHOD:PUBLISH
X-WR-CALNAME:Ville de Bruay-La-Buissière
X-ORIGINAL-URL:https://bruaylabuissiere.fr
X-WR-CALDESC:Évènements pour Ville de Bruay-La-Buissière
REFRESH-INTERVAL;VALUE=DURATION:PT1H
X-Robots-Tag:noindex
X-PUBLISHED-TTL:PT1H
BEGIN:VTIMEZONE
TZID:UTC
BEGIN:STANDARD
TZOFFSETFROM:+0000
TZOFFSETTO:+0000
TZNAME:UTC
DTSTART:20210101T000000
END:STANDARD
END:VTIMEZONE
BEGIN:VEVENT
DTSTART;VALUE=DATE:20211128
DTEND;VALUE=DATE:20211206
DTSTAMP:20260419T164700
CREATED:20211124T165943Z
LAST-MODIFIED:20211124T165943Z
UID:22979-1638140400-1638745199@bruaylabuissiere.fr
SUMMARY:Sainte Barbe
DESCRIPTION:
URL:https://bruaylabuissiere.fr/event/sainte-barbe-2/
CATEGORIES:Arts & Culture,Asso,Cérémonie,Cinéma,Exposition
ATTACH;FMTTYPE=image/jpeg:https://bruaylabuissiere.fr/wp-content/uploads/2021/11/Affiche-sainte-barbe.jpg
END:VEVENT
BEGIN:VEVENT
DTSTART;TZID=UTC:20211129T090000
DTEND;TZID=UTC:20211205T170000
DTSTAMP:20260419T164700
CREATED:20210825T111846Z
LAST-MODIFIED:20210825T112042Z
UID:22275-1638176400-1638723600@bruaylabuissiere.fr
SUMMARY:Exposition "Expo-mines"
DESCRIPTION:Fête de la Sainte Barbe \nLa ville de Bruay-La-Buissière célèbre la Sainte Barbe du 29 novembre au 4 décembre\, entre tradition et modernité pour honorer la fierté de son histoire minière. \nLe musée de la Mine de la ville présente une sélection des objets du quotidien relatif à la vie des mineurs\, complétée par de objets personnels des anciens mineurs de Bruay-La-Buissière\, membres du musée. \nVisite libre aux horaires d’ouverture de la Médiathèque (le lundi et le jeudi de 14h à 18h ; les mardi\, mercredi\, jeudi et samedi de 10h à 12h et de 14h à 18h).
URL:https://bruaylabuissiere.fr/event/exposition-expo-mines/
LOCATION:Médiathèque Marcel Wacheux\, 82 rue du Périgord\, Bruay-La-Buissière\, 62700
CATEGORIES:Arts & Culture,Exposition
ATTACH;FMTTYPE=image/jpeg:https://bruaylabuissiere.fr/wp-content/uploads/2021/08/Expo-mines.jpg
END:VEVENT
END:VCALENDAR