BEGIN:VCALENDAR
VERSION:2.0
PRODID:-//Ville de Bruay-La-Buissière - ECPv6.9.1//NONSGML v1.0//EN
CALSCALE:GREGORIAN
METHOD:PUBLISH
X-WR-CALNAME:Ville de Bruay-La-Buissière
X-ORIGINAL-URL:https://bruaylabuissiere.fr
X-WR-CALDESC:Évènements pour Ville de Bruay-La-Buissière
REFRESH-INTERVAL;VALUE=DURATION:PT1H
X-Robots-Tag:noindex
X-PUBLISHED-TTL:PT1H
BEGIN:VTIMEZONE
TZID:UTC
BEGIN:STANDARD
TZOFFSETFROM:+0000
TZOFFSETTO:+0000
TZNAME:UTC
DTSTART:20200101T000000
END:STANDARD
END:VTIMEZONE
BEGIN:VEVENT
DTSTART;TZID=UTC:20200201T143000
DTEND;TZID=UTC:20200201T170000
DTSTAMP:20260423T023600
CREATED:20190708T153920Z
LAST-MODIFIED:20190723T160616Z
UID:16191-1580567400-1580576400@bruaylabuissiere.fr
SUMMARY:Ouverture du Festival "Les Rototos"
DESCRIPTION:Ouverture du Festival \nPrésentation de la programmation avec Goûter et animations surprises (gratuit). Suivi du film d’animation : « Zébulon le dragon » à 16h30\nTarif : 3€ \nLa diversité\, l’expérimentation et l’exigence artistiques font toujours l’objet de toute notre attention dans les choix de programmation.\nPour cette nouvelle édition nous parlerons de rencontres\, de découvertes\, d’amitiés mais aussi de danse\, de numérique\, de câlins-massages\, de couleur et d’architecture…
URL:https://bruaylabuissiere.fr/event/ouverture-du-festival-les-rototos/
LOCATION:Cinéma Les étoiles\, 102 Rue du Périgord\, Bruay-la-Buissière\, 62700
CATEGORIES:Arts & Culture,Cinéma,Enfance,Festival,Jeunesse,Les rototos
ATTACH;FMTTYPE=image/jpeg:https://bruaylabuissiere.fr/wp-content/uploads/2019/07/Rototos.jpg
END:VEVENT
BEGIN:VEVENT
DTSTART;TZID=UTC:20200205T143000
DTEND;TZID=UTC:20200205T150000
DTSTAMP:20260423T023600
CREATED:20190708T165354Z
LAST-MODIFIED:20190723T161701Z
UID:16196-1580913000-1580914800@bruaylabuissiere.fr
SUMMARY:Montagne
DESCRIPTION:L’ours est grand\, rude et puissant. La biche est petite\, gracieuse et intrépide. Ensemble\, ils parcourent la forêt…\nIl la protège\, elle comble sa solitude.\nLe puissant danseur-ours de la forêt et la délicate petite poupée-biche de la ville entament un voyage initiatique et poétique au cœur de la nature\, une aventure d’amitié des différences\, chorégraphiée par Florence Bernad et écrite par Aurélie Namur. \nAvec : Jules Leduc en alternance avec Christophe Brombin\nMise en scène : Florence Bernad \n\n\n\n\nDès 3 ans\n35 minutes\nDanse \nHors abonnement\nTP : 4€ / TR : 3€
URL:https://bruaylabuissiere.fr/event/montagne/
LOCATION:Le Temple\, 125 Rue Henri Hermant\, Bruay-La-Buissière\, 62700
CATEGORIES:Arts & Culture,Danse,Enfance,Festival,Jeunesse,Les rototos,Les rototos - Dès 3 ans,Théâtre
ATTACH;FMTTYPE=image/jpeg:https://bruaylabuissiere.fr/wp-content/uploads/2019/07/Montagne.jpg
END:VEVENT
BEGIN:VEVENT
DTSTART;TZID=UTC:20200212T130000
DTEND;TZID=UTC:20200212T133000
DTSTAMP:20260423T023600
CREATED:20190709T111826Z
LAST-MODIFIED:20190723T155613Z
UID:16217-1581512400-1581514200@bruaylabuissiere.fr
SUMMARY:Petit-Bleu & Petit-Jaune
DESCRIPTION:D’après l’œuvre de Léo Lionni \nVenez\, entrez ! Prenez place dans un monde en couleur\, un monde féerique. Embarquez pour une histoire d’amitié\, un conte bercé par la légèreté du ballon.\nPetit-Bleu aime rire\, jouer et danser. \nPetit-Jaune aime le chocolat et s’amuser avec ses copains.\nUne fois réunis\, ils sont si heureux de se retrouver qu’ils se serrent fort l’un contre l’autre. Ils se serrent si fort qu’ils deviennent… verts !\nUne fable remplie d’émotion\, où théâtre d’objets\, ombres chinoises et musique live emportent le spectateur dans une bulle de tendresse et un souf e de douceur. \nAvec: Jérôme Levrel et Pierre Soyère \n\n\n\n\nDès 6 mois \n25 minutes\nThéâtre – Musique \nHors abonnement \nTP : 4€ / TR : 3€
URL:https://bruaylabuissiere.fr/event/petit-bleu-petit-jaune/
LOCATION:Le Temple\, 125 Rue Henri Hermant\, Bruay-La-Buissière\, 62700
CATEGORIES:Arts & Culture,Enfance,Festival,Jeunesse,Les rototos,Théatre d'objets
ATTACH;FMTTYPE=image/jpeg:https://bruaylabuissiere.fr/wp-content/uploads/2019/07/Petit-bleu-petit-jaune.jpg
END:VEVENT
BEGIN:VEVENT
DTSTART;TZID=UTC:20200212T130000
DTEND;TZID=UTC:20200221T133000
DTSTAMP:20260423T023600
CREATED:20190717T092425Z
LAST-MODIFIED:20190723T161047Z
UID:16552-1581512400-1582291800@bruaylabuissiere.fr
SUMMARY:Pat et Mat en hiver
DESCRIPTION:Les aventures de deux personnages sympathiques et drôles\, Pat et Mat à travers plusieurs séries d’animation. \nÀ partir de 3 ans. \nDurée : 40 mn. \nCinéma Public Films.
URL:https://bruaylabuissiere.fr/event/pat-et-mat-en-hiver/
LOCATION:Cinéma Les étoiles\, 102 Rue du Périgord\, Bruay-la-Buissière\, 62700
CATEGORIES:Arts & Culture,Cinéma,Enfance,Festival,Jeunesse,Les rototos - Dès 3 ans
ATTACH;FMTTYPE=image/jpeg:https://bruaylabuissiere.fr/wp-content/uploads/2019/07/201-254-icietailleurs-FEMA19-HD_Page_53_Image_0001.jpg
END:VEVENT
BEGIN:VEVENT
DTSTART;TZID=UTC:20200212T143000
DTEND;TZID=UTC:20200212T150000
DTSTAMP:20260423T023600
CREATED:20190709T111950Z
LAST-MODIFIED:20190723T161143Z
UID:16220-1581517800-1581519600@bruaylabuissiere.fr
SUMMARY:Petit-Bleu & Petit-Jaune
DESCRIPTION:Cie Bonnes Intentions \n\n\n\n\nD’après l’œuvre de Léo Lionni \nVenez\, entrez ! Prenez place dans un monde en couleur\, un monde féerique. Embarquez pour une histoire d’amitié\, un conte bercé par la légèreté du ballon.\nPetit-Bleu aime rire\, jouer et danser. \nPetit-Jaune aime le chocolat et s’amuser avec ses copains.\nUne fois réunis\, ils sont si heureux de se retrouver qu’ils se serrent fort l’un contre l’autre. Ils se serrent si fort qu’ils deviennent… verts !\nUne fable remplie d’émotion\, où théâtre d’objets\, ombres chinoises et musique live emportent le spectateur dans une bulle de tendresse et un souf e de douceur. \nAvec: Jérôme Levrel et Pierre Soyère \n\n\n\n\nDès 6 mois \n25 minutes\nThéâtre – Musique \nHors abonnement \nTP : 4€ / TR : 3€
URL:https://bruaylabuissiere.fr/event/petit-bleu-petit-jaune-2/
LOCATION:Le Temple\, 125 Rue Henri Hermant\, Bruay-La-Buissière\, 62700
CATEGORIES:Arts & Culture,Enfance,Festival,Jeunesse,Les rototos,Théatre d'objets
ATTACH;FMTTYPE=image/jpeg:https://bruaylabuissiere.fr/wp-content/uploads/2019/07/Petit-bleu-petit-jaune.jpg
END:VEVENT
BEGIN:VEVENT
DTSTART;TZID=UTC:20200215T083000
DTEND;TZID=UTC:20200215T090000
DTSTAMP:20260423T023600
CREATED:20190709T112926Z
LAST-MODIFIED:20190723T161348Z
UID:16225-1581755400-1581757200@bruaylabuissiere.fr
SUMMARY:I Glu
DESCRIPTION:Collectif A.A.O \nUn mystérieux dôme\, appelé « I-GLU »\, un habitat doux et paisible propice aux éclosions et germinations de toute sorte.\nPeut-être un abri ? Une tanière ? Un bivouac ? A moins qu’il ne s’agisse d’un paysage en devenir ? \nUn jardin assoupi dans lequel un épouvantail vacillant se rêve à danser\, sous la bienveillante présence d’un hérisson-buisson ?\nUne invitation à un voyage épanouissant et merveilleux sur les chemins de la croissance et du développement des jeunes pousses\, qu’elles soient végétales ou bien faites d’un tout autre bois. \nArtistes : Stéphane Fratti ou Rémi Leblanc-Messager\, Hugot Dayot Images et vidéos : Carole Vergnes\, Hugot Dayot et Bastien Capela \n\n\n\n\nDès 3 ans\n40 minutes\nDanse \nHors abonnement \n\n\n\n\nTP : 4€ / TR : 3€
URL:https://bruaylabuissiere.fr/event/i-glu/
LOCATION:Espace Culturel Grossemy\, Cours Kennedy\, Bruay-La-Buissière\, 62700
CATEGORIES:Arts & Culture,Danse,Enfance,Festival,Jeunesse,Les rototos - Dès 3 ans
ATTACH;FMTTYPE=image/jpeg:https://bruaylabuissiere.fr/wp-content/uploads/2019/07/I-Glu.jpg
END:VEVENT
BEGIN:VEVENT
DTSTART;TZID=UTC:20200215T100000
DTEND;TZID=UTC:20200215T103000
DTSTAMP:20260423T023600
CREATED:20190709T113402Z
LAST-MODIFIED:20190723T161328Z
UID:16228-1581760800-1581762600@bruaylabuissiere.fr
SUMMARY:I Glu
DESCRIPTION:Collectif A.A.O \nUn mystérieux dôme\, appelé « I-GLU »\, un habitat doux et paisible propice aux éclosions et germinations de toute sorte.\nPeut-être un abri ? Une tanière ? Un bivouac ? A moins qu’il ne s’agisse d’un paysage en devenir ? \nUn jardin assoupi dans lequel un épouvantail vacillant se rêve à danser\, sous la bienveillante présence d’un hérisson-buisson ?\nUne invitation à un voyage épanouissant et merveilleux sur les chemins de la croissance et du développement des jeunes pousses\, qu’elles soient végétales ou bien faites d’un tout autre bois. \nArtistes : Stéphane Fratti ou Rémi Leblanc-Messager\, Hugot Dayot Images et vidéos : Carole Vergnes\, Hugot Dayot et Bastien Capela \n\n\n\n\nDès 3 ans\n40 minutes\nDanse \nHors abonnement \n\n\n\n\nTP : 4€ / TR : 3€
URL:https://bruaylabuissiere.fr/event/i-glu-2/
LOCATION:Espace Culturel Grossemy\, Cours Kennedy\, Bruay-La-Buissière\, 62700
CATEGORIES:Arts & Culture,Danse,Enfance,Festival,Jeunesse,Les rototos - Dès 3 ans
ATTACH;FMTTYPE=image/jpeg:https://bruaylabuissiere.fr/wp-content/uploads/2019/07/I-Glu.jpg
END:VEVENT
BEGIN:VEVENT
DTSTART;TZID=UTC:20200219T090000
DTEND;TZID=UTC:20200219T100000
DTSTAMP:20260423T023600
CREATED:20190709T115713Z
LAST-MODIFIED:20190723T161421Z
UID:16230-1582102800-1582106400@bruaylabuissiere.fr
SUMMARY:Le Grand Saut
DESCRIPTION:Cie l’Ineffable \n\n\n\n\nDeux femmes\, Piau et Caboche invitent les enfants à s’échauffer avec elles avant de partir pour une mission d’exploration. Une exploration particulière car elles veulent découvrir le monde des émotions.\nCe spectacle part à la découverte des émotions pour tenter de les apprivoiser. \nComment les reconnaître ? Comment exprimer ce que je ressens ? Un éveil théâtral autour de la musicalité et de la perception… \nMise en scène : Marion Laboulais\nAvec: Chloé André et Anne Freches\, Mathias Fedou\, distribution en cours…\nCréation musicale : Mathias Fedou\nCréation lumières : Vincent Loubière \n\n\n\n\nDès 3 ans \n50 minutes\nJeu\, chant et musique\nHors abonnement \nTP : 4€ / TR : 3€
URL:https://bruaylabuissiere.fr/event/le-grand-saut/
LOCATION:Le Temple\, 125 Rue Henri Hermant\, Bruay-La-Buissière\, 62700
CATEGORIES:Arts & Culture,Enfance,Festival,Jeunesse,Les rototos,Les rototos - Dès 3 ans,Théâtre
ATTACH;FMTTYPE=image/jpeg:https://bruaylabuissiere.fr/wp-content/uploads/2019/07/Le-Grand-Saut.jpg
END:VEVENT
BEGIN:VEVENT
DTSTART;TZID=UTC:20200219T140000
DTEND;TZID=UTC:20200219T150000
DTSTAMP:20260423T023600
CREATED:20190709T115829Z
LAST-MODIFIED:20190723T161441Z
UID:16234-1582120800-1582124400@bruaylabuissiere.fr
SUMMARY:Le Grand Saut
DESCRIPTION:Cie l’Ineffable \n\n\n\n\nDeux femmes\, Piau et Caboche invitent les enfants à s’échauffer avec elles avant de partir pour une mission d’exploration. Une exploration particulière car elles veulent découvrir le monde des émotions.\nCe spectacle part à la découverte des émotions pour tenter de les apprivoiser. \nComment les reconnaître ? Comment exprimer ce que je ressens ? Un éveil théâtral autour de la musicalité et de la perception… \nMise en scène : Marion Laboulais\nAvec: Chloé André et Anne Freches\, Mathias Fedou\, distribution en cours…\nCréation musicale : Mathias Fedou\nCréation lumières : Vincent Loubière \n\n\n\n\nDès 3 ans \n50 minutes\nJeu\, chant et musique\nHors abonnement \nTP : 4€ / TR : 3€
URL:https://bruaylabuissiere.fr/event/le-grand-saut-2/
LOCATION:Le Temple\, 125 Rue Henri Hermant\, Bruay-La-Buissière\, 62700
CATEGORIES:Arts & Culture,Enfance,Festival,Jeunesse,Les rototos,Les rototos - Dès 3 ans,Théâtre
ATTACH;FMTTYPE=image/jpeg:https://bruaylabuissiere.fr/wp-content/uploads/2019/07/Le-Grand-Saut.jpg
END:VEVENT
BEGIN:VEVENT
DTSTART;TZID=UTC:20200221T083000
DTEND;TZID=UTC:20200221T090000
DTSTAMP:20260423T023600
CREATED:20190709T140405Z
LAST-MODIFIED:20190723T161527Z
UID:16241-1582273800-1582275600@bruaylabuissiere.fr
SUMMARY:Toutouig La La
DESCRIPTION:Armada Productions \n\n\n\n\nDu nom d’une berceuse bien connue en Bretagne\, « Toutouig La La »\, se veut être une bulle de douceur\, un instant de communion entre le bébé et ses parents\, suspendu du temps.\nAllongés dans un nid douillet\, sous les ombrelles et les mobiles\, baignés d’une douce lumière et des images projetées\, parents et enfants se laissent aller et bercer\, pendant près d’une demi-heure. Sur l’espace moelleux\, chacun fait ce qu’il veut. Ainsi on peut se câliner\, fermer les yeux\, somnoler\, rêver… mais aussi s’agiter\, écouter ou même bouger un peu. La sieste n’est pas loin… \n\n\n\n\nAvec : Patrice Elegoët (scie musicale)\, Bertrand Pennetier (jukulélé)\, Tangi Simon (flûte traversière)\nPrix Adami « Talents Musique Jeune Public » 2015 \n\n\n\n\nDe 0 à 2 ans\n30 minutes\nMusique et Son \nHors abonnement \nTP : 4€ / TR : 3€
URL:https://bruaylabuissiere.fr/event/toutouig-la-la-2/
LOCATION:Le Temple\, 125 Rue Henri Hermant\, Bruay-La-Buissière\, 62700
CATEGORIES:Arts & Culture,Enfance,Festival,Jeunesse,Les rototos,Les rototos - jusque 3 ans,Théâtre
ATTACH;FMTTYPE=image/jpeg:https://bruaylabuissiere.fr/wp-content/uploads/2019/07/Toutouig-La-La.jpg
END:VEVENT
BEGIN:VEVENT
DTSTART;TZID=UTC:20200221T100000
DTEND;TZID=UTC:20200221T103000
DTSTAMP:20260423T023600
CREATED:20190709T143559Z
LAST-MODIFIED:20190723T161543Z
UID:16243-1582279200-1582281000@bruaylabuissiere.fr
SUMMARY:Toutouig La La
DESCRIPTION:Armada Productions \n\n\n\n\nDu nom d’une berceuse bien connue en Bretagne\, « Toutouig La La »\, se veut être une bulle de douceur\, un instant de communion entre le bébé et ses parents\, suspendu du temps.\nAllongés dans un nid douillet\, sous les ombrelles et les mobiles\, baignés d’une douce lumière et des images projetées\, parents et enfants se laissent aller et bercer\, pendant près d’une demi-heure. Sur l’espace moelleux\, chacun fait ce qu’il veut. Ainsi on peut se câliner\, fermer les yeux\, somnoler\, rêver… mais aussi s’agiter\, écouter ou même bouger un peu. La sieste n’est pas loin… \n\n\n\n\nAvec : Patrice Elegoët (scie musicale)\, Bertrand Pennetier (jukulélé)\, Tangi Simon (flûte traversière)\nPrix Adami « Talents Musique Jeune Public » 2015 \n\n\n\n\nDe 0 à 2 ans\n30 minutes\nMusique et Son \nHors abonnement \nTP : 4€ / TR : 3€
URL:https://bruaylabuissiere.fr/event/toutouig-la-la-3/
CATEGORIES:Arts & Culture,Enfance,Festival,Jeunesse,Les rototos,Les rototos - jusque 3 ans,Théâtre
ATTACH;FMTTYPE=image/jpeg:https://bruaylabuissiere.fr/wp-content/uploads/2019/07/Toutouig-La-La-1.jpg
END:VEVENT
BEGIN:VEVENT
DTSTART;TZID=UTC:20200221T140000
DTEND;TZID=UTC:20200221T143000
DTSTAMP:20260423T023600
CREATED:20190709T140211Z
LAST-MODIFIED:20190723T161609Z
UID:16238-1582293600-1582295400@bruaylabuissiere.fr
SUMMARY:Toutouig La La
DESCRIPTION:Armada Productions \n\n\n\n\nDu nom d’une berceuse bien connue en Bretagne\, « Toutouig La La »\, se veut être une bulle de douceur\, un instant de communion entre le bébé et ses parents\, suspendu du temps.\nAllongés dans un nid douillet\, sous les ombrelles et les mobiles\, baignés d’une douce lumière et des images projetées\, parents et enfants se laissent aller et bercer\, pendant près d’une demi-heure. Sur l’espace moelleux\, chacun fait ce qu’il veut. Ainsi on peut se câliner\, fermer les yeux\, somnoler\, rêver… mais aussi s’agiter\, écouter ou même bouger un peu. La sieste n’est pas loin… \n\n\n\n\nAvec : Patrice Elegoët (scie musicale)\, Bertrand Pennetier (jukulélé)\, Tangi Simon (flûte traversière)\nPrix Adami « Talents Musique Jeune Public » 2015 \n\n\n\n\nDe 0 à 2 ans\n30 minutes\nMusique et Son \nHors abonnement \nTP : 4€ / TR : 3€
URL:https://bruaylabuissiere.fr/event/toutouig-la-la/
LOCATION:Le Temple\, 125 Rue Henri Hermant\, Bruay-La-Buissière\, 62700
CATEGORIES:Arts & Culture,Enfance,Festival,Jeunesse,Les rototos,Les rototos - jusque 3 ans,Théâtre
ATTACH;FMTTYPE=image/jpeg:https://bruaylabuissiere.fr/wp-content/uploads/2019/07/Toutouig-La-La.jpg
END:VEVENT
END:VCALENDAR