BEGIN:VCALENDAR
VERSION:2.0
PRODID:-//Ville de Bruay-La-Buissière - ECPv6.9.1//NONSGML v1.0//EN
CALSCALE:GREGORIAN
METHOD:PUBLISH
X-WR-CALNAME:Ville de Bruay-La-Buissière
X-ORIGINAL-URL:https://bruaylabuissiere.fr
X-WR-CALDESC:Évènements pour Ville de Bruay-La-Buissière
REFRESH-INTERVAL;VALUE=DURATION:PT1H
X-Robots-Tag:noindex
X-PUBLISHED-TTL:PT1H
BEGIN:VTIMEZONE
TZID:UTC
BEGIN:STANDARD
TZOFFSETFROM:+0000
TZOFFSETTO:+0000
TZNAME:UTC
DTSTART:20210101T000000
END:STANDARD
END:VTIMEZONE
BEGIN:VEVENT
DTSTART;TZID=UTC:20210203T080000
DTEND;TZID=UTC:20210223T170000
DTSTAMP:20260420T064644
CREATED:20200804T115731Z
LAST-MODIFIED:20200804T115918Z
UID:19398-1612339200-1614099600@bruaylabuissiere.fr
SUMMARY:L'odysée de Choum
DESCRIPTION:Festival Les Rototos\nCourts métrages \nChoum\, la petite chouette vient juste d’éclore lorsque la tempête la pousse hors du nid.\nFaisant rouler le second oeuf de la nichée\, la voilà qui s’élance contre vents et marées\, bien décidée à trouver une maman… \n Durée : 38 minutes \nLes films du Préau\n+ 3 ans\nTarif : 3€
URL:https://bruaylabuissiere.fr/event/lodysee-de-choum/
LOCATION:Cinéma Les étoiles\, 102 Rue du Périgord\, Bruay-la-Buissière\, 62700
CATEGORIES:Arts & Culture,Cinéma,Enfance,Festival,Les rototos,Les rototos - Dès 3 ans
ATTACH;FMTTYPE=image/jpeg:https://bruaylabuissiere.fr/wp-content/uploads/2020/08/LOdysée-de-Choum.jpg
END:VEVENT
BEGIN:VEVENT
DTSTART;TZID=UTC:20210206T090000
DTEND;TZID=UTC:20210227T170000
DTSTAMP:20260420T064644
CREATED:20200804T090719Z
LAST-MODIFIED:20200804T090719Z
UID:19362-1612602000-1614445200@bruaylabuissiere.fr
SUMMARY:Tic-Tac temps
DESCRIPTION:Festival Les Rototos\nEXPOSITION – FORUM DÉPARTEMENTAL DES SCIENCES – VILLENEUVE D’ASCQ \n« Mets vite ton manteau ! Dépêche-toi ! on va être en retard. J’arrive dans deux minutes ! … ». L’évaluation du temps a une grande importance dans de nombreuses relations que l’enfant entretient avec son environnement. Lui permettre de construire une représentation de la notion du temps et d’appréhender ses repères\, voilà les objectifs de cette exposition. \nChaque petit visiteur pourra arpenter 4 îlots où chaque thème est abordé à travers un ou plusieurs modules manipulatoires et pourra découvrir l’année et les saisons\, la journée et la montre\, l’écoute du temps\, les signes du temps\, la vitesse\, la durée et la course avec le temps… \nLa démarche de cette exposition est interactive\, avec un accès facile au contenu. Et parce que tous les chemins mènent aux expériences\, les enfants sont libres de leurs mouvements pour les inciter à prendre toutes les initiatives qui leur plaisent. \nÀ partir de 3 ans. Entrée libre aux horaires de la Médiathèque.\nRéservation de créneau obligatoire pour les groupes.\nInformations et réservations au 03 21 61 81 94
URL:https://bruaylabuissiere.fr/event/tic-tac-temps/
LOCATION:Médiathèque Marcel Wacheux\, 82 rue du Périgord\, Bruay-La-Buissière\, 62700
CATEGORIES:Arts & Culture,Enfance,Exposition,Festival,Jeunesse,Les rototos - Dès 3 ans
ATTACH;FMTTYPE=image/jpeg:https://bruaylabuissiere.fr/wp-content/uploads/2020/08/tic-tac-temps.jpg
END:VEVENT
BEGIN:VEVENT
DTSTART;TZID=UTC:20210206T143000
DTEND;TZID=UTC:20210206T143000
DTSTAMP:20260420T064644
CREATED:20200804T085806Z
LAST-MODIFIED:20200804T085806Z
UID:19359-1612621800-1612621800@bruaylabuissiere.fr
SUMMARY:Le bal miniature
DESCRIPTION:Festival Les Rototos > Inauguration\nAssociation Mandarine \nLe Bal Miniatures propose des chansons spécifiquement composées pour faire danser les tout-petits avec les adultes qui les accompagnent\, les mouvements sont simples (évolutions plus ou moins rapides\, sauts…)\, les rythmes lents\, les thèmes proches de l’imaginaire ou du quotidien de leur âge (animaux\, ponts\, trains…). \nLes musiques se font également douce : 2 ou 3 musiciens viennent chatouiller les oreilles des tout-petits avec guitare\, violon\, piano ou accordéon\, et\, tous ensemble\, on chante\, on danse\, on joue… \nDès 2 ans\n30 min\nBal pour enfants \nHors abonnement\nTP : 4€ / TR : 3€
URL:https://bruaylabuissiere.fr/event/le-bal-miniature/
LOCATION:Le Temple\, 125 Rue Henri Hermant\, Bruay-La-Buissière\, 62700
CATEGORIES:Arts & Culture,Danse,Enfance,Festival,Jeunesse,Les rototos,Les rototos - Dès 2 ans
ATTACH;FMTTYPE=image/jpeg:https://bruaylabuissiere.fr/wp-content/uploads/2020/08/Le-bal-miniature.jpg
END:VEVENT
BEGIN:VEVENT
DTSTART;TZID=UTC:20210210T093000
DTEND;TZID=UTC:20210210T093000
DTSTAMP:20260420T064644
CREATED:20200804T091824Z
LAST-MODIFIED:20200804T091824Z
UID:19365-1612949400-1612949400@bruaylabuissiere.fr
SUMMARY:L'heure du conte
DESCRIPTION:Festival Les Rototos \nLecture de contes sur le temps par Christine Charpentier de la Compagnie Rocambole. \nPour les enfants de 0 à 5 ans \nInformations et réservations au 03 21 61 81 94
URL:https://bruaylabuissiere.fr/event/lheure-du-conte/
LOCATION:Médiathèque Marcel Wacheux\, 82 rue du Périgord\, Bruay-La-Buissière\, 62700
CATEGORIES:Arts & Culture,Enfance,Festival,Jeunesse,Les rototos
ATTACH;FMTTYPE=image/jpeg:https://bruaylabuissiere.fr/wp-content/uploads/2020/08/Heure-du-conte.jpg
END:VEVENT
BEGIN:VEVENT
DTSTART;TZID=UTC:20210210T143000
DTEND;TZID=UTC:20210210T143000
DTSTAMP:20260420T064644
CREATED:20200804T104717Z
LAST-MODIFIED:20200804T104717Z
UID:19378-1612967400-1612967400@bruaylabuissiere.fr
SUMMARY:Où es-tu lune ?
DESCRIPTION:Festival Les Rototos\nCie minibox \nUn secret fait le tour de la terre\, traverse les collines\, les rivières\, jusqu’à nos oreilles : nous avons perdu la Lune ! \nUn long et périlleux voyage commence où les films animés de la cinéaste coréenne Mi-Young Baek entraînent les tout-petits vers des contrées pastel et où se côtoient poissons volants\, fleurs géantes\, cowboys et papillons.\nLa musique court\, gronde\, souffle jusqu’à nous emporter dans une grande douceur. Les chansons sont des petits trésors de fragilité et de douce mélancolie. \nUn spectacle délicat et onirique pour maintenir l’attention de l’enfant et aiguiser son sens de la musicalité. \nEsthétique sonore\, musique et texte : Benjamin Coursier et Shantal Dayan\nFilm d’animation : Mi Young Baek \nDès 3 ans\n45 min\nSpectacle musical et film d’animation \nHors abonnement\nTP : 4€ / TR : 3€
URL:https://bruaylabuissiere.fr/event/ou-es-tu-lune/
LOCATION:Le Temple\, 125 Rue Henri Hermant\, Bruay-La-Buissière\, 62700
CATEGORIES:Arts & Culture,Enfance,Festival,Les rototos,Les rototos - Dès 3 ans
ATTACH;FMTTYPE=image/jpeg:https://bruaylabuissiere.fr/wp-content/uploads/2020/08/Lune.jpg
END:VEVENT
BEGIN:VEVENT
DTSTART;TZID=UTC:20210213T150000
DTEND;TZID=UTC:20210213T150000
DTSTAMP:20260420T064644
CREATED:20200804T140400Z
LAST-MODIFIED:20200804T144410Z
UID:19403-1613228400-1613228400@bruaylabuissiere.fr
SUMMARY:Ciné doudou : les ours gloutons
DESCRIPTION:Festival Les Rototos\nCourts métrages de A. Hetmerova et K. Karhankova \nL’un des deux est bien en chair alors que l’autre est tout menu… Nico et Mika ne sont pas n’importe quels ours. Ces deux-là sont très amis\, vivant dans une confortable maison au milieu de la forêt… Après la projection\, l’association Cellofan’ propose une animation autour du Stop Motion. Un goûter 100% BIO sera offert à chaque spectateur. \nDurée : 45 minutes \n Gebeka Films \n+ 3 ans\nTarif : 3€
URL:https://bruaylabuissiere.fr/event/cine-doudou-les-ours-gloutons/
LOCATION:Cinéma Les étoiles\, 102 Rue du Périgord\, Bruay-la-Buissière\, 62700
CATEGORIES:Arts & Culture,Cinéma,Enfance,Festival,Les rototos,Les rototos - Dès 3 ans
ATTACH;FMTTYPE=image/jpeg:https://bruaylabuissiere.fr/wp-content/uploads/2020/08/Les-ours-glouton.jpg
END:VEVENT
BEGIN:VEVENT
DTSTART;TZID=UTC:20210215T090000
DTEND;TZID=UTC:20210224T150000
DTSTAMP:20260420T064644
CREATED:20200804T102618Z
LAST-MODIFIED:20200804T102618Z
UID:19374-1613379600-1614178800@bruaylabuissiere.fr
SUMMARY:Les Rototos à la Cité des Électriciens
DESCRIPTION:Festival Les Rototos \nAtelier « terre noire » : Briques ROUGES\, ciel BLEU\, terre NOIRE\, citron JAUNE\, feuilles VERTES…\nUn atelier haut en couleurs\, imaginé et conçu spécifiquement pour les tout-petits afin de partir à la découverte de la terre noire ! \nPour les individuels : Mercredis 17 et 24 février : 10h30 et 16h00\nJauge : 10 enfants (1 accompagnateur max / enfant) – Durée : 1h – 2 à 5 ans – 3€ / enfant\nSur réservation à l’accueil de la Cité des Électriciens : 03 21 01 94 20 \nPour les structures de la petite enfance (RAM\, crèche / Pas de scolaires)\nCréneaux disponibles le lundi 15\, mardi 16\, jeudi 18 et vendredi 19 février\, à 10h30 et 16h00\nDurée : 1h – 2 à 5 ans – 3€ / enfant\nSur réservation à l’accueil de la Cité des Électriciens : 03 21 01 94 20
URL:https://bruaylabuissiere.fr/event/les-rototos-a-la-cite-des-electriciens/
LOCATION:Cité des Électriciens\, Rue Franklin\, Bruay-La-Buissière\, 62700
CATEGORIES:Atelier,Enfance,Festival,Les rototos,Les rototos - Dès 2 ans
ATTACH;FMTTYPE=image/jpeg:https://bruaylabuissiere.fr/wp-content/uploads/2020/08/Rototos-Cité-Electriciens.jpg
END:VEVENT
BEGIN:VEVENT
DTSTART;TZID=UTC:20210217T143000
DTEND;TZID=UTC:20210217T143000
DTSTAMP:20260420T064644
CREATED:20200804T113240Z
LAST-MODIFIED:20200804T113321Z
UID:19388-1613572200-1613572200@bruaylabuissiere.fr
SUMMARY:Anima
DESCRIPTION:Festival Les Rototos\nCie du Porte-voix \nAnimA questionne notre humanité à travers des images poétiques évoquant la naissance de la vie\, du monde aquatique au monde aérien. \nVoix\, couleurs\, rythmes… Les battements de coeur\, pulsations primitives du flux de nos vies nous embarquent pour un voyage entre végétal et animal sur une arche aux voiles ailées. \nVoix\, rythmes et corps en mouvement\, petits et grands seront embarqués pour une balade poétique au gré du vent. \nEcriture et interprétation : Florian Allaire et Florence Goguel\nConception : Florence Goguel \nDès 6 mois\n35 min\nThéâtre \nHors abonnement\nTP : 4€ / TR : 3€
URL:https://bruaylabuissiere.fr/event/anima/
LOCATION:Le Temple\, 125 Rue Henri Hermant\, Bruay-La-Buissière\, 62700
CATEGORIES:Arts & Culture,Enfance,Festival,Les rototos,Théâtre
ATTACH;FMTTYPE=image/jpeg:https://bruaylabuissiere.fr/wp-content/uploads/2020/08/Anima.jpg
END:VEVENT
BEGIN:VEVENT
DTSTART;TZID=UTC:20210220T093000
DTEND;TZID=UTC:20210220T093000
DTSTAMP:20260420T064644
CREATED:20200804T114128Z
LAST-MODIFIED:20200804T114128Z
UID:19392-1613813400-1613813400@bruaylabuissiere.fr
SUMMARY:Les yeux de Taqqi
DESCRIPTION:Festival Les Rototos\nPaname Pilotis \nTaqqi\, petit Inuit aveugle “veut voir\, veut savoir\, veut pouvoir”.\nIl entreprend un voyage initiatique traversant les paysages aussi gelés qu’étincelants du Groenland. En quête du monde et du royaume des Grands\, entre rêve et réalité\, Taqqi nous emporte dans un tourbillon d’humanité. \nLa musique\, les marionnettes et les lumières nous plongent avec beaucoup de poésie et d’authenticité dans les pas de notre jeune explorateur. \nInterprétation\, manipulation : Anaël Guez\, Nadja Maire ou Camille Blouet\, Sarah Vermande ou Cédric Revollon\nScénographie : Sandrine Lamblin \nDès 4 ans\n45 mn\nMarionnettes \nHors abonnement\nTP : 4€ / TR : 3€
URL:https://bruaylabuissiere.fr/event/les-yeux-de-taqqi/
LOCATION:Le Temple\, 125 Rue Henri Hermant\, Bruay-La-Buissière\, 62700
CATEGORIES:Arts & Culture,Enfance,Festival,Les rototos,Marionnettes
ATTACH;FMTTYPE=image/jpeg:https://bruaylabuissiere.fr/wp-content/uploads/2020/08/Taqqi.jpg
END:VEVENT
BEGIN:VEVENT
DTSTART;TZID=UTC:20210220T143000
DTEND;TZID=UTC:20210220T143000
DTSTAMP:20260420T064644
CREATED:20200804T092555Z
LAST-MODIFIED:20200804T092555Z
UID:19368-1613831400-1613831400@bruaylabuissiere.fr
SUMMARY:Les Rototos créatifs
DESCRIPTION:Festival Les Rototos \nAtelier « construction d’une marionnette-oiseau » en lien avec le spectacle « Les yeux de Taqqi » compagnie Paname Pilotis. \nDès 3 ans\, 1 enfant accompagné d’un parent.\nGratuit sur réservation au 03 59 41 34 00
URL:https://bruaylabuissiere.fr/event/les-rototos-creatifs/
LOCATION:Médiathèque Marcel Wacheux\, 82 rue du Périgord\, Bruay-La-Buissière\, 62700
CATEGORIES:Arts & Culture,Atelier,Enfance,Festival,Jeunesse,Les rototos,Les rototos - Dès 3 ans
ATTACH;FMTTYPE=image/jpeg:https://bruaylabuissiere.fr/wp-content/uploads/2020/08/Rototos-créatifs.jpg
END:VEVENT
BEGIN:VEVENT
DTSTART;TZID=UTC:20210223T140000
DTEND;TZID=UTC:20210227T090000
DTSTAMP:20260420T064644
CREATED:20200804T093952Z
LAST-MODIFIED:20200804T093952Z
UID:19371-1614088800-1614416400@bruaylabuissiere.fr
SUMMARY:Les Rototos potiers
DESCRIPTION:Festival Les Rototos \nMardi 23 février à 15h00\nVendredi 26 février à 10h00\nSamedi 27 février à 10h00 \nAtelier « argile » dès 3 ans\, parent-enfant\nGratuit sur réservation au 03 59 41 34 00
URL:https://bruaylabuissiere.fr/event/les-rototos-potiers/
LOCATION:Médiathèque Marcel Wacheux\, 82 rue du Périgord\, Bruay-La-Buissière\, 62700
CATEGORIES:Arts & Culture,Atelier,Enfance,Festival,Les rototos,Les rototos - Dès 3 ans
ATTACH;FMTTYPE=image/jpeg:https://bruaylabuissiere.fr/wp-content/uploads/2020/08/poterie.jpg
END:VEVENT
BEGIN:VEVENT
DTSTART;TZID=UTC:20210224T090000
DTEND;TZID=UTC:20210225T143000
DTSTAMP:20260420T064644
CREATED:20200804T115141Z
LAST-MODIFIED:20200804T115141Z
UID:19395-1614157200-1614263400@bruaylabuissiere.fr
SUMMARY:Twinkle
DESCRIPTION:Festival Les Rototos\nCie Lunatic \nTwinkle est à la fois un spectacle et une installation immersive\, ludique et participative pour les jeunes enfants de la naissance jusqu’à trois ans et aussi pour les adultes qui les accompagnent. \nUne danseuse aérienne\, une chanteuse et une percussionniste nous emmènent dans un univers visuel et sonore qui évoque nos relations rêvées aux étoiles\, au soleil et à la lune. \nCréation collective : Chloé Cassagnes (univers plastique et regard extérieur)\, Sika Gblondoumé et Olivier Lerat (composition)\, Cécile Mont-Reynaud (conception)\nScénographie : Gilles Fer \nDe la naissance à 3 ans\n40 min\nInstallation \nHors abonnement\nTP : 4€ / TR : 3€
URL:https://bruaylabuissiere.fr/event/twinkle/
LOCATION:Le Temple\, 125 Rue Henri Hermant\, Bruay-La-Buissière\, 62700
CATEGORIES:Arts & Culture,Enfance,Festival,Les rototos,Les rototos - Dès 3 ans
ATTACH;FMTTYPE=image/jpeg:https://bruaylabuissiere.fr/wp-content/uploads/2020/08/Twinkle.jpg
END:VEVENT
BEGIN:VEVENT
DTSTART;TZID=UTC:20210228T150000
DTEND;TZID=UTC:20210228T150000
DTSTAMP:20260420T064644
CREATED:20200804T144235Z
LAST-MODIFIED:20200804T144235Z
UID:19406-1614524400-1614524400@bruaylabuissiere.fr
SUMMARY:Ciné-spectacle : les mal aimés
DESCRIPTION:Festival Les Rototos > Clôture\nCourts métrages d’Hélène Ducrocq \nNotre planète regorge de vie et il nous appartient de la sauvegarder. Mais cette protection peut-elle exister ou être efficace alors même que nous ignorons le rôle et le fonctionnement de la plupart des espèces\, ou pire\, que certaines nous font peur ?\nCe programme de 4 courts métrages montre avec douceur et tendresse l’univers de certains de ces « mal-aimés ». \nEn présence de la Compagnie De fils et d’os \nDurée : 40 minutes \nCinéma Public Films \n+ 3 ans\nTarif : 3€
URL:https://bruaylabuissiere.fr/event/cine-spectacle-les-mal-aimes/
LOCATION:Cinéma Les étoiles\, 102 Rue du Périgord\, Bruay-la-Buissière\, 62700
CATEGORIES:Arts & Culture,Cinéma,Enfance,Festival,Les rototos,Les rototos - Dès 3 ans
ATTACH;FMTTYPE=image/jpeg:https://bruaylabuissiere.fr/wp-content/uploads/2020/08/les-mal-aimés.jpg
END:VEVENT
END:VCALENDAR