BEGIN:VCALENDAR
VERSION:2.0
PRODID:-//Ville de Bruay-La-Buissière - ECPv6.9.1//NONSGML v1.0//EN
CALSCALE:GREGORIAN
METHOD:PUBLISH
X-WR-CALNAME:Ville de Bruay-La-Buissière
X-ORIGINAL-URL:https://bruaylabuissiere.fr
X-WR-CALDESC:Évènements pour Ville de Bruay-La-Buissière
REFRESH-INTERVAL;VALUE=DURATION:PT1H
X-Robots-Tag:noindex
X-PUBLISHED-TTL:PT1H
BEGIN:VTIMEZONE
TZID:UTC
BEGIN:STANDARD
TZOFFSETFROM:+0000
TZOFFSETTO:+0000
TZNAME:UTC
DTSTART:20180101T000000
END:STANDARD
END:VTIMEZONE
BEGIN:VEVENT
DTSTART;VALUE=DATE:20181113
DTEND;VALUE=DATE:20181128
DTSTAMP:20260424T070144
CREATED:20180904T143729Z
LAST-MODIFIED:20180904T143807Z
UID:12878-1542150000-1543359599@bruaylabuissiere.fr
SUMMARY:Festival un autre regard : Un jour ça ira
DESCRIPTION:DE STAN ET EDOUARD ZAMBEAUX  \nDjibi et Ange\,  deux adolescents à la rue\, arrivent   à l’Archipel\, un centre d’hébergement d’urgence au cœur de Paris. Ils y affrontent des vents mau- vais\, des vents contraires\, mais ils cherchent sans relâche le souffle d’air qui les emmènera ailleurs. Et c’est avec l’écriture et le chant qu’ils s’en- volent… et nous emportent. Une plongée au cœur de l’Archipel\, un centre qui propose une façon innovante d’accueillir les familles à la rue. \nTarif De 3\,50€ à 6€
URL:https://bruaylabuissiere.fr/event/festival-un-autre-regard-un-jour-ca-ira/
LOCATION:Cinéma Les étoiles\, 102 Rue du Périgord\, Bruay-la-Buissière\, 62700
CATEGORIES:Arts & Culture,Cinéma,Festival
ATTACH;FMTTYPE=image/jpeg:https://bruaylabuissiere.fr/wp-content/uploads/2018/09/un-jour-ça-ira.jpg
END:VEVENT
BEGIN:VEVENT
DTSTART;VALUE=DATE:20181114
DTEND;VALUE=DATE:20181201
DTSTAMP:20260424T070144
CREATED:20180904T142746Z
LAST-MODIFIED:20180904T142746Z
UID:12875-1542236400-1543618799@bruaylabuissiere.fr
SUMMARY:Expositions : Immigrations\, objets trouvés\, objets perdus
DESCRIPTION:Festival « un autre regard » \nImmigrations\, du XIXème siècle à nos jours\, en France\nMÉDIATHÈQUE \nDans les faits\, un français sur quatre a un parent  ou un grand-parent immigré. Avec cette exposi- tion\, vous allez découvrir ou redécouvrir l’histoire naturelle et récurrente de ces mouvements de population qui font et continueront de faire la France. \nPublic : À partir de 14 ans \nObjets trouvés\nESPACE BILLETTERIE \nIl suffit parfois de faire un petit pas de côté pour s’apercevoir que juste à côté de soi\, des voisins proches\, des amis ou même des inconnus sont eux-mêmes\, ce qu’on qualifie souvent de manière péjorative : des migrants. \nObjets perdus\nESPACE BULLY-BRIAS \nL’objet de mémoire\, dans le cadre du projet de Rosella Piccino\, évoque la préfabrication d’un objet en atelier\, à partir du souvenir qu’en a gardé le réfugié. Cet objet\,  réminiscence  d’une  vie antérieure sera modelé puis émaillé afin d’être exposé avec son propriétaire originel sous forme d’un portrait. \n10 photos\, dans un écrin sombre\, juste éclairées d’une source de lumière très intime et baignées dans la douce ritournelle des témoignages sonores des protagonistes\, enregistrés dans leurs langues maternelles. \nBruay n’échappe pas à la règle. C’est ainsi qu’en cherchant à peine\, nous avons trouvé une espa- gnole\, un allemand\, un serbe\, un algérien\, un rwandais\, un anglais\, une japonaise et d’autres encore…tous et toutes venus s’installer dans notre ville pour diverses raisons. \nVoici leurs portraits. \n Entrée libre aux horaires d’ouverture  \n03 59 41 34 00 \n  \n 
URL:https://bruaylabuissiere.fr/event/expositions-immigrations-objets-trouves-objets-perdus/
CATEGORIES:Arts & Culture,Exposition,Festival
ATTACH;FMTTYPE=image/jpeg:https://bruaylabuissiere.fr/wp-content/uploads/2018/09/expos.jpg
END:VEVENT
BEGIN:VEVENT
DTSTART;VALUE=DATE:20181120
DTEND;VALUE=DATE:20181128
DTSTAMP:20260424T070144
CREATED:20180904T144345Z
LAST-MODIFIED:20180904T144345Z
UID:12886-1542754800-1543359599@bruaylabuissiere.fr
SUMMARY:Festival un autre regard : Atelier de conversation
DESCRIPTION:DE BERNHARD BRAUNSTEIN  \nDans la Bibliothèque publique d’information\, au Centre Pompidou à Paris\, des personnes des 4 coins du monde se rencontrent\, dans l’Atelier de conversation pour parler français. Les réfugiés de guerre côtoient les hommes d’affaires\, des étu- diants insouciants…Malgré leurs différences\, ils partagent des objectifs communs : apprendre la langue et trouver des allié(s) et des amis pour pouvoir (sur)vivre à l’étranger. \n Durée 1h14 \n Tarif De 3\,50€ à 6€
URL:https://bruaylabuissiere.fr/event/festival-un-autre-regard-atelier-de-conversation/
LOCATION:Cinéma Les étoiles\, 102 Rue du Périgord\, Bruay-la-Buissière\, 62700
CATEGORIES:Arts & Culture,Cinéma,Festival
ATTACH;FMTTYPE=image/jpeg:https://bruaylabuissiere.fr/wp-content/uploads/2018/09/atelier-de-conversation.jpg
END:VEVENT
BEGIN:VEVENT
DTSTART;TZID=UTC:20181123T190000
DTEND;TZID=UTC:20181123T200000
DTSTAMP:20260424T070144
CREATED:20180904T134658Z
LAST-MODIFIED:20180904T142815Z
UID:12869-1542999600-1543003200@bruaylabuissiere.fr
SUMMARY:Festival un autre regard : Sans laisser de trace
DESCRIPTION:COMPAGNIE LA LANGUE PENDUE \nSi tu veux passer\, il faut savoir courir. Savoir parcourir. Savoir franchir. Savoir construire une échelle ou dissimuler l’échelle. Savoir où se dissimuler soi-même.\nC’est ton lot. On te traque\, te pourchasse comme du gibier.\nPartout\, tu erres comme un spectre\, un fantôme.\nPartout tu passes\, sans laisser de traces…\nRachid Bouali\, bouleversant\, avec la juste distance du comé- dien\, la force du conteur et l’humour aussi\, redonne la voix à ceux qu’on n’entend pas et nous embarque\, nous secoue\, nous réveille. \nCATÉGORIE C : Tarifs : TP : 8€ / TR : 5€ / Tarif Découv’Art : 3€ \nPUBLIC : Tout public dès 13 ans \nDistribution\nRachid Bouali (écriture et interprétation)\nNicolas Ducron et Manu Domergue en alternance (Musique et interprétation) \nLumière\nClaire Lorthioir \nProduction : Cie La Langue Pendue Coproduction : Le Prato (Lille) – La Maison du Conte (Chevilly Larue) – Théâtre André Malraux (Chevilly Larue)- Le Théâtre de l’Aventure (Hem) Soutiens : DRAC Hauts de France / Région Hauts de France / Théâtre l’Oiseau Mouche – Le Garage à Roubaix Crédit Photo : Fabien Debrabandère Visuel Affiche : Sébastien Morel
URL:https://bruaylabuissiere.fr/event/festival-un-autre-regard-sans-laisser-de-trace/
LOCATION:Le Temple\, 125 Rue Henri Hermant\, Bruay-La-Buissière\, 62700
CATEGORIES:Arts & Culture,Festival,Théâtre
ATTACH;FMTTYPE=image/jpeg:https://bruaylabuissiere.fr/wp-content/uploads/2018/09/sans-laisser-de-trace.jpg
END:VEVENT
END:VCALENDAR