BEGIN:VCALENDAR
VERSION:2.0
PRODID:-//Ville de Bruay-La-Buissière - ECPv6.9.1//NONSGML v1.0//EN
CALSCALE:GREGORIAN
METHOD:PUBLISH
X-WR-CALNAME:Ville de Bruay-La-Buissière
X-ORIGINAL-URL:https://bruaylabuissiere.fr
X-WR-CALDESC:Évènements pour Ville de Bruay-La-Buissière
REFRESH-INTERVAL;VALUE=DURATION:PT1H
X-Robots-Tag:noindex
X-PUBLISHED-TTL:PT1H
BEGIN:VTIMEZONE
TZID:UTC
BEGIN:STANDARD
TZOFFSETFROM:+0000
TZOFFSETTO:+0000
TZNAME:UTC
DTSTART:20190101T000000
END:STANDARD
END:VTIMEZONE
BEGIN:VEVENT
DTSTART;TZID=UTC:20190505T150000
DTEND;TZID=UTC:20190522T140000
DTSTAMP:20260423T175449
CREATED:20190415T143141Z
LAST-MODIFIED:20190415T143141Z
UID:15168-1557068400-1558533600@bruaylabuissiere.fr
SUMMARY:Les amateurs de mai
DESCRIPTION:Cliquer ici pour connaître le détail du programme.
URL:https://bruaylabuissiere.fr/event/les-amateurs-de-mai-2/
CATEGORIES:Arts & Culture,Atelier,Festival,Jeunesse,Spectacles & Concerts,Théâtre
ATTACH;FMTTYPE=image/jpeg:https://bruaylabuissiere.fr/wp-content/uploads/2019/04/AMATEURS-de-mai-2019.jpg
END:VEVENT
END:VCALENDAR