BEGIN:VCALENDAR
VERSION:2.0
PRODID:-//Ville de Bruay-La-Buissière - ECPv6.9.1//NONSGML v1.0//EN
CALSCALE:GREGORIAN
METHOD:PUBLISH
X-WR-CALNAME:Ville de Bruay-La-Buissière
X-ORIGINAL-URL:https://bruaylabuissiere.fr
X-WR-CALDESC:Évènements pour Ville de Bruay-La-Buissière
REFRESH-INTERVAL;VALUE=DURATION:PT1H
X-Robots-Tag:noindex
X-PUBLISHED-TTL:PT1H
BEGIN:VTIMEZONE
TZID:UTC
BEGIN:STANDARD
TZOFFSETFROM:+0000
TZOFFSETTO:+0000
TZNAME:UTC
DTSTART:20190101T000000
END:STANDARD
END:VTIMEZONE
BEGIN:VEVENT
DTSTART;TZID=UTC:20191116T070000
DTEND;TZID=UTC:20191129T160000
DTSTAMP:20260423T071539
CREATED:20190729T092435Z
LAST-MODIFIED:20190802T104103Z
UID:16728-1573887600-1575043200@bruaylabuissiere.fr
SUMMARY:Pour une poignée de degrés – Festival Un Autre Regard
DESCRIPTION:Une exposition photographique « engagée »\, évolutive et participative sur le défi climatique. L’exposition nous fait découvrir de manière directe ou indirecte\, non seulement des œuvres d’artistes\, mais en plus\, elle initie le public à la lecture des images. C’est un outil pédagogique ludique pour les enseignants. Accessible dès le plus jeune âge grâce aux « photographies-magnets manipulables ». \nEditée par Light Motiv. Boulogne – 2015 \n« S’il nous fallait un état d’urgence pour nous secouer\, pour mobiliser ce qu’il y a de meilleur en nous\, voilà\, nous y sommes ». \nAmin Maalouf\, Le Dérèglement du monde
URL:https://bruaylabuissiere.fr/event/pour-une-poignee-de-degres/
LOCATION:Espace Bully-Brias\, Place Bodelot\, Bruay-La-Buissière\, 62700\, France
CATEGORIES:Arts & Culture,Exposition,Festival
ATTACH;FMTTYPE=image/jpeg:https://bruaylabuissiere.fr/wp-content/uploads/2019/07/Pour-une-poignée-de-degrés.jpg
END:VEVENT
BEGIN:VEVENT
DTSTART;VALUE=DATE:20191119
DTEND;VALUE=DATE:20191130
DTSTAMP:20260423T071539
CREATED:20190724T154238Z
LAST-MODIFIED:20190724T155535Z
UID:16707-1574204400-1575068399@bruaylabuissiere.fr
SUMMARY:Filles de Mai – Voix de femmes de 1968 au féminisme - Festival Un Autre Regard
DESCRIPTION:Film documentaire de J. Amat – 2019 – Ciné-Théâtre\, scolaire et tout-public\nDepuis 50 ans\, l’histoire de Mai 68 est racontée presque exclusivement par des hommes.\nComme si les femmes n’avaient pas leur place dans cette histoire. Pourtant… \nSéances et horaires habituels \nDurée : 1h30 \nTarifs : 5€ / Tarif Ciné-théâtre : 6€ avec la pièce « Demandons l’impossible »
URL:https://bruaylabuissiere.fr/event/filles-de-mai-voix-de-femmes-de-1968-au-feminisme-festival-un-autre-regard/
LOCATION:Cinéma Les étoiles\, 102 Rue du Périgord\, Bruay-la-Buissière\, 62700
CATEGORIES:Arts & Culture,Cinéma,Festival
ATTACH;FMTTYPE=image/jpeg:https://bruaylabuissiere.fr/wp-content/uploads/2019/07/Filles-de-mai-2.jpg
END:VEVENT
BEGIN:VEVENT
DTSTART;TZID=UTC:20191129T190000
DTEND;TZID=UTC:20191129T210000
DTSTAMP:20260423T071539
CREATED:20190729T115516Z
LAST-MODIFIED:20190729T115651Z
UID:16737-1575054000-1575061200@bruaylabuissiere.fr
SUMMARY:Pride - Clôture Festival Un Autre Regard
DESCRIPTION:Film anglais de Matthew Warchus sortie en septembre 2014. \nEté 1984. Alors que Margaret Thatcher est au pouvoir\, le Syndicat National des Mineurs vote la grève. Contre toute attente\, un groupe d’activistes gays et lesbiens\, lors de leur marche des fiertés de Londres\, décide de récolter de l’argent pour venir en aide aux familles des mineurs. \nPourtant l’Union Nationale des Mineurs semble embarrassée de recevoir leur aide\, mais le groupe d’activistes ne se décourage pas. Après avoir repéré un village minier au fin fond du pays de Galles\, ils embarquent à bord d’un minibus pour aller remettre l’argent aux ouvriers\, en mains propres. Ainsi débute l’histoire extraordinaire de deux communautés que tout oppose\, qui s’unissent pour défendre la même cause. \n\n\n\n\nTout public \n2h \nComédie dramatique \nHors abonnement \n5€ (collation comprise)
URL:https://bruaylabuissiere.fr/event/pride-cloture-festival-un-autre-regard/
LOCATION:Cinéma Les étoiles\, 102 Rue du Périgord\, Bruay-la-Buissière\, 62700
CATEGORIES:Arts & Culture,Cinéma,Festival
ATTACH;FMTTYPE=image/jpeg:https://bruaylabuissiere.fr/wp-content/uploads/2019/07/Pride.jpg
END:VEVENT
END:VCALENDAR