BEGIN:VCALENDAR
VERSION:2.0
PRODID:-//Ville de Bruay-La-Buissière - ECPv6.9.1//NONSGML v1.0//EN
CALSCALE:GREGORIAN
METHOD:PUBLISH
X-ORIGINAL-URL:https://bruaylabuissiere.fr
X-WR-CALDESC:Évènements pour Ville de Bruay-La-Buissière
REFRESH-INTERVAL;VALUE=DURATION:PT1H
X-Robots-Tag:noindex
X-PUBLISHED-TTL:PT1H
BEGIN:VTIMEZONE
TZID:UTC
BEGIN:STANDARD
TZOFFSETFROM:+0000
TZOFFSETTO:+0000
TZNAME:UTC
DTSTART:20210101T000000
END:STANDARD
END:VTIMEZONE
BEGIN:VEVENT
DTSTART;VALUE=DATE:20210601
DTEND;VALUE=DATE:20210706
DTSTAMP:20260423T111604
CREATED:20210517T174317Z
LAST-MODIFIED:20210517T175017Z
UID:21604-1622584800-1625522399@bruaylabuissiere.fr
SUMMARY:Les petits bonheurs
DESCRIPTION:Ce festival est organisé avec l’idée majeure de prouver que les personnes en situation de handicap\, ou en perte d’autonomie\, peuvent apporter des moments de bonheur à tous\, notamment à travers la création de gestes artistiques et d’œuvres.\nLes petits bonheurs c’est du street-art mais aussi du cirque\, de la danse\, de la musique.
URL:https://bruaylabuissiere.fr/event/les-petits-bonheurs-2/
LOCATION:Bruay La Buissière
CATEGORIES:Arts & Culture,Exposition,Festival,Intergénérationnel
ATTACH;FMTTYPE=image/jpeg:https://bruaylabuissiere.fr/wp-content/uploads/2021/05/petits-bonheurs-2021.jpg
END:VEVENT
BEGIN:VEVENT
DTSTART;TZID=UTC:20210620T060000
DTEND;TZID=UTC:20210627T160000
DTSTAMP:20260423T111604
CREATED:20210503T161601Z
LAST-MODIFIED:20210503T162520Z
UID:21525-1624168800-1624809600@bruaylabuissiere.fr
SUMMARY:Élections départementales et régionales
DESCRIPTION:Initialement prévues en mars 2021\, les élections régionales et départementales ont été reportées aux 20 et 27 juin prochains. La décision a été prise par le gouvernement en raison de la crise sanitaire liée au COVID-19. La plus grande prudence sera de mise pour ces deux scrutins dans les 18 bureaux de vote. Chaque votant sera invité à suivre scrupuleusement les règles de protection qui s’imposent. \nLes électeurs sont appelés aux urnes pour désigner leurs conseillers départementaux et conseillers régionaux\, autrement dit leurs représentants aux assemblées délibérantes du Département et de la Région Hauts-de-France. Le scrutin combine les règles de la proportionnelle à deux tours et de la majorité. \nUn second tour est organisé sans majorité absolue. Un seul bulletin est accepté par enveloppe\, sans adjonction ni suppression de noms et sans modification de l’ordre de présentation. Chaque électeur devra glisser deux  bulletins dans deux urnes différentes.\nLes résultats seront affichés et annoncés devant l’ex chapelle sainte-Barbe à partir de 20h. \nPour voter\, votre carte d’électeur n’est pas obligatoire\, il suffit de justifier de votre identité sur présentation de votre carte d’identité\, passeport\, carte vitale avec photographie…. \nSi vous êtes dans l’incapacité de participer au scrutin\, vous pouvez vous faire représenter par la personne de votre choix\, à condition qu’elle soit également inscrite sur les listes électorales de Bruay-La-Buissière. La démarche se fait dans un commissariat ou une gendarmerie\, au tribunal d’instance de son domicile ou de son lieu de travail.\nNouveauté pour ce scrutin\, l’électeur pourra donner procuration numérique depuis son smartphone ou son ordinateur. Attention\, le jour du scrutin le mandataire ne doit pas détenir plus de deux procurations. Les démarches doivent être effectuées le plus tôt possible pour tenir compte des délais d’acheminement et de traitement de la procuration sur www.service-public.fr. \nUne navette pour se rendre dans un bureau de vote est mise gracieusement à la disposition de toutes les  personnes à mobilité réduite et non véhiculées.\nPour en bénéficier\, il convient de contacter le service “élections” du lundi 14 au vendredi 18 juin pour le 1er tour de scrutin et du lundi 21 au vendredi 25 juin pour le second tour.\nPour prendre rendez-vous : 03 21 64 56 00
URL:https://bruaylabuissiere.fr/event/elections-departementales-et-regionales/
CATEGORIES:Intergénérationnel,Séniors
ATTACH;FMTTYPE=image/jpeg:https://bruaylabuissiere.fr/wp-content/uploads/2021/05/INSCRIPTIONS-FB.jpg
END:VEVENT
BEGIN:VEVENT
DTSTART;TZID=UTC:20210621T070000
DTEND;TZID=UTC:20210621T160000
DTSTAMP:20260423T111604
CREATED:20210517T180514Z
LAST-MODIFIED:20210528T120946Z
UID:21609-1624258800-1624291200@bruaylabuissiere.fr
SUMMARY:Escape game
DESCRIPTION:Thème : escape game généraliste et sur les transports. \nDe 9h à 12h et de 14h à 18h\nRue Raoul Briquet\, à proximité du Pôle Emploi
URL:https://bruaylabuissiere.fr/event/escape-game/
LOCATION:Espace Bully-Brias\, Place Bodelot\, Bruay-La-Buissière\, 62700\, France
CATEGORIES:Intergénérationnel,Jeunesse
ATTACH;FMTTYPE=image/jpeg:https://bruaylabuissiere.fr/wp-content/uploads/2021/05/image007.jpg
END:VEVENT
END:VCALENDAR