BEGIN:VCALENDAR
VERSION:2.0
PRODID:-//Ville de Bruay-La-Buissière - ECPv6.9.1//NONSGML v1.0//EN
CALSCALE:GREGORIAN
METHOD:PUBLISH
X-ORIGINAL-URL:https://bruaylabuissiere.fr
X-WR-CALDESC:Évènements pour Ville de Bruay-La-Buissière
REFRESH-INTERVAL;VALUE=DURATION:PT1H
X-Robots-Tag:noindex
X-PUBLISHED-TTL:PT1H
BEGIN:VTIMEZONE
TZID:UTC
BEGIN:STANDARD
TZOFFSETFROM:+0000
TZOFFSETTO:+0000
TZNAME:UTC
DTSTART:20220101T000000
END:STANDARD
END:VTIMEZONE
BEGIN:VEVENT
DTSTART;TZID=UTC:20220223T093000
DTEND;TZID=UTC:20220223T150000
DTSTAMP:20260422T185249
CREATED:20210923T111540Z
LAST-MODIFIED:20211217T101246Z
UID:22491-1645608600-1645628400@bruaylabuissiere.fr
SUMMARY:Atelier « terre noire »
DESCRIPTION:Dans le cadre du Festival « Les Rototos » \n\n\n\n\nQuand le lapin sort de sa laitue\, c’est un monde haut en couleurs (et en saveurs) qui s’ouvre à lui.\nTomate ROUGE\, haricots VERTS\, citron JAUNE… Un atelier spécialement conçu pour les tout- petits pour partir à la découverte du jardin et de la terre NOIRE ! \n2 séances : 10h30 et 16h00 \nDe 2 à 5 ans\nDurée : 1h\nTarif : 3€ / enfant\nRéservations au 03 21 01 94 20 \n\n\n\n\nJauge : 10 enfants (1 accompagnateur max / enfant)
URL:https://bruaylabuissiere.fr/event/atelier-terre-noire-2/
LOCATION:Cité des Électriciens\, Rue Franklin\, Bruay-La-Buissière\, 62700
CATEGORIES:Arts & Culture,Enfance,Intergénérationnel,Les rototos - Dès 2 ans
ATTACH;FMTTYPE=image/jpeg:https://bruaylabuissiere.fr/wp-content/uploads/2021/09/terre-noire.jpg
END:VEVENT
BEGIN:VEVENT
DTSTART;TZID=UTC:20220225T170000
DTEND;TZID=UTC:20220225T170000
DTSTAMP:20260422T185249
CREATED:20220216T140707Z
LAST-MODIFIED:20220216T140707Z
UID:23758-1645808400-1645808400@bruaylabuissiere.fr
SUMMARY:Les loups-garous de Thercelieux
DESCRIPTION:Venez jouer à l’incontournable jeu du « loup-garou » chez Coesette\, face à la Médiathèque
URL:https://bruaylabuissiere.fr/event/les-loups-garous-de-thercelieux/
CATEGORIES:Arts & Culture,Intergénérationnel,Jeunesse
ATTACH;FMTTYPE=image/jpeg:https://bruaylabuissiere.fr/wp-content/uploads/2022/02/2022-médiathèque-LOUP-GAROU.jpg
END:VEVENT
BEGIN:VEVENT
DTSTART;VALUE=DATE:20220228
DTEND;VALUE=DATE:20220401
DTSTAMP:20260422T185249
CREATED:20220309T160148Z
LAST-MODIFIED:20220309T160148Z
UID:23923-1646089200-1648763999@bruaylabuissiere.fr
SUMMARY:Planning balayeuse mars 2022
DESCRIPTION:
URL:https://bruaylabuissiere.fr/event/planning-balayeuse-mars-2022/
CATEGORIES:Intergénérationnel
ATTACH;FMTTYPE=image/jpeg:https://bruaylabuissiere.fr/wp-content/uploads/2022/03/Balayeuse.jpg
END:VEVENT
END:VCALENDAR