BEGIN:VCALENDAR
VERSION:2.0
PRODID:-//Ville de Bruay-La-Buissière - ECPv6.9.1//NONSGML v1.0//EN
CALSCALE:GREGORIAN
METHOD:PUBLISH
X-ORIGINAL-URL:https://bruaylabuissiere.fr
X-WR-CALDESC:Évènements pour Ville de Bruay-La-Buissière
REFRESH-INTERVAL;VALUE=DURATION:PT1H
X-Robots-Tag:noindex
X-PUBLISHED-TTL:PT1H
BEGIN:VTIMEZONE
TZID:UTC
BEGIN:STANDARD
TZOFFSETFROM:+0000
TZOFFSETTO:+0000
TZNAME:UTC
DTSTART:20210101T000000
END:STANDARD
END:VTIMEZONE
BEGIN:VEVENT
DTSTART;TZID=UTC:20210713T210000
DTEND;TZID=UTC:20210713T210000
DTSTAMP:20260423T111911
CREATED:20210628T192528Z
LAST-MODIFIED:20210628T192528Z
UID:21823-1626210000-1626210000@bruaylabuissiere.fr
SUMMARY:Feu d'artifice
DESCRIPTION:
URL:https://bruaylabuissiere.fr/event/feu-dartifice-2/
LOCATION:Donjon de Labuissière\, Allée du château\, Bruay-La-Buissière\, 62700
CATEGORIES:Intergénérationnel
ATTACH;FMTTYPE=image/jpeg:https://bruaylabuissiere.fr/wp-content/uploads/2021/06/Feu-dartifice.jpg
END:VEVENT
END:VCALENDAR