BEGIN:VCALENDAR
VERSION:2.0
PRODID:-//Ville de Bruay-La-Buissière - ECPv6.9.1//NONSGML v1.0//EN
CALSCALE:GREGORIAN
METHOD:PUBLISH
X-WR-CALNAME:Ville de Bruay-La-Buissière
X-ORIGINAL-URL:https://bruaylabuissiere.fr
X-WR-CALDESC:Évènements pour Ville de Bruay-La-Buissière
REFRESH-INTERVAL;VALUE=DURATION:PT1H
X-Robots-Tag:noindex
X-PUBLISHED-TTL:PT1H
BEGIN:VTIMEZONE
TZID:UTC
BEGIN:STANDARD
TZOFFSETFROM:+0000
TZOFFSETTO:+0000
TZNAME:UTC
DTSTART:20190101T000000
END:STANDARD
END:VTIMEZONE
BEGIN:VEVENT
DTSTART;TZID=UTC:20190905T120000
DTEND;TZID=UTC:20191003T150000
DTSTAMP:20260426T005005
CREATED:20190719T082505Z
LAST-MODIFIED:20190719T083241Z
UID:16593-1567684800-1570114800@bruaylabuissiere.fr
SUMMARY:Alternative : programme de septembre à octobre
DESCRIPTION:L’association Alternative propose aux séniors\, aux personnes isolées\, aux personnes âgées\,  d’être accompagnés pour des activités\, des loisirs\, des sorties afin de créer du lien social. \nJeudi 5 septembre :\nRéunion mensuelle avec anniversaire et animation\, salle Georges Hurtrel à partir de 14h \nMardi 10 septembre :\nSortie au « Village de St Joseph »\nRéponse avant le 15 aôut. \n Ciné Goûter SENIOR :\nTéléphoner à Martine Micoud au 09 73 13 14 70  \nJeudi 3 octobre :\nRéunion mensuelle avec loto\, salle Georges Hurtrel à partir de 14h \n       
URL:https://bruaylabuissiere.fr/event/alternative-programme-de-septembre-a-octobre/
CATEGORIES:Asso,Echanges/rencontres,Enfance,Jeunesse,Séniors
ATTACH;FMTTYPE=image/jpeg:https://bruaylabuissiere.fr/wp-content/uploads/2019/07/Alternative-logo.jpg
ORGANIZER;CN="Alternative":MAILTO:alternativelabuissiere@orange.fr
END:VEVENT
BEGIN:VEVENT
DTSTART;TZID=UTC:20191004T080000
DTEND;TZID=UTC:20191018T190000
DTSTAMP:20260426T005005
CREATED:20190715T162532Z
LAST-MODIFIED:20190716T153035Z
UID:16491-1570176000-1571425200@bruaylabuissiere.fr
SUMMARY:L'A.B.C en 40 ans
DESCRIPTION:L’Association Bruaysienne pour la Culture fête : \n40 années de théâtre\, de musique\, d’expositions\, de sorties\, de projets et de fêtes\n40 années d’engagement associatif à travers ses membres actuels mais aussi tous ceux qui les ont précédés\n40 années de collaboration intelligente et amicale avec le Pôle Culturel de la Ville\n40 ans de partage avec le public\, d’amitié avec ses membres et de soutien aux autres associations et habitants\n40 années d’activités culturelles mises à l’honneur en octobre \nExposition / Peintures de Jean Morel\, ancien Président de l’A.B.C et Adjoint à la Culture.\nEspace Bully-Brias\, du 4 au 10 octobre (Inauguration le samedi 5 octobre à 18h30) \nExposition / « Jean-Pierre Marszalek »\nMarché Fret – Du 4 au 10 octobre (Inauguration le samedi 5 octobre à 18h30)\nCet artiste plasticien-peintre bruaysien habillera le marché Fret de la gare\, avec ses œuvres \nThéâtre / « Huit Femmes ou presque »\nEspace Culturel Grossemy – Samedi 12 octobre à 20h en séance tout-public\nUne comédie policière par la nouvelle compagnie Les Durs à Queer de Bruay-La-Buissière \nCiné-Rétro / « l’A.B.C en 40 ans »\nCinéma Les Étoiles – Mardi 15 octobre à 20h\nFilm documentaire réalisé par le vidéaste Boris Kolota sur l’histoire de l’A.B.C \nBal Kubiak\nSalle Léo Lagrange – Vendredi 18 octobre à 19h30\nUne soirée festive\, dansante et folle pour clôturer dans la bonne humeur cette quinzaine consacrée aux 40 ans de l’A.B.C \n\n\n\n  \n\nPour info : \n\n\n\n\nLa carte A.B.C est une carte strictement individuelle au prix annuel de 6€. Elle permet l’obtention de tarifs privilégiés sur toute la programmation de la Ville et des activités de l’association \nCette année la carte servira d’invitation gratuite pour assister à la création\n« Huit femmes ou presque » le 11 octobre à 20h à l’Espace Culturel Grossemy
URL:https://bruaylabuissiere.fr/event/la-b-c-en-40-ans/
CATEGORIES:Arts & Culture,Cabaret,Cinéma,Exposition,Jeunesse,Séniors,Théâtre
ATTACH;FMTTYPE=image/jpeg:https://bruaylabuissiere.fr/wp-content/uploads/2019/07/40-ans-ABC.jpg
END:VEVENT
BEGIN:VEVENT
DTSTART;TZID=UTC:20191006T080000
DTEND;TZID=UTC:20191006T080000
DTSTAMP:20260426T005005
CREATED:20190604T105855Z
LAST-MODIFIED:20190604T105946Z
UID:15918-1570348800-1570348800@bruaylabuissiere.fr
SUMMARY:Foulées solidaires
DESCRIPTION:
URL:https://bruaylabuissiere.fr/event/foulees-solidaires/
LOCATION:Parc de la Lawe\, Rue de la république\, Bruay-la-Buissière\, 62700
CATEGORIES:Jeunesse,Séniors,sports
ATTACH;FMTTYPE=image/jpeg:https://bruaylabuissiere.fr/wp-content/uploads/2019/06/A3_foulées-solidaire-LAB-2019.jpg
END:VEVENT
BEGIN:VEVENT
DTSTART;TZID=UTC:20191007T150000
DTEND;TZID=UTC:20191029T160000
DTSTAMP:20260426T005005
CREATED:20190715T173131Z
LAST-MODIFIED:20190716T153856Z
UID:16495-1570460400-1572364800@bruaylabuissiere.fr
SUMMARY:100 ans de polonité dans le bassin minier
DESCRIPTION:Théâtre / « Stanis le Polak »\nDimanche 7 octobre – 17h\nLe Temple / Tout-public / Partenariat Culture-Seniors \nFilm / « L’Homme du peuple »\nMardi 8 octobre – 20h – Film d’Andrzej Wajda\nCinéma Les Etoiles / Durée : 2h08 \nConférence / « L’appel de la main d’œuvre polonaise en 1919 » de Jacques Kmieciak\nJeudi 10 octobre – 18h30\nCinéma Les Etoiles \nCiné-théâtre / « Le Congrès »\nVendredi 11 octobre – 20h – Film de A. Folm\, inspiré de l’œuvre de Stanislas Lem\, auteur polonais de science- fiction\nCinéma Les Étoiles / Durée : 2h03 \nExposition / « La petite Princesse Polonaise »\nDu 12 au 26 octobre – Planches illustrées tirées de l’ouvrage d’Anne-Marie Wisniewski (auteure) et de Joanna Swiatek (illustratrice) aux éditions Nord-Avril\nMédiathèque Marcel Wacheux \nVernissage le 12 octobre – 18h30\nsuivi du concert de « Jas & Kat » (Kasia Rózycka et Jason Roszak – 20 et 24 ans) dont plusieurs titres en polonais \n« Journée Polonaise »\nDimanche 13 octobre – Bruay-La-Buissière Initiative\nArtisanat et spectacle folklorique KALINA\nSalle Marmottan / Dès 13h30 / Tarif : 6€ \nCiné-goûter / « Minopolska »\nMercredi 16 octobre – 14h30 (+ scolaires du 16 au 18) Cinq courts-métrages d’animation polonaise\nCinéma Les Étoiles / Dès 3 ans / Durée : 45 mn \n« Bal Kubiak »\nVendredi 18 octobre – Clôture des 40 ans de l’Association Bruaysienne pour la Culture \nConte / « Le dragon de Cracovie et autres contes polonais »\nMercredi 23 et mercredi 29 octobre – Conte musical tout public à partir de 6 ans par la compagnie SlaviCarib\nMédiathèque Marcel Wacheux
URL:https://bruaylabuissiere.fr/event/100-ans-de-polonite-dans-le-bassin-minier/
CATEGORIES:Arts & Culture,Asso,Cabaret,Ciné-théâtre,Conférence,Danse,Echanges/rencontres,Enfance,Exposition,Jeunesse,Séniors,Théâtre
ATTACH;FMTTYPE=image/jpeg:https://bruaylabuissiere.fr/wp-content/uploads/2019/07/fille-polonaise.jpg
END:VEVENT
BEGIN:VEVENT
DTSTART;TZID=UTC:20191013T033000
DTEND;TZID=UTC:20191013T200000
DTSTAMP:20260426T005005
CREATED:20190412T115700Z
LAST-MODIFIED:20190412T115700Z
UID:15157-1570937400-1570996800@bruaylabuissiere.fr
SUMMARY:Voyage à Paris
DESCRIPTION:
URL:https://bruaylabuissiere.fr/event/voyage-a-paris-2/
CATEGORIES:Asso,Jeunesse,Séniors,sports
ATTACH;FMTTYPE=image/jpeg:https://bruaylabuissiere.fr/wp-content/uploads/2019/04/Paris-les-chamois-père-lachaise.jpg
END:VEVENT
BEGIN:VEVENT
DTSTART;TZID=UTC:20191013T060000
DTEND;TZID=UTC:20191013T160000
DTSTAMP:20260426T005005
CREATED:20190805T150051Z
LAST-MODIFIED:20191011T100253Z
UID:16823-1570946400-1570982400@bruaylabuissiere.fr
SUMMARY:Ne manquez pas la Braderie d'automne en centre-ville
DESCRIPTION:Cliquez ici pour télécharger le bulletin d’inscription.
URL:https://bruaylabuissiere.fr/event/ne-manquez-pas-la-braderie-dautomne-en-centre-ville/
CATEGORIES:Asso,Commerce,Echanges/rencontres,Intergénérationnel,Jeunesse,Séniors
ATTACH;FMTTYPE=image/jpeg:https://bruaylabuissiere.fr/wp-content/uploads/2019/08/braderie.jpg
ORGANIZER;CN="OFCAS":MAILTO:ofcas.lesvitrinesdebruay@gmail.com
END:VEVENT
BEGIN:VEVENT
DTSTART;TZID=UTC:20191013T113000
DTEND;TZID=UTC:20191013T150000
DTSTAMP:20260426T005005
CREATED:20190701T114202Z
LAST-MODIFIED:20190701T114548Z
UID:16100-1570966200-1570978800@bruaylabuissiere.fr
SUMMARY:Spectacle Kalina
DESCRIPTION:À l’occasion du 100e anniversaire de l’arrivée des polonais en France. \n5 artisans polonais seront présents sur place pour vous faire déguster les saveurs de la Pologne.
URL:https://bruaylabuissiere.fr/event/spectacle-kalina/
LOCATION:Salle Marmottan\, Place Marmottan\, Bruay-la-buissière\, 62700
CATEGORIES:Asso,Chanson du monde,Jeunesse,Séniors,Spectacles & Concerts
ATTACH;FMTTYPE=image/jpeg:https://bruaylabuissiere.fr/wp-content/uploads/2019/07/Affiche-Kalina.jpg
ORGANIZER;CN="Bruay-La-Buissi%C3%A8re initiative":MAILTO:blbi@sfr.fr
END:VEVENT
BEGIN:VEVENT
DTSTART;TZID=UTC:20191016T123000
DTEND;TZID=UTC:20191016T143000
DTSTAMP:20260426T005005
CREATED:20191014T092444Z
LAST-MODIFIED:20191014T092521Z
UID:17508-1571229000-1571236200@bruaylabuissiere.fr
SUMMARY:Ciné-goûter "Minopolska"
DESCRIPTION:Ciné-goûter pour les enfants à partir de 3 ans. Réservations 03 21 01 75 25
URL:https://bruaylabuissiere.fr/event/cine-gouter-minopolska/
LOCATION:Cinéma Les étoiles\, 102 Rue du Périgord\, Bruay-la-Buissière\, 62700
CATEGORIES:Arts & Culture,Cinéma,Jeunesse
ATTACH;FMTTYPE=image/jpeg:https://bruaylabuissiere.fr/wp-content/uploads/2019/10/Ciné.jpg
END:VEVENT
BEGIN:VEVENT
DTSTART;TZID=UTC:20191019T090000
DTEND;TZID=UTC:20191214T160000
DTSTAMP:20260426T005005
CREATED:20191017T153940Z
LAST-MODIFIED:20191017T153940Z
UID:17550-1571475600-1576339200@bruaylabuissiere.fr
SUMMARY:FABrique ton concert !
DESCRIPTION:Stage gratuit et créatif mêlant musique et bonne humeur. \nAvec l’aide de 3 experts musicaux expérimentés et artistes du Bruaysis\, vous allez fabriquer ce spectacle de A à Z ! \n* ALEX \, guitariste\, 50 ans d’expérience\n* TOM \, bassiste\, 27 ans d’expérience\n* Yohan\, jeune percussionniste\, aussi connu sous le pseudo d’artiste humoriste de YOYO le Déglingo (communiquer avec ce pseudo) \nOÙ…\nÀ l’espace qui portera le nom de « MusicLab » (ex discothèque/espace musique située face à Moreau Music). L’entrée sera fera via la porte principale de la médiathèque (face au cinéma les Étoiles). \nDESTINÉ À…\nTous les musiciens amateurs (guitaristes\, bassistes et percussionnistes – batteurs\, djembéistes\, cajonistes…) de tous âges et qui possèdent déjà leur instrument et le pratiquent.\nLes musiciens amateurs devront être présents à tous les ateliers hebdomadaires prévus. \nPRÉSENTATION…\nLors des ateliers hebdomadaires qui se dérouleront en novembre et décembre 2019\, place à la créativité pour les musiciens amateurs du Bruaysis qui sont invité(e)s à fabriquer un spectacle à la médiathèque !\nEntourés de 3 experts dans leur instrument qui les accompagneront à la création\, les musiciens amateurs auront 5 à 8 séances pour fabriquer ce spectacle dont tout est à imaginer et qui se tiendra le samedi 14 décembre 2019 après-midi ! Ce spectacle pourra bien entendu avoir la forme d’un concert\, présentant des reprises de titres connus\, des morceaux instrumentaux\, ou même des sketchs humoristiques\, grâce à la présence de Yoyo.\nPlacé sous le signe de la bonne humeur\, la création de ce spectacle-concert verra chaque musicien acteur du projet\, accompagné par les 3 musiciens « experts »\, tous entourés par l’équipe de l’Espace musique de la médiathèque. \nQUAND…\n* Une première rencontre est prévue à la médiathèque le samedi 19 octobre 2019 à 11 heures\, à l’espace « MusicLab » (entrée via cet espace\, face à Moreau music).\nLes musiciens amateurs et la presse sont invités à rencontrer Alex\, Tom et Yoyo ce jour-là.\n* Inscription au stage entre les 19 octobre et 5 novembre 2019.\n* Les horaires des ateliers seront définis grâce à la prise de renseignements des participants qui recevront par email le planning les concernant.\n* Les ateliers auront lieu le samedi matin/après-midi (éventuellement le mercredi) entre le 6 novembre et le 14 décembre 2019.\n* Restitution du stage « Fabrique Ton Concert ! » le samedi 14 décembre à 15 heures.\n« FABrique Ton Concert ! » – Stage créatif les samedis du 6 novembre au 14 décembre 2019 (présence indispensable lors des 5 à 8 ateliers définis à la suite de la réunion de présentation). \nRenseignements et inscriptions au 03 21 61 81 95. Gratuit.\nOrganisé par l’Espace musique de la médiathèque de la Ville de Bruay-la-Buissière\n \nTel un Fab Lab musical\, le « MusicLab » de la médiathèque municipale Marcel-Wacheux favorisera à terme les rencontres entre musiciens\, la découverte et la création musicale\, grâce notamment à la présence de divers instruments… \n 
URL:https://bruaylabuissiere.fr/event/fabrique-ton-concert/
LOCATION:Médiathèque Marcel Wacheux\, 82 rue du Périgord\, Bruay-La-Buissière\, 62700
CATEGORIES:Arts & Culture,Atelier,Concert,Echanges/rencontres,Humour,Jeunesse,Séniors,Spectacles & Concerts
ATTACH;FMTTYPE=image/jpeg:https://bruaylabuissiere.fr/wp-content/uploads/2019/10/A3-FABrique-ton-concert.jpg
END:VEVENT
BEGIN:VEVENT
DTSTART;TZID=UTC:20191023T120000
DTEND;TZID=UTC:20191023T150000
DTSTAMP:20260426T005005
CREATED:20191018T112254Z
LAST-MODIFIED:20191018T112254Z
UID:17558-1571832000-1571842800@bruaylabuissiere.fr
SUMMARY:Journée internationale des Droits de l'enfant
DESCRIPTION:
URL:https://bruaylabuissiere.fr/event/journee-internationale-des-droits-de-lenfant/
LOCATION:Espace Jean Morel\, place Guynemer / rue du Pégoud\, Bruay-La-Buissière\, 62700\, France
CATEGORIES:Asso,Enfance,Jeunesse
ATTACH;FMTTYPE=image/jpeg:https://bruaylabuissiere.fr/wp-content/uploads/2019/10/Affiche-Droits-de-lEnfant.jpg
ORGANIZER;CN="L'Office de la jeunesse":MAILTO:contact@officedelajeunesse.fr
END:VEVENT
BEGIN:VEVENT
DTSTART;TZID=UTC:20191031T190000
DTEND;TZID=UTC:20191031T213000
DTSTAMP:20260426T005005
CREATED:20191018T112627Z
LAST-MODIFIED:20191018T112627Z
UID:17562-1572548400-1572557400@bruaylabuissiere.fr
SUMMARY:Chemin de la peur
DESCRIPTION:
URL:https://bruaylabuissiere.fr/event/chemin-de-la-peur-2/
LOCATION:Le bois des Dames\, 62700 Bruay-la-Buissière
CATEGORIES:Asso,Enfance,Jeunesse
ATTACH;FMTTYPE=image/jpeg:https://bruaylabuissiere.fr/wp-content/uploads/2019/10/Chemin-de-la-Peur-OJ.jpg
ORGANIZER;CN="L'Office de la jeunesse":MAILTO:contact@officedelajeunesse.fr
END:VEVENT
END:VCALENDAR